BEGIN:VCALENDAR
VERSION:2.0
PRODID:-//QuickScores.com//BQ Dynamic iCal Creator//EN
METHOD:PUBLISH
X-WR-CALNAME:JV squad - 25 Tuesday Men&#039;s League - Summer 2025
X-WR-CALDESC:QuickScores game calendar
X-PUBLISHED-TTL:PT24H
REFRESH-INTERVAL;VALUE=DURATION:PT24H
CALSCALE:GREGORIAN
BEGIN:VTIMEZONE
TZID:America/Denver
X-LIC-LOCATION:America/Denver
BEGIN:DAYLIGHT
TZNAME:MDT
TZOFFSETFROM:-0700
TZOFFSETTO:-0600
DTSTART:19700308T020000
RRULE:FREQ=YEARLY;BYMONTH=3;BYDAY=2SU
END:DAYLIGHT
BEGIN:STANDARD
TZNAME:MST
TZOFFSETFROM:-0600
TZOFFSETTO:-0700
DTSTART:19701101T020000
RRULE:FREQ=YEARLY;BYMONTH=11;BYDAY=1SU
END:STANDARD
END:VTIMEZONE
BEGIN:VEVENT
UID:smithfieldrecreation-69036707-20250513T200000@quickscores.com
DTSTAMP:20260425T182800Z
DTSTART;TZID=America/Denver:20250513T200000
DURATION:PT1H0M0S
SUMMARY:Scared Hitless vs. JV squad
DESCRIPTION:25 Tuesday Men's League - Smithfield Recreation
LOCATION:West Softball Field
CATEGORIES:QuickScores, Softball - Adult Game
TRANSP:OPAQUE
BEGIN:VALARM
TRIGGER:-PT2H
ACTION:DISPLAY
DESCRIPTION:Scared Hitless vs. JV squad
END:VALARM
END:VEVENT
BEGIN:VEVENT
UID:smithfieldrecreation-69036711-20250520T190000@quickscores.com
DTSTAMP:20260425T182800Z
DTSTART;TZID=America/Denver:20250520T190000
DURATION:PT1H0M0S
SUMMARY:JV squad vs. Dingers
DESCRIPTION:25 Tuesday Men's League - Smithfield Recreation
LOCATION:East Softball Field
CATEGORIES:QuickScores, Softball - Adult Game
TRANSP:OPAQUE
BEGIN:VALARM
TRIGGER:-PT2H
ACTION:DISPLAY
DESCRIPTION:JV squad vs. Dingers
END:VALARM
END:VEVENT
BEGIN:VEVENT
UID:smithfieldrecreation-69036714-20250527T190000@quickscores.com
DTSTAMP:20260425T182800Z
DTSTART;TZID=America/Denver:20250527T190000
DURATION:PT1H0M0S
SUMMARY:Skeeters vs. JV squad
DESCRIPTION:25 Tuesday Men's League - Smithfield Recreation
LOCATION:West Softball Field
CATEGORIES:QuickScores, Softball - Adult Game
TRANSP:OPAQUE
BEGIN:VALARM
TRIGGER:-PT2H
ACTION:DISPLAY
DESCRIPTION:Skeeters vs. JV squad
END:VALARM
END:VEVENT
BEGIN:VEVENT
UID:smithfieldrecreation-69036718-20250603T200000@quickscores.com
DTSTAMP:20260425T182800Z
DTSTART;TZID=America/Denver:20250603T200000
DURATION:PT1H0M0S
SUMMARY:JV squad vs. Schreiber Foods
DESCRIPTION:25 Tuesday Men's League - Smithfield Recreation
LOCATION:East Softball Field
CATEGORIES:QuickScores, Softball - Adult Game
TRANSP:OPAQUE
BEGIN:VALARM
TRIGGER:-PT2H
ACTION:DISPLAY
DESCRIPTION:JV squad vs. Schreiber Foods
END:VALARM
END:VEVENT
BEGIN:VEVENT
UID:smithfieldrecreation-69036721-20250610T190000@quickscores.com
DTSTAMP:20260425T182800Z
DTSTART;TZID=America/Denver:20250610T190000
DURATION:PT1H0M0S
SUMMARY:JV squad vs. Walruses
DESCRIPTION:25 Tuesday Men's League - Smithfield Recreation
LOCATION:East Softball Field
CATEGORIES:QuickScores, Softball - Adult Game
TRANSP:OPAQUE
BEGIN:VALARM
TRIGGER:-PT2H
ACTION:DISPLAY
DESCRIPTION:JV squad vs. Walruses
END:VALARM
END:VEVENT
BEGIN:VEVENT
UID:smithfieldrecreation-69036727-20250617T190000@quickscores.com
DTSTAMP:20260425T182800Z
DTSTART;TZID=America/Denver:20250617T190000
DURATION:PT1H0M0S
SUMMARY:Wright Angle vs. JV squad
DESCRIPTION:25 Tuesday Men's League - Smithfield Recreation
LOCATION:East Softball Field
CATEGORIES:QuickScores, Softball - Adult Game
TRANSP:OPAQUE
BEGIN:VALARM
TRIGGER:-PT2H
ACTION:DISPLAY
DESCRIPTION:Wright Angle vs. JV squad
END:VALARM
END:VEVENT
BEGIN:VEVENT
UID:smithfieldrecreation-69036731-20250617T200000@quickscores.com
DTSTAMP:20260425T182800Z
DTSTART;TZID=America/Denver:20250617T200000
DURATION:PT1H0M0S
SUMMARY:JV squad vs. Skeeters
DESCRIPTION:25 Tuesday Men's League - Smithfield Recreation
LOCATION:East Softball Field
CATEGORIES:QuickScores, Softball - Adult Game
TRANSP:OPAQUE
BEGIN:VALARM
TRIGGER:-PT2H
ACTION:DISPLAY
DESCRIPTION:JV squad vs. Skeeters
END:VALARM
END:VEVENT
BEGIN:VEVENT
UID:smithfieldrecreation-69036732-20250624T190000@quickscores.com
DTSTAMP:20260425T182800Z
DTSTART;TZID=America/Denver:20250624T190000
DURATION:PT1H0M0S
SUMMARY:Brush Masters vs. JV squad
DESCRIPTION:25 Tuesday Men's League - Smithfield Recreation
LOCATION:West Softball Field
CATEGORIES:QuickScores, Softball - Adult Game
TRANSP:OPAQUE
BEGIN:VALARM
TRIGGER:-PT2H
ACTION:DISPLAY
DESCRIPTION:Brush Masters vs. JV squad
END:VALARM
END:VEVENT
BEGIN:VEVENT
UID:smithfieldrecreation-69036737-20250624T200000@quickscores.com
DTSTAMP:20260425T182800Z
DTSTART;TZID=America/Denver:20250624T200000
DURATION:PT1H0M0S
SUMMARY:Dingers vs. JV squad
DESCRIPTION:25 Tuesday Men's League - Smithfield Recreation
LOCATION:West Softball Field
CATEGORIES:QuickScores, Softball - Adult Game
TRANSP:OPAQUE
BEGIN:VALARM
TRIGGER:-PT2H
ACTION:DISPLAY
DESCRIPTION:Dingers vs. JV squad
END:VALARM
END:VEVENT
BEGIN:VEVENT
UID:smithfieldrecreation-69036741-20250701T210000@quickscores.com
DTSTAMP:20260425T182800Z
DTSTART;TZID=America/Denver:20250701T210000
DURATION:PT1H0M0S
SUMMARY:JV squad vs. Scared Hitless
DESCRIPTION:25 Tuesday Men's League - Smithfield Recreation
LOCATION:East Softball Field
CATEGORIES:QuickScores, Softball - Adult Game
TRANSP:OPAQUE
BEGIN:VALARM
TRIGGER:-PT2H
ACTION:DISPLAY
DESCRIPTION:JV squad vs. Scared Hitless
END:VALARM
END:VEVENT
BEGIN:VEVENT
UID:smithfieldrecreation-69699453-20250708T190000@quickscores.com
DTSTAMP:20260425T182800Z
DTSTART;TZID=America/Denver:20250708T190000
DURATION:PT1H0M0S
SUMMARY:[1] JV squad vs. [8] Scared Hitless
DESCRIPTION:25 Tuesday Men's League - Smithfield Recreation
LOCATION:East Softball Field
CATEGORIES:QuickScores, Softball - Adult Game
TRANSP:OPAQUE
BEGIN:VALARM
TRIGGER:-PT2H
ACTION:DISPLAY
DESCRIPTION:[1] JV squad vs. [8] Scared Hitless
END:VALARM
END:VEVENT
BEGIN:VEVENT
UID:smithfieldrecreation-69699457-20250708T200000@quickscores.com
DTSTAMP:20260425T182800Z
DTSTART;TZID=America/Denver:20250708T200000
DURATION:PT1H0M0S
SUMMARY:[1] JV squad vs. [5] Schreiber Foods
DESCRIPTION:25 Tuesday Men's League - Smithfield Recreation
LOCATION:West Softball Field
CATEGORIES:QuickScores, Softball - Adult Game
TRANSP:OPAQUE
BEGIN:VALARM
TRIGGER:-PT2H
ACTION:DISPLAY
DESCRIPTION:[1] JV squad vs. [5] Schreiber Foods
END:VALARM
END:VEVENT
BEGIN:VEVENT
UID:smithfieldrecreation-69699459-20250708T210000@quickscores.com
DTSTAMP:20260425T182800Z
DTSTART;TZID=America/Denver:20250708T210000
DURATION:PT1H0M0S
SUMMARY:[1] JV squad vs. [2] Skeeters
DESCRIPTION:25 Tuesday Men's League - Smithfield Recreation
LOCATION:West Softball Field
CATEGORIES:QuickScores, Softball - Adult Game
TRANSP:OPAQUE
BEGIN:VALARM
TRIGGER:-PT2H
ACTION:DISPLAY
DESCRIPTION:[1] JV squad vs. [2] Skeeters
END:VALARM
END:VEVENT
END:VCALENDAR
