BEGIN:VCALENDAR
VERSION:2.0
PRODID:-//QuickScores.com//BQ Dynamic iCal Creator//EN
METHOD:PUBLISH
X-WR-CALNAME:Schreiber Foods - 25 Tuesday Men&#039;s League - Summer 2025
X-WR-CALDESC:QuickScores game calendar
X-PUBLISHED-TTL:PT24H
REFRESH-INTERVAL;VALUE=DURATION:PT24H
CALSCALE:GREGORIAN
BEGIN:VTIMEZONE
TZID:America/Denver
X-LIC-LOCATION:America/Denver
BEGIN:DAYLIGHT
TZNAME:MDT
TZOFFSETFROM:-0700
TZOFFSETTO:-0600
DTSTART:19700308T020000
RRULE:FREQ=YEARLY;BYMONTH=3;BYDAY=2SU
END:DAYLIGHT
BEGIN:STANDARD
TZNAME:MST
TZOFFSETFROM:-0600
TZOFFSETTO:-0700
DTSTART:19701101T020000
RRULE:FREQ=YEARLY;BYMONTH=11;BYDAY=1SU
END:STANDARD
END:VTIMEZONE
BEGIN:VEVENT
UID:smithfieldrecreation-69036704-20250513T190000@quickscores.com
DTSTAMP:20260425T072100Z
DTSTART;TZID=America/Denver:20250513T190000
DURATION:PT1H0M0S
SUMMARY:Brush Masters vs. Schreiber Foods
DESCRIPTION:25 Tuesday Men's League - Smithfield Recreation
LOCATION:East Softball Field
CATEGORIES:QuickScores, Softball - Adult Game
TRANSP:OPAQUE
BEGIN:VALARM
TRIGGER:-PT2H
ACTION:DISPLAY
DESCRIPTION:Brush Masters vs. Schreiber Foods
END:VALARM
END:VEVENT
BEGIN:VEVENT
UID:smithfieldrecreation-69036709-20250520T190000@quickscores.com
DTSTAMP:20260425T072100Z
DTSTART;TZID=America/Denver:20250520T190000
DURATION:PT1H0M0S
SUMMARY:Wright Angle vs. Schreiber Foods
DESCRIPTION:25 Tuesday Men's League - Smithfield Recreation
LOCATION:West Softball Field
CATEGORIES:QuickScores, Softball - Adult Game
TRANSP:OPAQUE
BEGIN:VALARM
TRIGGER:-PT2H
ACTION:DISPLAY
DESCRIPTION:Wright Angle vs. Schreiber Foods
END:VALARM
END:VEVENT
BEGIN:VEVENT
UID:smithfieldrecreation-69036713-20250527T200000@quickscores.com
DTSTAMP:20260425T072100Z
DTSTART;TZID=America/Denver:20250527T200000
DURATION:PT1H0M0S
SUMMARY:Schreiber Foods vs. Dingers
DESCRIPTION:25 Tuesday Men's League - Smithfield Recreation
LOCATION:East Softball Field
CATEGORIES:QuickScores, Softball - Adult Game
TRANSP:OPAQUE
BEGIN:VALARM
TRIGGER:-PT2H
ACTION:DISPLAY
DESCRIPTION:Schreiber Foods vs. Dingers
END:VALARM
END:VEVENT
BEGIN:VEVENT
UID:smithfieldrecreation-69036718-20250603T200000@quickscores.com
DTSTAMP:20260425T072100Z
DTSTART;TZID=America/Denver:20250603T200000
DURATION:PT1H0M0S
SUMMARY:JV squad vs. Schreiber Foods
DESCRIPTION:25 Tuesday Men's League - Smithfield Recreation
LOCATION:East Softball Field
CATEGORIES:QuickScores, Softball - Adult Game
TRANSP:OPAQUE
BEGIN:VALARM
TRIGGER:-PT2H
ACTION:DISPLAY
DESCRIPTION:JV squad vs. Schreiber Foods
END:VALARM
END:VEVENT
BEGIN:VEVENT
UID:smithfieldrecreation-69036722-20250610T190000@quickscores.com
DTSTAMP:20260425T072100Z
DTSTART;TZID=America/Denver:20250610T190000
DURATION:PT1H0M0S
SUMMARY:Schreiber Foods vs. Scared Hitless
DESCRIPTION:25 Tuesday Men's League - Smithfield Recreation
LOCATION:West Softball Field
CATEGORIES:QuickScores, Softball - Adult Game
TRANSP:OPAQUE
BEGIN:VALARM
TRIGGER:-PT2H
ACTION:DISPLAY
DESCRIPTION:Schreiber Foods vs. Scared Hitless
END:VALARM
END:VEVENT
BEGIN:VEVENT
UID:smithfieldrecreation-69036724-20250610T200000@quickscores.com
DTSTAMP:20260425T072100Z
DTSTART;TZID=America/Denver:20250610T200000
DURATION:PT1H0M0S
SUMMARY:Schreiber Foods vs. Wright Angle
DESCRIPTION:25 Tuesday Men's League - Smithfield Recreation
LOCATION:West Softball Field
CATEGORIES:QuickScores, Softball - Adult Game
TRANSP:OPAQUE
BEGIN:VALARM
TRIGGER:-PT2H
ACTION:DISPLAY
DESCRIPTION:Schreiber Foods vs. Wright Angle
END:VALARM
END:VEVENT
BEGIN:VEVENT
UID:smithfieldrecreation-69036729-20250617T210000@quickscores.com
DTSTAMP:20260425T072100Z
DTSTART;TZID=America/Denver:20250617T210000
DURATION:PT1H0M0S
SUMMARY:Walruses vs. Schreiber Foods
DESCRIPTION:25 Tuesday Men's League - Smithfield Recreation
LOCATION:West Softball Field
CATEGORIES:QuickScores, Softball - Adult Game
TRANSP:OPAQUE
BEGIN:VALARM
TRIGGER:-PT2H
ACTION:DISPLAY
DESCRIPTION:Walruses vs. Schreiber Foods
END:VALARM
END:VEVENT
BEGIN:VEVENT
UID:smithfieldrecreation-69036735-20250624T190000@quickscores.com
DTSTAMP:20260425T072100Z
DTSTART;TZID=America/Denver:20250624T190000
DURATION:PT1H0M0S
SUMMARY:Schreiber Foods vs. Skeeters
DESCRIPTION:25 Tuesday Men's League - Smithfield Recreation
LOCATION:East Softball Field
CATEGORIES:QuickScores, Softball - Adult Game
TRANSP:OPAQUE
BEGIN:VALARM
TRIGGER:-PT2H
ACTION:DISPLAY
DESCRIPTION:Schreiber Foods vs. Skeeters
END:VALARM
END:VEVENT
BEGIN:VEVENT
UID:smithfieldrecreation-69036742-20250701T200000@quickscores.com
DTSTAMP:20260425T072100Z
DTSTART;TZID=America/Denver:20250701T200000
DURATION:PT1H0M0S
SUMMARY:Dingers vs. Schreiber Foods
DESCRIPTION:25 Tuesday Men's League - Smithfield Recreation
LOCATION:West Softball Field
CATEGORIES:QuickScores, Softball - Adult Game
TRANSP:OPAQUE
BEGIN:VALARM
TRIGGER:-PT2H
ACTION:DISPLAY
DESCRIPTION:Dingers vs. Schreiber Foods
END:VALARM
END:VEVENT
BEGIN:VEVENT
UID:smithfieldrecreation-69036738-20250701T210000@quickscores.com
DTSTAMP:20260425T072100Z
DTSTART;TZID=America/Denver:20250701T210000
DURATION:PT1H0M0S
SUMMARY:Schreiber Foods vs. Brush Masters
DESCRIPTION:25 Tuesday Men's League - Smithfield Recreation
LOCATION:West Softball Field
CATEGORIES:QuickScores, Softball - Adult Game
TRANSP:OPAQUE
BEGIN:VALARM
TRIGGER:-PT2H
ACTION:DISPLAY
DESCRIPTION:Schreiber Foods vs. Brush Masters
END:VALARM
END:VEVENT
BEGIN:VEVENT
UID:smithfieldrecreation-69699454-20250708T180000@quickscores.com
DTSTAMP:20260425T072100Z
DTSTART;TZID=America/Denver:20250708T180000
DURATION:PT1H0M0S
SUMMARY:[4] Wright Angle vs. [5] Schreiber Foods
DESCRIPTION:25 Tuesday Men's League - Smithfield Recreation
LOCATION:East Softball Field
CATEGORIES:QuickScores, Softball - Adult Game
TRANSP:OPAQUE
BEGIN:VALARM
TRIGGER:-PT2H
ACTION:DISPLAY
DESCRIPTION:[4] Wright Angle vs. [5] Schreiber Foods
END:VALARM
END:VEVENT
BEGIN:VEVENT
UID:smithfieldrecreation-69699457-20250708T200000@quickscores.com
DTSTAMP:20260425T072100Z
DTSTART;TZID=America/Denver:20250708T200000
DURATION:PT1H0M0S
SUMMARY:[1] JV squad vs. [5] Schreiber Foods
DESCRIPTION:25 Tuesday Men's League - Smithfield Recreation
LOCATION:West Softball Field
CATEGORIES:QuickScores, Softball - Adult Game
TRANSP:OPAQUE
BEGIN:VALARM
TRIGGER:-PT2H
ACTION:DISPLAY
DESCRIPTION:[1] JV squad vs. [5] Schreiber Foods
END:VALARM
END:VEVENT
END:VCALENDAR
