BEGIN:VCALENDAR
VERSION:2.0
PRODID:-//QuickScores.com//BQ Dynamic iCal Creator//EN
METHOD:PUBLISH
X-WR-CALNAME:Dingers - 25 Tuesday Men&#039;s League - Summer 2025
X-WR-CALDESC:QuickScores game calendar
X-PUBLISHED-TTL:PT24H
REFRESH-INTERVAL;VALUE=DURATION:PT24H
CALSCALE:GREGORIAN
BEGIN:VTIMEZONE
TZID:America/Denver
X-LIC-LOCATION:America/Denver
BEGIN:DAYLIGHT
TZNAME:MDT
TZOFFSETFROM:-0700
TZOFFSETTO:-0600
DTSTART:19700308T020000
RRULE:FREQ=YEARLY;BYMONTH=3;BYDAY=2SU
END:DAYLIGHT
BEGIN:STANDARD
TZNAME:MST
TZOFFSETFROM:-0600
TZOFFSETTO:-0700
DTSTART:19701101T020000
RRULE:FREQ=YEARLY;BYMONTH=11;BYDAY=1SU
END:STANDARD
END:VTIMEZONE
BEGIN:VEVENT
UID:smithfieldrecreation-69036706-20250513T200000@quickscores.com
DTSTAMP:20260425T153300Z
DTSTART;TZID=America/Denver:20250513T200000
DURATION:PT1H0M0S
SUMMARY:Wright Angle vs. Dingers
DESCRIPTION:25 Tuesday Men's League - Smithfield Recreation
LOCATION:East Softball Field
CATEGORIES:QuickScores, Softball - Adult Game
TRANSP:OPAQUE
BEGIN:VALARM
TRIGGER:-PT2H
ACTION:DISPLAY
DESCRIPTION:Wright Angle vs. Dingers
END:VALARM
END:VEVENT
BEGIN:VEVENT
UID:smithfieldrecreation-69036711-20250520T190000@quickscores.com
DTSTAMP:20260425T153300Z
DTSTART;TZID=America/Denver:20250520T190000
DURATION:PT1H0M0S
SUMMARY:JV squad vs. Dingers
DESCRIPTION:25 Tuesday Men's League - Smithfield Recreation
LOCATION:East Softball Field
CATEGORIES:QuickScores, Softball - Adult Game
TRANSP:OPAQUE
BEGIN:VALARM
TRIGGER:-PT2H
ACTION:DISPLAY
DESCRIPTION:JV squad vs. Dingers
END:VALARM
END:VEVENT
BEGIN:VEVENT
UID:smithfieldrecreation-69036713-20250527T200000@quickscores.com
DTSTAMP:20260425T153300Z
DTSTART;TZID=America/Denver:20250527T200000
DURATION:PT1H0M0S
SUMMARY:Schreiber Foods vs. Dingers
DESCRIPTION:25 Tuesday Men's League - Smithfield Recreation
LOCATION:East Softball Field
CATEGORIES:QuickScores, Softball - Adult Game
TRANSP:OPAQUE
BEGIN:VALARM
TRIGGER:-PT2H
ACTION:DISPLAY
DESCRIPTION:Schreiber Foods vs. Dingers
END:VALARM
END:VEVENT
BEGIN:VEVENT
UID:smithfieldrecreation-69036719-20250603T190000@quickscores.com
DTSTAMP:20260425T153300Z
DTSTART;TZID=America/Denver:20250603T190000
DURATION:PT1H0M0S
SUMMARY:Dingers vs. Walruses
DESCRIPTION:25 Tuesday Men's League - Smithfield Recreation
LOCATION:West Softball Field
CATEGORIES:QuickScores, Softball - Adult Game
TRANSP:OPAQUE
BEGIN:VALARM
TRIGGER:-PT2H
ACTION:DISPLAY
DESCRIPTION:Dingers vs. Walruses
END:VALARM
END:VEVENT
BEGIN:VEVENT
UID:smithfieldrecreation-69036720-20250610T210000@quickscores.com
DTSTAMP:20260425T153300Z
DTSTART;TZID=America/Denver:20250610T210000
DURATION:PT1H0M0S
SUMMARY:Brush Masters vs. Dingers
DESCRIPTION:25 Tuesday Men's League - Smithfield Recreation
LOCATION:East Softball Field
CATEGORIES:QuickScores, Softball - Adult Game
TRANSP:OPAQUE
BEGIN:VALARM
TRIGGER:-PT2H
ACTION:DISPLAY
DESCRIPTION:Brush Masters vs. Dingers
END:VALARM
END:VEVENT
BEGIN:VEVENT
UID:smithfieldrecreation-69036728-20250617T210000@quickscores.com
DTSTAMP:20260425T153300Z
DTSTART;TZID=America/Denver:20250617T210000
DURATION:PT1H0M0S
SUMMARY:Skeeters vs. Dingers
DESCRIPTION:25 Tuesday Men's League - Smithfield Recreation
LOCATION:East Softball Field
CATEGORIES:QuickScores, Softball - Adult Game
TRANSP:OPAQUE
BEGIN:VALARM
TRIGGER:-PT2H
ACTION:DISPLAY
DESCRIPTION:Skeeters vs. Dingers
END:VALARM
END:VEVENT
BEGIN:VEVENT
UID:smithfieldrecreation-69036737-20250624T200000@quickscores.com
DTSTAMP:20260425T153300Z
DTSTART;TZID=America/Denver:20250624T200000
DURATION:PT1H0M0S
SUMMARY:Dingers vs. JV squad
DESCRIPTION:25 Tuesday Men's League - Smithfield Recreation
LOCATION:West Softball Field
CATEGORIES:QuickScores, Softball - Adult Game
TRANSP:OPAQUE
BEGIN:VALARM
TRIGGER:-PT2H
ACTION:DISPLAY
DESCRIPTION:Dingers vs. JV squad
END:VALARM
END:VEVENT
BEGIN:VEVENT
UID:smithfieldrecreation-69036733-20250624T210000@quickscores.com
DTSTAMP:20260425T153300Z
DTSTART;TZID=America/Denver:20250624T210000
DURATION:PT1H0M0S
SUMMARY:Dingers vs. Scared Hitless
DESCRIPTION:25 Tuesday Men's League - Smithfield Recreation
LOCATION:West Softball Field
CATEGORIES:QuickScores, Softball - Adult Game
TRANSP:OPAQUE
BEGIN:VALARM
TRIGGER:-PT2H
ACTION:DISPLAY
DESCRIPTION:Dingers vs. Scared Hitless
END:VALARM
END:VEVENT
BEGIN:VEVENT
UID:smithfieldrecreation-69036740-20250701T190000@quickscores.com
DTSTAMP:20260425T153300Z
DTSTART;TZID=America/Denver:20250701T190000
DURATION:PT1H0M0S
SUMMARY:Dingers vs. Wright Angle
DESCRIPTION:25 Tuesday Men's League - Smithfield Recreation
LOCATION:West Softball Field
CATEGORIES:QuickScores, Softball - Adult Game
TRANSP:OPAQUE
BEGIN:VALARM
TRIGGER:-PT2H
ACTION:DISPLAY
DESCRIPTION:Dingers vs. Wright Angle
END:VALARM
END:VEVENT
BEGIN:VEVENT
UID:smithfieldrecreation-69036742-20250701T200000@quickscores.com
DTSTAMP:20260425T153300Z
DTSTART;TZID=America/Denver:20250701T200000
DURATION:PT1H0M0S
SUMMARY:Dingers vs. Schreiber Foods
DESCRIPTION:25 Tuesday Men's League - Smithfield Recreation
LOCATION:West Softball Field
CATEGORIES:QuickScores, Softball - Adult Game
TRANSP:OPAQUE
BEGIN:VALARM
TRIGGER:-PT2H
ACTION:DISPLAY
DESCRIPTION:Dingers vs. Schreiber Foods
END:VALARM
END:VEVENT
BEGIN:VEVENT
UID:smithfieldrecreation-69699455-20250708T190000@quickscores.com
DTSTAMP:20260425T153300Z
DTSTART;TZID=America/Denver:20250708T190000
DURATION:PT1H0M0S
SUMMARY:[2] Skeeters vs. [7] Dingers
DESCRIPTION:25 Tuesday Men's League - Smithfield Recreation
LOCATION:West Softball Field
CATEGORIES:QuickScores, Softball - Adult Game
TRANSP:OPAQUE
BEGIN:VALARM
TRIGGER:-PT2H
ACTION:DISPLAY
DESCRIPTION:[2] Skeeters vs. [7] Dingers
END:VALARM
END:VEVENT
END:VCALENDAR
