BEGIN:VCALENDAR
VERSION:2.0
PRODID:-//QuickScores.com//BQ Dynamic iCal Creator//EN
METHOD:PUBLISH
X-WR-CALNAME:The Hitters Full - 25 Monday Co-ed League - Summer 2025
X-WR-CALDESC:QuickScores game calendar
X-PUBLISHED-TTL:PT24H
REFRESH-INTERVAL;VALUE=DURATION:PT24H
CALSCALE:GREGORIAN
BEGIN:VTIMEZONE
TZID:America/Denver
X-LIC-LOCATION:America/Denver
BEGIN:DAYLIGHT
TZNAME:MDT
TZOFFSETFROM:-0700
TZOFFSETTO:-0600
DTSTART:19700308T020000
RRULE:FREQ=YEARLY;BYMONTH=3;BYDAY=2SU
END:DAYLIGHT
BEGIN:STANDARD
TZNAME:MST
TZOFFSETFROM:-0600
TZOFFSETTO:-0700
DTSTART:19701101T020000
RRULE:FREQ=YEARLY;BYMONTH=11;BYDAY=1SU
END:STANDARD
END:VTIMEZONE
BEGIN:VEVENT
UID:smithfieldrecreation-68577673-20250512T180000@quickscores.com
DTSTAMP:20260422T215800Z
DTSTART;TZID=America/Denver:20250512T180000
DURATION:PT1H0M0S
SUMMARY:HMH vs. The Hitters Full
DESCRIPTION:25 Monday Co-ed League - Smithfield Recreation
LOCATION:East Softball Field
CATEGORIES:QuickScores, Softball - Adult Game
TRANSP:OPAQUE
BEGIN:VALARM
TRIGGER:-PT2H
ACTION:DISPLAY
DESCRIPTION:HMH vs. The Hitters Full
END:VALARM
END:VEVENT
BEGIN:VEVENT
UID:smithfieldrecreation-68577683-20250519T200000@quickscores.com
DTSTAMP:20260422T215800Z
DTSTART;TZID=America/Denver:20250519T200000
DURATION:PT1H0M0S
SUMMARY:Dirty Mitts vs. The Hitters Full
DESCRIPTION:25 Monday Co-ed League - Smithfield Recreation
LOCATION:East Softball Field
CATEGORIES:QuickScores, Softball - Adult Game
TRANSP:OPAQUE
BEGIN:VALARM
TRIGGER:-PT2H
ACTION:DISPLAY
DESCRIPTION:Dirty Mitts vs. The Hitters Full
END:VALARM
END:VEVENT
BEGIN:VEVENT
UID:smithfieldrecreation-68577688-20250602T180000@quickscores.com
DTSTAMP:20260422T215800Z
DTSTART;TZID=America/Denver:20250602T180000
DURATION:PT1H0M0S
SUMMARY:The Hitters Full vs. Wright Angle
DESCRIPTION:25 Monday Co-ed League - Smithfield Recreation
LOCATION:East Softball Field
CATEGORIES:QuickScores, Softball - Adult Game
TRANSP:OPAQUE
BEGIN:VALARM
TRIGGER:-PT2H
ACTION:DISPLAY
DESCRIPTION:The Hitters Full vs. Wright Angle
END:VALARM
END:VEVENT
BEGIN:VEVENT
UID:smithfieldrecreation-68577700-20250609T200000@quickscores.com
DTSTAMP:20260422T215800Z
DTSTART;TZID=America/Denver:20250609T200000
DURATION:PT1H0M0S
SUMMARY:The Hitters Full vs. Golden Steps
DESCRIPTION:25 Monday Co-ed League - Smithfield Recreation
LOCATION:West Softball Field
CATEGORIES:QuickScores, Softball - Adult Game
TRANSP:OPAQUE
BEGIN:VALARM
TRIGGER:-PT2H
ACTION:DISPLAY
DESCRIPTION:The Hitters Full vs. Golden Steps
END:VALARM
END:VEVENT
BEGIN:VEVENT
UID:smithfieldrecreation-68577703-20250616T190000@quickscores.com
DTSTAMP:20260422T215800Z
DTSTART;TZID=America/Denver:20250616T190000
DURATION:PT1H0M0S
SUMMARY:The Hitters Full vs. Couples Therapy
DESCRIPTION:25 Monday Co-ed League - Smithfield Recreation
LOCATION:East Softball Field
CATEGORIES:QuickScores, Softball - Adult Game
TRANSP:OPAQUE
BEGIN:VALARM
TRIGGER:-PT2H
ACTION:DISPLAY
DESCRIPTION:The Hitters Full vs. Couples Therapy
END:VALARM
END:VEVENT
BEGIN:VEVENT
UID:smithfieldrecreation-68577717-20250623T210000@quickscores.com
DTSTAMP:20260422T215800Z
DTSTART;TZID=America/Denver:20250623T210000
DURATION:PT1H0M0S
SUMMARY:The Hitters Full vs. Amalga 3rd Ward
DESCRIPTION:25 Monday Co-ed League - Smithfield Recreation
LOCATION:East Softball Field
CATEGORIES:QuickScores, Softball - Adult Game
TRANSP:OPAQUE
BEGIN:VALARM
TRIGGER:-PT2H
ACTION:DISPLAY
DESCRIPTION:The Hitters Full vs. Amalga 3rd Ward
END:VALARM
END:VEVENT
BEGIN:VEVENT
UID:smithfieldrecreation-68577720-20250630T180000@quickscores.com
DTSTAMP:20260422T215800Z
DTSTART;TZID=America/Denver:20250630T180000
DURATION:PT1H0M0S
SUMMARY:Sky Canyon vs. The Hitters Full
DESCRIPTION:25 Monday Co-ed League - Smithfield Recreation
LOCATION:West Softball Field
CATEGORIES:QuickScores, Softball - Adult Game
TRANSP:OPAQUE
BEGIN:VALARM
TRIGGER:-PT2H
ACTION:DISPLAY
DESCRIPTION:Sky Canyon vs. The Hitters Full
END:VALARM
END:VEVENT
BEGIN:VEVENT
UID:smithfieldrecreation-68577734-20250707T210000@quickscores.com
DTSTAMP:20260422T215800Z
DTSTART;TZID=America/Denver:20250707T210000
DURATION:PT1H0M0S
SUMMARY:Gunsight Farms vs. The Hitters Full
DESCRIPTION:25 Monday Co-ed League - Smithfield Recreation
LOCATION:West Softball Field
CATEGORIES:QuickScores, Softball - Adult Game
TRANSP:OPAQUE
BEGIN:VALARM
TRIGGER:-PT2H
ACTION:DISPLAY
DESCRIPTION:Gunsight Farms vs. The Hitters Full
END:VALARM
END:VEVENT
BEGIN:VEVENT
UID:smithfieldrecreation-68577737-20250714T190000@quickscores.com
DTSTAMP:20260422T215800Z
DTSTART;TZID=America/Denver:20250714T190000
DURATION:PT1H0M0S
SUMMARY:Dinger Dinos vs. The Hitters Full
DESCRIPTION:25 Monday Co-ed League - Smithfield Recreation
LOCATION:East Softball Field
CATEGORIES:QuickScores, Softball - Adult Game
TRANSP:OPAQUE
BEGIN:VALARM
TRIGGER:-PT2H
ACTION:DISPLAY
DESCRIPTION:Dinger Dinos vs. The Hitters Full
END:VALARM
END:VEVENT
BEGIN:VEVENT
UID:smithfieldrecreation-68577666-20250721T190000@quickscores.com
DTSTAMP:20260422T215800Z
DTSTART;TZID=America/Denver:20250721T190000
DURATION:PT1H0M0S
SUMMARY:The Hitters Full vs. Cracker Jack Kids
DESCRIPTION:25 Monday Co-ed League - Smithfield Recreation
LOCATION:West Softball Field
CATEGORIES:QuickScores, Softball - Adult Game
TRANSP:OPAQUE
BEGIN:VALARM
TRIGGER:-PT2H
ACTION:DISPLAY
DESCRIPTION:The Hitters Full vs. Cracker Jack Kids
END:VALARM
END:VEVENT
END:VCALENDAR
