BEGIN:VCALENDAR
VERSION:2.0
PRODID:-//QuickScores.com//BQ Dynamic iCal Creator//EN
METHOD:PUBLISH
X-WR-CALNAME:Golden Steps - 25 Monday Co-ed League - Summer 2025
X-WR-CALDESC:QuickScores game calendar
X-PUBLISHED-TTL:PT24H
REFRESH-INTERVAL;VALUE=DURATION:PT24H
CALSCALE:GREGORIAN
BEGIN:VTIMEZONE
TZID:America/Denver
X-LIC-LOCATION:America/Denver
BEGIN:DAYLIGHT
TZNAME:MDT
TZOFFSETFROM:-0700
TZOFFSETTO:-0600
DTSTART:19700308T020000
RRULE:FREQ=YEARLY;BYMONTH=3;BYDAY=2SU
END:DAYLIGHT
BEGIN:STANDARD
TZNAME:MST
TZOFFSETFROM:-0600
TZOFFSETTO:-0700
DTSTART:19701101T020000
RRULE:FREQ=YEARLY;BYMONTH=11;BYDAY=1SU
END:STANDARD
END:VTIMEZONE
BEGIN:VEVENT
UID:smithfieldrecreation-68577678-20250512T180000@quickscores.com
DTSTAMP:20260422T165200Z
DTSTART;TZID=America/Denver:20250512T180000
DURATION:PT1H0M0S
SUMMARY:Rosebud Appliance vs. Golden Steps
DESCRIPTION:25 Monday Co-ed League - Smithfield Recreation
LOCATION:West Softball Field
CATEGORIES:QuickScores, Softball - Adult Game
TRANSP:OPAQUE
BEGIN:VALARM
TRIGGER:-PT2H
ACTION:DISPLAY
DESCRIPTION:Rosebud Appliance vs. Golden Steps
END:VALARM
END:VEVENT
BEGIN:VEVENT
UID:smithfieldrecreation-68577685-20250519T180000@quickscores.com
DTSTAMP:20260422T165200Z
DTSTART;TZID=America/Denver:20250519T180000
DURATION:PT1H0M0S
SUMMARY:Sky Canyon vs. Golden Steps
DESCRIPTION:25 Monday Co-ed League - Smithfield Recreation
LOCATION:East Softball Field
CATEGORIES:QuickScores, Softball - Adult Game
TRANSP:OPAQUE
BEGIN:VALARM
TRIGGER:-PT2H
ACTION:DISPLAY
DESCRIPTION:Sky Canyon vs. Golden Steps
END:VALARM
END:VEVENT
BEGIN:VEVENT
UID:smithfieldrecreation-68577693-20250602T210000@quickscores.com
DTSTAMP:20260422T165200Z
DTSTART;TZID=America/Denver:20250602T210000
DURATION:PT1H0M0S
SUMMARY:Golden Steps vs. Forge Batties
DESCRIPTION:25 Monday Co-ed League - Smithfield Recreation
LOCATION:East Softball Field
CATEGORIES:QuickScores, Softball - Adult Game
TRANSP:OPAQUE
BEGIN:VALARM
TRIGGER:-PT2H
ACTION:DISPLAY
DESCRIPTION:Golden Steps vs. Forge Batties
END:VALARM
END:VEVENT
BEGIN:VEVENT
UID:smithfieldrecreation-68577700-20250609T200000@quickscores.com
DTSTAMP:20260422T165200Z
DTSTART;TZID=America/Denver:20250609T200000
DURATION:PT1H0M0S
SUMMARY:The Hitters Full vs. Golden Steps
DESCRIPTION:25 Monday Co-ed League - Smithfield Recreation
LOCATION:West Softball Field
CATEGORIES:QuickScores, Softball - Adult Game
TRANSP:OPAQUE
BEGIN:VALARM
TRIGGER:-PT2H
ACTION:DISPLAY
DESCRIPTION:The Hitters Full vs. Golden Steps
END:VALARM
END:VEVENT
BEGIN:VEVENT
UID:smithfieldrecreation-68577708-20250616T210000@quickscores.com
DTSTAMP:20260422T165200Z
DTSTART;TZID=America/Denver:20250616T210000
DURATION:PT1H0M0S
SUMMARY:Golden Steps vs. CM Lawncare
DESCRIPTION:25 Monday Co-ed League - Smithfield Recreation
LOCATION:West Softball Field
CATEGORIES:QuickScores, Softball - Adult Game
TRANSP:OPAQUE
BEGIN:VALARM
TRIGGER:-PT2H
ACTION:DISPLAY
DESCRIPTION:Golden Steps vs. CM Lawncare
END:VALARM
END:VEVENT
BEGIN:VEVENT
UID:smithfieldrecreation-68577715-20250623T190000@quickscores.com
DTSTAMP:20260422T165200Z
DTSTART;TZID=America/Denver:20250623T190000
DURATION:PT1H0M0S
SUMMARY:Wright Angle vs. Golden Steps
DESCRIPTION:25 Monday Co-ed League - Smithfield Recreation
LOCATION:East Softball Field
CATEGORIES:QuickScores, Softball - Adult Game
TRANSP:OPAQUE
BEGIN:VALARM
TRIGGER:-PT2H
ACTION:DISPLAY
DESCRIPTION:Wright Angle vs. Golden Steps
END:VALARM
END:VEVENT
BEGIN:VEVENT
UID:smithfieldrecreation-68577723-20250630T200000@quickscores.com
DTSTAMP:20260422T165200Z
DTSTART;TZID=America/Denver:20250630T200000
DURATION:PT1H0M0S
SUMMARY:Golden Steps vs. J&J
DESCRIPTION:25 Monday Co-ed League - Smithfield Recreation
LOCATION:East Softball Field
CATEGORIES:QuickScores, Softball - Adult Game
TRANSP:OPAQUE
BEGIN:VALARM
TRIGGER:-PT2H
ACTION:DISPLAY
DESCRIPTION:Golden Steps vs. J&J
END:VALARM
END:VEVENT
BEGIN:VEVENT
UID:smithfieldrecreation-68577729-20250707T200000@quickscores.com
DTSTAMP:20260422T165200Z
DTSTART;TZID=America/Denver:20250707T200000
DURATION:PT1H0M0S
SUMMARY:Golden Steps vs. Couples Therapy
DESCRIPTION:25 Monday Co-ed League - Smithfield Recreation
LOCATION:West Softball Field
CATEGORIES:QuickScores, Softball - Adult Game
TRANSP:OPAQUE
BEGIN:VALARM
TRIGGER:-PT2H
ACTION:DISPLAY
DESCRIPTION:Golden Steps vs. Couples Therapy
END:VALARM
END:VEVENT
BEGIN:VEVENT
UID:smithfieldrecreation-68577738-20250714T190000@quickscores.com
DTSTAMP:20260422T165200Z
DTSTART;TZID=America/Denver:20250714T190000
DURATION:PT1H0M0S
SUMMARY:Golden Steps vs. Bennett Builds
DESCRIPTION:25 Monday Co-ed League - Smithfield Recreation
LOCATION:West Softball Field
CATEGORIES:QuickScores, Softball - Adult Game
TRANSP:OPAQUE
BEGIN:VALARM
TRIGGER:-PT2H
ACTION:DISPLAY
DESCRIPTION:Golden Steps vs. Bennett Builds
END:VALARM
END:VEVENT
BEGIN:VEVENT
UID:smithfieldrecreation-68577670-20250721T180000@quickscores.com
DTSTAMP:20260422T165200Z
DTSTART;TZID=America/Denver:20250721T180000
DURATION:PT1H0M0S
SUMMARY:Golden Steps vs. Dinger Dinos
DESCRIPTION:25 Monday Co-ed League - Smithfield Recreation
LOCATION:West Softball Field
CATEGORIES:QuickScores, Softball - Adult Game
TRANSP:OPAQUE
BEGIN:VALARM
TRIGGER:-PT2H
ACTION:DISPLAY
DESCRIPTION:Golden Steps vs. Dinger Dinos
END:VALARM
END:VEVENT
END:VCALENDAR
