BEGIN:VCALENDAR
VERSION:2.0
PRODID:-//QuickScores.com//BQ Dynamic iCal Creator//EN
METHOD:PUBLISH
X-WR-CALNAME:Forge Batties - 25 Monday Co-ed League - Summer 2025
X-WR-CALDESC:QuickScores game calendar
X-PUBLISHED-TTL:PT24H
REFRESH-INTERVAL;VALUE=DURATION:PT24H
CALSCALE:GREGORIAN
BEGIN:VTIMEZONE
TZID:America/Denver
X-LIC-LOCATION:America/Denver
BEGIN:DAYLIGHT
TZNAME:MDT
TZOFFSETFROM:-0700
TZOFFSETTO:-0600
DTSTART:19700308T020000
RRULE:FREQ=YEARLY;BYMONTH=3;BYDAY=2SU
END:DAYLIGHT
BEGIN:STANDARD
TZNAME:MST
TZOFFSETFROM:-0600
TZOFFSETTO:-0700
DTSTART:19701101T020000
RRULE:FREQ=YEARLY;BYMONTH=11;BYDAY=1SU
END:STANDARD
END:VTIMEZONE
BEGIN:VEVENT
UID:smithfieldrecreation-68577676-20250512T190000@quickscores.com
DTSTAMP:20260423T071000Z
DTSTART;TZID=America/Denver:20250512T190000
DURATION:PT1H0M0S
SUMMARY:Forge Batties vs. Amalga 3rd Ward
DESCRIPTION:25 Monday Co-ed League - Smithfield Recreation
LOCATION:East Softball Field
CATEGORIES:QuickScores, Softball - Adult Game
TRANSP:OPAQUE
BEGIN:VALARM
TRIGGER:-PT2H
ACTION:DISPLAY
DESCRIPTION:Forge Batties vs. Amalga 3rd Ward
END:VALARM
END:VEVENT
BEGIN:VEVENT
UID:smithfieldrecreation-68577682-20250519T190000@quickscores.com
DTSTAMP:20260423T071000Z
DTSTART;TZID=America/Denver:20250519T190000
DURATION:PT1H0M0S
SUMMARY:Bennett Builds vs. Forge Batties
DESCRIPTION:15 --- 25 Monday Co-ed League - Smithfield Recreation
LOCATION:East Softball Field
CATEGORIES:QuickScores, Softball - Adult Game
TRANSP:OPAQUE
BEGIN:VALARM
TRIGGER:-PT2H
ACTION:DISPLAY
DESCRIPTION:Bennett Builds vs. Forge Batties
END:VALARM
END:VEVENT
BEGIN:VEVENT
UID:smithfieldrecreation-68577693-20250602T210000@quickscores.com
DTSTAMP:20260423T071000Z
DTSTART;TZID=America/Denver:20250602T210000
DURATION:PT1H0M0S
SUMMARY:Golden Steps vs. Forge Batties
DESCRIPTION:25 Monday Co-ed League - Smithfield Recreation
LOCATION:East Softball Field
CATEGORIES:QuickScores, Softball - Adult Game
TRANSP:OPAQUE
BEGIN:VALARM
TRIGGER:-PT2H
ACTION:DISPLAY
DESCRIPTION:Golden Steps vs. Forge Batties
END:VALARM
END:VEVENT
BEGIN:VEVENT
UID:smithfieldrecreation-68577697-20250609T180000@quickscores.com
DTSTAMP:20260423T071000Z
DTSTART;TZID=America/Denver:20250609T180000
DURATION:PT1H0M0S
SUMMARY:Forge Batties vs. J&J
DESCRIPTION:25 Monday Co-ed League - Smithfield Recreation
LOCATION:East Softball Field
CATEGORIES:QuickScores, Softball - Adult Game
TRANSP:OPAQUE
BEGIN:VALARM
TRIGGER:-PT2H
ACTION:DISPLAY
DESCRIPTION:Forge Batties vs. J&J
END:VALARM
END:VEVENT
BEGIN:VEVENT
UID:smithfieldrecreation-68577710-20250616T200000@quickscores.com
DTSTAMP:20260423T071000Z
DTSTART;TZID=America/Denver:20250616T200000
DURATION:PT1H0M0S
SUMMARY:Dirty Mitts vs. Forge Batties
DESCRIPTION:25 Monday Co-ed League - Smithfield Recreation
LOCATION:West Softball Field
CATEGORIES:QuickScores, Softball - Adult Game
TRANSP:OPAQUE
BEGIN:VALARM
TRIGGER:-PT2H
ACTION:DISPLAY
DESCRIPTION:Dirty Mitts vs. Forge Batties
END:VALARM
END:VEVENT
BEGIN:VEVENT
UID:smithfieldrecreation-68577712-20250623T180000@quickscores.com
DTSTAMP:20260423T071000Z
DTSTART;TZID=America/Denver:20250623T180000
DURATION:PT1H0M0S
SUMMARY:Forge Batties vs. CM Lawncare
DESCRIPTION:25 Monday Co-ed League - Smithfield Recreation
LOCATION:West Softball Field
CATEGORIES:QuickScores, Softball - Adult Game
TRANSP:OPAQUE
BEGIN:VALARM
TRIGGER:-PT2H
ACTION:DISPLAY
DESCRIPTION:Forge Batties vs. CM Lawncare
END:VALARM
END:VEVENT
BEGIN:VEVENT
UID:smithfieldrecreation-68577726-20250630T210000@quickscores.com
DTSTAMP:20260423T071000Z
DTSTART;TZID=America/Denver:20250630T210000
DURATION:PT1H0M0S
SUMMARY:Cracker Jack Kids vs. Forge Batties
DESCRIPTION:25 Monday Co-ed League - Smithfield Recreation
LOCATION:West Softball Field
CATEGORIES:QuickScores, Softball - Adult Game
TRANSP:OPAQUE
BEGIN:VALARM
TRIGGER:-PT2H
ACTION:DISPLAY
DESCRIPTION:Cracker Jack Kids vs. Forge Batties
END:VALARM
END:VEVENT
BEGIN:VEVENT
UID:smithfieldrecreation-68577727-20250707T190000@quickscores.com
DTSTAMP:20260423T071000Z
DTSTART;TZID=America/Denver:20250707T190000
DURATION:PT1H0M0S
SUMMARY:Rosebud Appliance vs. Forge Batties
DESCRIPTION:25 Monday Co-ed League - Smithfield Recreation
LOCATION:West Softball Field
CATEGORIES:QuickScores, Softball - Adult Game
TRANSP:OPAQUE
BEGIN:VALARM
TRIGGER:-PT2H
ACTION:DISPLAY
DESCRIPTION:Rosebud Appliance vs. Forge Batties
END:VALARM
END:VEVENT
BEGIN:VEVENT
UID:smithfieldrecreation-68577741-20250714T210000@quickscores.com
DTSTAMP:20260423T071000Z
DTSTART;TZID=America/Denver:20250714T210000
DURATION:PT1H0M0S
SUMMARY:Forge Batties vs. HMH
DESCRIPTION:25 Monday Co-ed League - Smithfield Recreation
LOCATION:East Softball Field
CATEGORIES:QuickScores, Softball - Adult Game
TRANSP:OPAQUE
BEGIN:VALARM
TRIGGER:-PT2H
ACTION:DISPLAY
DESCRIPTION:Forge Batties vs. HMH
END:VALARM
END:VEVENT
BEGIN:VEVENT
UID:smithfieldrecreation-68577667-20250721T200000@quickscores.com
DTSTAMP:20260423T071000Z
DTSTART;TZID=America/Denver:20250721T200000
DURATION:PT1H0M0S
SUMMARY:Forge Batties vs. Gunsight Farms
DESCRIPTION:25 Monday Co-ed League - Smithfield Recreation
LOCATION:East Softball Field
CATEGORIES:QuickScores, Softball - Adult Game
TRANSP:OPAQUE
BEGIN:VALARM
TRIGGER:-PT2H
ACTION:DISPLAY
DESCRIPTION:Forge Batties vs. Gunsight Farms
END:VALARM
END:VEVENT
END:VCALENDAR
