BEGIN:VCALENDAR
VERSION:2.0
PRODID:-//QuickScores.com//BQ Dynamic iCal Creator//EN
METHOD:PUBLISH
X-WR-CALNAME:Dinger Dinos - 25 Monday Co-ed League - Summer 2025
X-WR-CALDESC:QuickScores game calendar
X-PUBLISHED-TTL:PT24H
REFRESH-INTERVAL;VALUE=DURATION:PT24H
CALSCALE:GREGORIAN
BEGIN:VTIMEZONE
TZID:America/Denver
X-LIC-LOCATION:America/Denver
BEGIN:DAYLIGHT
TZNAME:MDT
TZOFFSETFROM:-0700
TZOFFSETTO:-0600
DTSTART:19700308T020000
RRULE:FREQ=YEARLY;BYMONTH=3;BYDAY=2SU
END:DAYLIGHT
BEGIN:STANDARD
TZNAME:MST
TZOFFSETFROM:-0600
TZOFFSETTO:-0700
DTSTART:19701101T020000
RRULE:FREQ=YEARLY;BYMONTH=11;BYDAY=1SU
END:STANDARD
END:VTIMEZONE
BEGIN:VEVENT
UID:smithfieldrecreation-68577677-20250512T210000@quickscores.com
DTSTAMP:20260424T040200Z
DTSTART;TZID=America/Denver:20250512T210000
DURATION:PT1H0M0S
SUMMARY:Dinger Dinos vs. Dirty Mitts
DESCRIPTION:25 Monday Co-ed League - Smithfield Recreation
LOCATION:East Softball Field
CATEGORIES:QuickScores, Softball - Adult Game
TRANSP:OPAQUE
BEGIN:VALARM
TRIGGER:-PT2H
ACTION:DISPLAY
DESCRIPTION:Dinger Dinos vs. Dirty Mitts
END:VALARM
END:VEVENT
BEGIN:VEVENT
UID:smithfieldrecreation-68577686-20250519T210000@quickscores.com
DTSTAMP:20260424T040200Z
DTSTART;TZID=America/Denver:20250519T210000
DURATION:PT1H0M0S
SUMMARY:Amalga 3rd Ward vs. Dinger Dinos
DESCRIPTION:25 Monday Co-ed League - Smithfield Recreation
LOCATION:West Softball Field
CATEGORIES:QuickScores, Softball - Adult Game
TRANSP:OPAQUE
BEGIN:VALARM
TRIGGER:-PT2H
ACTION:DISPLAY
DESCRIPTION:Amalga 3rd Ward vs. Dinger Dinos
END:VALARM
END:VEVENT
BEGIN:VEVENT
UID:smithfieldrecreation-68577692-20250602T200000@quickscores.com
DTSTAMP:20260424T040200Z
DTSTART;TZID=America/Denver:20250602T200000
DURATION:PT1H0M0S
SUMMARY:Cracker Jack Kids vs. Dinger Dinos
DESCRIPTION:25 Monday Co-ed League - Smithfield Recreation
LOCATION:West Softball Field
CATEGORIES:QuickScores, Softball - Adult Game
TRANSP:OPAQUE
BEGIN:VALARM
TRIGGER:-PT2H
ACTION:DISPLAY
DESCRIPTION:Cracker Jack Kids vs. Dinger Dinos
END:VALARM
END:VEVENT
BEGIN:VEVENT
UID:smithfieldrecreation-68577701-20250609T210000@quickscores.com
DTSTAMP:20260424T040200Z
DTSTART;TZID=America/Denver:20250609T210000
DURATION:PT1H0M0S
SUMMARY:Gunsight Farms vs. Dinger Dinos
DESCRIPTION:25 Monday Co-ed League - Smithfield Recreation
LOCATION:East Softball Field
CATEGORIES:QuickScores, Softball - Adult Game
TRANSP:OPAQUE
BEGIN:VALARM
TRIGGER:-PT2H
ACTION:DISPLAY
DESCRIPTION:Gunsight Farms vs. Dinger Dinos
END:VALARM
END:VEVENT
BEGIN:VEVENT
UID:smithfieldrecreation-68577707-20250616T200000@quickscores.com
DTSTAMP:20260424T040200Z
DTSTART;TZID=America/Denver:20250616T200000
DURATION:PT1H0M0S
SUMMARY:Dinger Dinos vs. HMH
DESCRIPTION:25 Monday Co-ed League - Smithfield Recreation
LOCATION:East Softball Field
CATEGORIES:QuickScores, Softball - Adult Game
TRANSP:OPAQUE
BEGIN:VALARM
TRIGGER:-PT2H
ACTION:DISPLAY
DESCRIPTION:Dinger Dinos vs. HMH
END:VALARM
END:VEVENT
BEGIN:VEVENT
UID:smithfieldrecreation-68577716-20250623T190000@quickscores.com
DTSTAMP:20260424T040200Z
DTSTART;TZID=America/Denver:20250623T190000
DURATION:PT1H0M0S
SUMMARY:Dinger Dinos vs. Bennett Builds
DESCRIPTION:25 Monday Co-ed League - Smithfield Recreation
LOCATION:West Softball Field
CATEGORIES:QuickScores, Softball - Adult Game
TRANSP:OPAQUE
BEGIN:VALARM
TRIGGER:-PT2H
ACTION:DISPLAY
DESCRIPTION:Dinger Dinos vs. Bennett Builds
END:VALARM
END:VEVENT
BEGIN:VEVENT
UID:smithfieldrecreation-68577722-20250630T190000@quickscores.com
DTSTAMP:20260424T040200Z
DTSTART;TZID=America/Denver:20250630T190000
DURATION:PT1H0M0S
SUMMARY:Dinger Dinos vs. Wright Angle
DESCRIPTION:25 Monday Co-ed League - Smithfield Recreation
LOCATION:West Softball Field
CATEGORIES:QuickScores, Softball - Adult Game
TRANSP:OPAQUE
BEGIN:VALARM
TRIGGER:-PT2H
ACTION:DISPLAY
DESCRIPTION:Dinger Dinos vs. Wright Angle
END:VALARM
END:VEVENT
BEGIN:VEVENT
UID:smithfieldrecreation-68577731-20250707T180000@quickscores.com
DTSTAMP:20260424T040200Z
DTSTART;TZID=America/Denver:20250707T180000
DURATION:PT1H0M0S
SUMMARY:J&J vs. Dinger Dinos
DESCRIPTION:25 Monday Co-ed League - Smithfield Recreation
LOCATION:East Softball Field
CATEGORIES:QuickScores, Softball - Adult Game
TRANSP:OPAQUE
BEGIN:VALARM
TRIGGER:-PT2H
ACTION:DISPLAY
DESCRIPTION:J&J vs. Dinger Dinos
END:VALARM
END:VEVENT
BEGIN:VEVENT
UID:smithfieldrecreation-68577737-20250714T190000@quickscores.com
DTSTAMP:20260424T040200Z
DTSTART;TZID=America/Denver:20250714T190000
DURATION:PT1H0M0S
SUMMARY:Dinger Dinos vs. The Hitters Full
DESCRIPTION:25 Monday Co-ed League - Smithfield Recreation
LOCATION:East Softball Field
CATEGORIES:QuickScores, Softball - Adult Game
TRANSP:OPAQUE
BEGIN:VALARM
TRIGGER:-PT2H
ACTION:DISPLAY
DESCRIPTION:Dinger Dinos vs. The Hitters Full
END:VALARM
END:VEVENT
BEGIN:VEVENT
UID:smithfieldrecreation-68577670-20250721T180000@quickscores.com
DTSTAMP:20260424T040200Z
DTSTART;TZID=America/Denver:20250721T180000
DURATION:PT1H0M0S
SUMMARY:Golden Steps vs. Dinger Dinos
DESCRIPTION:25 Monday Co-ed League - Smithfield Recreation
LOCATION:West Softball Field
CATEGORIES:QuickScores, Softball - Adult Game
TRANSP:OPAQUE
BEGIN:VALARM
TRIGGER:-PT2H
ACTION:DISPLAY
DESCRIPTION:Golden Steps vs. Dinger Dinos
END:VALARM
END:VEVENT
END:VCALENDAR
