BEGIN:VCALENDAR
VERSION:2.0
PRODID:-//QuickScores.com//BQ Dynamic iCal Creator//EN
METHOD:PUBLISH
X-WR-CALNAME:Cracker Jack Kids - 25 Monday Co-ed League - Summer 2025
X-WR-CALDESC:QuickScores game calendar
X-PUBLISHED-TTL:PT24H
REFRESH-INTERVAL;VALUE=DURATION:PT24H
CALSCALE:GREGORIAN
BEGIN:VTIMEZONE
TZID:America/Denver
X-LIC-LOCATION:America/Denver
BEGIN:DAYLIGHT
TZNAME:MDT
TZOFFSETFROM:-0700
TZOFFSETTO:-0600
DTSTART:19700308T020000
RRULE:FREQ=YEARLY;BYMONTH=3;BYDAY=2SU
END:DAYLIGHT
BEGIN:STANDARD
TZNAME:MST
TZOFFSETFROM:-0600
TZOFFSETTO:-0700
DTSTART:19701101T020000
RRULE:FREQ=YEARLY;BYMONTH=11;BYDAY=1SU
END:STANDARD
END:VTIMEZONE
BEGIN:VEVENT
UID:smithfieldrecreation-68577675-20250512T200000@quickscores.com
DTSTAMP:20260422T114300Z
DTSTART;TZID=America/Denver:20250512T200000
DURATION:PT1H0M0S
SUMMARY:Cracker Jack Kids vs. Sky Canyon
DESCRIPTION:25 Monday Co-ed League - Smithfield Recreation
LOCATION:East Softball Field
CATEGORIES:QuickScores, Softball - Adult Game
TRANSP:OPAQUE
BEGIN:VALARM
TRIGGER:-PT2H
ACTION:DISPLAY
DESCRIPTION:Cracker Jack Kids vs. Sky Canyon
END:VALARM
END:VEVENT
BEGIN:VEVENT
UID:smithfieldrecreation-68577681-20250519T210000@quickscores.com
DTSTAMP:20260422T114300Z
DTSTART;TZID=America/Denver:20250519T210000
DURATION:PT1H0M0S
SUMMARY:Wright Angle vs. Cracker Jack Kids
DESCRIPTION:25 Monday Co-ed League - Smithfield Recreation
LOCATION:East Softball Field
CATEGORIES:QuickScores, Softball - Adult Game
TRANSP:OPAQUE
BEGIN:VALARM
TRIGGER:-PT2H
ACTION:DISPLAY
DESCRIPTION:Wright Angle vs. Cracker Jack Kids
END:VALARM
END:VEVENT
BEGIN:VEVENT
UID:smithfieldrecreation-68577692-20250602T200000@quickscores.com
DTSTAMP:20260422T114300Z
DTSTART;TZID=America/Denver:20250602T200000
DURATION:PT1H0M0S
SUMMARY:Cracker Jack Kids vs. Dinger Dinos
DESCRIPTION:25 Monday Co-ed League - Smithfield Recreation
LOCATION:West Softball Field
CATEGORIES:QuickScores, Softball - Adult Game
TRANSP:OPAQUE
BEGIN:VALARM
TRIGGER:-PT2H
ACTION:DISPLAY
DESCRIPTION:Cracker Jack Kids vs. Dinger Dinos
END:VALARM
END:VEVENT
BEGIN:VEVENT
UID:smithfieldrecreation-68577696-20250609T180000@quickscores.com
DTSTAMP:20260422T114300Z
DTSTART;TZID=America/Denver:20250609T180000
DURATION:PT1H0M0S
SUMMARY:Cracker Jack Kids vs. HMH
DESCRIPTION:25 Monday Co-ed League - Smithfield Recreation
LOCATION:West Softball Field
CATEGORIES:QuickScores, Softball - Adult Game
TRANSP:OPAQUE
BEGIN:VALARM
TRIGGER:-PT2H
ACTION:DISPLAY
DESCRIPTION:Cracker Jack Kids vs. HMH
END:VALARM
END:VEVENT
BEGIN:VEVENT
UID:smithfieldrecreation-68577709-20250616T210000@quickscores.com
DTSTAMP:20260422T114300Z
DTSTART;TZID=America/Denver:20250616T210000
DURATION:PT1H0M0S
SUMMARY:Rosebud Appliance vs. Cracker Jack Kids
DESCRIPTION:25 Monday Co-ed League - Smithfield Recreation
LOCATION:East Softball Field
CATEGORIES:QuickScores, Softball - Adult Game
TRANSP:OPAQUE
BEGIN:VALARM
TRIGGER:-PT2H
ACTION:DISPLAY
DESCRIPTION:Rosebud Appliance vs. Cracker Jack Kids
END:VALARM
END:VEVENT
BEGIN:VEVENT
UID:smithfieldrecreation-68577711-20250623T200000@quickscores.com
DTSTAMP:20260422T114300Z
DTSTART;TZID=America/Denver:20250623T200000
DURATION:PT1H0M0S
SUMMARY:Couples Therapy vs. Cracker Jack Kids
DESCRIPTION:25 Monday Co-ed League - Smithfield Recreation
LOCATION:East Softball Field
CATEGORIES:QuickScores, Softball - Adult Game
TRANSP:OPAQUE
BEGIN:VALARM
TRIGGER:-PT2H
ACTION:DISPLAY
DESCRIPTION:Couples Therapy vs. Cracker Jack Kids
END:VALARM
END:VEVENT
BEGIN:VEVENT
UID:smithfieldrecreation-68577726-20250630T210000@quickscores.com
DTSTAMP:20260422T114300Z
DTSTART;TZID=America/Denver:20250630T210000
DURATION:PT1H0M0S
SUMMARY:Cracker Jack Kids vs. Forge Batties
DESCRIPTION:25 Monday Co-ed League - Smithfield Recreation
LOCATION:West Softball Field
CATEGORIES:QuickScores, Softball - Adult Game
TRANSP:OPAQUE
BEGIN:VALARM
TRIGGER:-PT2H
ACTION:DISPLAY
DESCRIPTION:Cracker Jack Kids vs. Forge Batties
END:VALARM
END:VEVENT
BEGIN:VEVENT
UID:smithfieldrecreation-68577728-20250707T180000@quickscores.com
DTSTAMP:20260422T114300Z
DTSTART;TZID=America/Denver:20250707T180000
DURATION:PT1H0M0S
SUMMARY:Cracker Jack Kids vs. Dirty Mitts
DESCRIPTION:25 Monday Co-ed League - Smithfield Recreation
LOCATION:West Softball Field
CATEGORIES:QuickScores, Softball - Adult Game
TRANSP:OPAQUE
BEGIN:VALARM
TRIGGER:-PT2H
ACTION:DISPLAY
DESCRIPTION:Cracker Jack Kids vs. Dirty Mitts
END:VALARM
END:VEVENT
BEGIN:VEVENT
UID:smithfieldrecreation-68577742-20250714T180000@quickscores.com
DTSTAMP:20260422T114300Z
DTSTART;TZID=America/Denver:20250714T180000
DURATION:PT1H0M0S
SUMMARY:CM Lawncare vs. Cracker Jack Kids
DESCRIPTION:25 Monday Co-ed League - Smithfield Recreation
LOCATION:East Softball Field
CATEGORIES:QuickScores, Softball - Adult Game
TRANSP:OPAQUE
BEGIN:VALARM
TRIGGER:-PT2H
ACTION:DISPLAY
DESCRIPTION:CM Lawncare vs. Cracker Jack Kids
END:VALARM
END:VEVENT
BEGIN:VEVENT
UID:smithfieldrecreation-68577666-20250721T190000@quickscores.com
DTSTAMP:20260422T114300Z
DTSTART;TZID=America/Denver:20250721T190000
DURATION:PT1H0M0S
SUMMARY:The Hitters Full vs. Cracker Jack Kids
DESCRIPTION:25 Monday Co-ed League - Smithfield Recreation
LOCATION:West Softball Field
CATEGORIES:QuickScores, Softball - Adult Game
TRANSP:OPAQUE
BEGIN:VALARM
TRIGGER:-PT2H
ACTION:DISPLAY
DESCRIPTION:The Hitters Full vs. Cracker Jack Kids
END:VALARM
END:VEVENT
END:VCALENDAR
