BEGIN:VCALENDAR
VERSION:2.0
PRODID:-//QuickScores.com//BQ Dynamic iCal Creator//EN
METHOD:PUBLISH
X-WR-CALNAME:CM Lawncare - 25 Monday Co-ed League - Summer 2025
X-WR-CALDESC:QuickScores game calendar
X-PUBLISHED-TTL:PT24H
REFRESH-INTERVAL;VALUE=DURATION:PT24H
CALSCALE:GREGORIAN
BEGIN:VTIMEZONE
TZID:America/Denver
X-LIC-LOCATION:America/Denver
BEGIN:DAYLIGHT
TZNAME:MDT
TZOFFSETFROM:-0700
TZOFFSETTO:-0600
DTSTART:19700308T020000
RRULE:FREQ=YEARLY;BYMONTH=3;BYDAY=2SU
END:DAYLIGHT
BEGIN:STANDARD
TZNAME:MST
TZOFFSETFROM:-0600
TZOFFSETTO:-0700
DTSTART:19701101T020000
RRULE:FREQ=YEARLY;BYMONTH=11;BYDAY=1SU
END:STANDARD
END:VTIMEZONE
BEGIN:VEVENT
UID:smithfieldrecreation-68577674-20250512T190000@quickscores.com
DTSTAMP:20260424T083200Z
DTSTART;TZID=America/Denver:20250512T190000
DURATION:PT1H0M0S
SUMMARY:CM Lawncare vs. Gunsight Farms
DESCRIPTION:25 Monday Co-ed League - Smithfield Recreation
LOCATION:West Softball Field
CATEGORIES:QuickScores, Softball - Adult Game
TRANSP:OPAQUE
BEGIN:VALARM
TRIGGER:-PT2H
ACTION:DISPLAY
DESCRIPTION:CM Lawncare vs. Gunsight Farms
END:VALARM
END:VEVENT
BEGIN:VEVENT
UID:smithfieldrecreation-68577680-20250519T180000@quickscores.com
DTSTAMP:20260424T083200Z
DTSTART;TZID=America/Denver:20250519T180000
DURATION:PT1H0M0S
SUMMARY:J&J vs. CM Lawncare
DESCRIPTION:25 Monday Co-ed League - Smithfield Recreation
LOCATION:West Softball Field
CATEGORIES:QuickScores, Softball - Adult Game
TRANSP:OPAQUE
BEGIN:VALARM
TRIGGER:-PT2H
ACTION:DISPLAY
DESCRIPTION:J&J vs. CM Lawncare
END:VALARM
END:VEVENT
BEGIN:VEVENT
UID:smithfieldrecreation-68577691-20250602T200000@quickscores.com
DTSTAMP:20260424T083200Z
DTSTART;TZID=America/Denver:20250602T200000
DURATION:PT1H0M0S
SUMMARY:Amalga 3rd Ward vs. CM Lawncare
DESCRIPTION:25 Monday Co-ed League - Smithfield Recreation
LOCATION:East Softball Field
CATEGORIES:QuickScores, Softball - Adult Game
TRANSP:OPAQUE
BEGIN:VALARM
TRIGGER:-PT2H
ACTION:DISPLAY
DESCRIPTION:Amalga 3rd Ward vs. CM Lawncare
END:VALARM
END:VEVENT
BEGIN:VEVENT
UID:smithfieldrecreation-68577695-20250609T190000@quickscores.com
DTSTAMP:20260424T083200Z
DTSTART;TZID=America/Denver:20250609T190000
DURATION:PT1H0M0S
SUMMARY:Couples Therapy vs. CM Lawncare
DESCRIPTION:25 Monday Co-ed League - Smithfield Recreation
LOCATION:East Softball Field
CATEGORIES:QuickScores, Softball - Adult Game
TRANSP:OPAQUE
BEGIN:VALARM
TRIGGER:-PT2H
ACTION:DISPLAY
DESCRIPTION:Couples Therapy vs. CM Lawncare
END:VALARM
END:VEVENT
BEGIN:VEVENT
UID:smithfieldrecreation-68577708-20250616T210000@quickscores.com
DTSTAMP:20260424T083200Z
DTSTART;TZID=America/Denver:20250616T210000
DURATION:PT1H0M0S
SUMMARY:Golden Steps vs. CM Lawncare
DESCRIPTION:25 Monday Co-ed League - Smithfield Recreation
LOCATION:West Softball Field
CATEGORIES:QuickScores, Softball - Adult Game
TRANSP:OPAQUE
BEGIN:VALARM
TRIGGER:-PT2H
ACTION:DISPLAY
DESCRIPTION:Golden Steps vs. CM Lawncare
END:VALARM
END:VEVENT
BEGIN:VEVENT
UID:smithfieldrecreation-68577712-20250623T180000@quickscores.com
DTSTAMP:20260424T083200Z
DTSTART;TZID=America/Denver:20250623T180000
DURATION:PT1H0M0S
SUMMARY:Forge Batties vs. CM Lawncare
DESCRIPTION:25 Monday Co-ed League - Smithfield Recreation
LOCATION:West Softball Field
CATEGORIES:QuickScores, Softball - Adult Game
TRANSP:OPAQUE
BEGIN:VALARM
TRIGGER:-PT2H
ACTION:DISPLAY
DESCRIPTION:Forge Batties vs. CM Lawncare
END:VALARM
END:VEVENT
BEGIN:VEVENT
UID:smithfieldrecreation-68577725-20250630T210000@quickscores.com
DTSTAMP:20260424T083200Z
DTSTART;TZID=America/Denver:20250630T210000
DURATION:PT1H0M0S
SUMMARY:CM Lawncare vs. Dirty Mitts
DESCRIPTION:25 Monday Co-ed League - Smithfield Recreation
LOCATION:East Softball Field
CATEGORIES:QuickScores, Softball - Adult Game
TRANSP:OPAQUE
BEGIN:VALARM
TRIGGER:-PT2H
ACTION:DISPLAY
DESCRIPTION:CM Lawncare vs. Dirty Mitts
END:VALARM
END:VEVENT
BEGIN:VEVENT
UID:smithfieldrecreation-68577730-20250707T200000@quickscores.com
DTSTAMP:20260424T083200Z
DTSTART;TZID=America/Denver:20250707T200000
DURATION:PT1H0M0S
SUMMARY:HMH vs. CM Lawncare
DESCRIPTION:25 Monday Co-ed League - Smithfield Recreation
LOCATION:East Softball Field
CATEGORIES:QuickScores, Softball - Adult Game
TRANSP:OPAQUE
BEGIN:VALARM
TRIGGER:-PT2H
ACTION:DISPLAY
DESCRIPTION:HMH vs. CM Lawncare
END:VALARM
END:VEVENT
BEGIN:VEVENT
UID:smithfieldrecreation-68577742-20250714T180000@quickscores.com
DTSTAMP:20260424T083200Z
DTSTART;TZID=America/Denver:20250714T180000
DURATION:PT1H0M0S
SUMMARY:CM Lawncare vs. Cracker Jack Kids
DESCRIPTION:25 Monday Co-ed League - Smithfield Recreation
LOCATION:East Softball Field
CATEGORIES:QuickScores, Softball - Adult Game
TRANSP:OPAQUE
BEGIN:VALARM
TRIGGER:-PT2H
ACTION:DISPLAY
DESCRIPTION:CM Lawncare vs. Cracker Jack Kids
END:VALARM
END:VEVENT
BEGIN:VEVENT
UID:smithfieldrecreation-68577665-20250721T200000@quickscores.com
DTSTAMP:20260424T083200Z
DTSTART;TZID=America/Denver:20250721T200000
DURATION:PT1H0M0S
SUMMARY:CM Lawncare vs. Bennett Builds
DESCRIPTION:25 Monday Co-ed League - Smithfield Recreation
LOCATION:West Softball Field
CATEGORIES:QuickScores, Softball - Adult Game
TRANSP:OPAQUE
BEGIN:VALARM
TRIGGER:-PT2H
ACTION:DISPLAY
DESCRIPTION:CM Lawncare vs. Bennett Builds
END:VALARM
END:VEVENT
END:VCALENDAR
