BEGIN:VCALENDAR
VERSION:2.0
PRODID:-//QuickScores.com//BQ Dynamic iCal Creator//EN
METHOD:PUBLISH
X-WR-CALNAME:Twisted Keys - 25 Winter League Thurs. Nights - Winter 25
X-WR-CALDESC:QuickScores game calendar
X-PUBLISHED-TTL:PT24H
REFRESH-INTERVAL;VALUE=DURATION:PT24H
CALSCALE:GREGORIAN
BEGIN:VTIMEZONE
TZID:America/Denver
X-LIC-LOCATION:America/Denver
BEGIN:DAYLIGHT
TZNAME:MDT
TZOFFSETFROM:-0700
TZOFFSETTO:-0600
DTSTART:19700308T020000
RRULE:FREQ=YEARLY;BYMONTH=3;BYDAY=2SU
END:DAYLIGHT
BEGIN:STANDARD
TZNAME:MST
TZOFFSETFROM:-0600
TZOFFSETTO:-0700
DTSTART:19701101T020000
RRULE:FREQ=YEARLY;BYMONTH=11;BYDAY=1SU
END:STANDARD
END:VTIMEZONE
BEGIN:VEVENT
UID:smithfieldrecreation-66450734-20250109T210000@quickscores.com
DTSTAMP:20260425T152700Z
DTSTART;TZID=America/Denver:20250109T210000
DURATION:PT1H0M0S
SUMMARY:Nacho LiBros vs. Twisted Keys
DESCRIPTION:25 Winter League Thurs. Nights - Smithfield Recreation
LOCATION:Bobcat Gym
CATEGORIES:QuickScores, Basketball - Adult Game
TRANSP:OPAQUE
BEGIN:VALARM
TRIGGER:-PT2H
ACTION:DISPLAY
DESCRIPTION:Nacho LiBros vs. Twisted Keys
END:VALARM
END:VEVENT
BEGIN:VEVENT
UID:smithfieldrecreation-66450740-20250116T200000@quickscores.com
DTSTAMP:20260425T152700Z
DTSTART;TZID=America/Denver:20250116T200000
DURATION:PT1H0M0S
SUMMARY:Tyson Luthi State Farm vs. Twisted Keys
DESCRIPTION:25 Winter League Thurs. Nights - Smithfield Recreation
LOCATION:Multi-Purpose North Gym
CATEGORIES:QuickScores, Basketball - Adult Game
TRANSP:OPAQUE
BEGIN:VALARM
TRIGGER:-PT2H
ACTION:DISPLAY
DESCRIPTION:Tyson Luthi State Farm vs. Twisted Keys
END:VALARM
END:VEVENT
BEGIN:VEVENT
UID:smithfieldrecreation-66450746-20250123T200000@quickscores.com
DTSTAMP:20260425T152700Z
DTSTART;TZID=America/Denver:20250123T200000
DURATION:PT1H0M0S
SUMMARY:Twisted Keys vs. The Super Soakers
DESCRIPTION:25 Winter League Thurs. Nights - Smithfield Recreation
LOCATION:Multi-Purpose North Gym
CATEGORIES:QuickScores, Basketball - Adult Game
TRANSP:OPAQUE
BEGIN:VALARM
TRIGGER:-PT2H
ACTION:DISPLAY
DESCRIPTION:Twisted Keys vs. The Super Soakers
END:VALARM
END:VEVENT
BEGIN:VEVENT
UID:smithfieldrecreation-66450752-20250130T200000@quickscores.com
DTSTAMP:20260425T152700Z
DTSTART;TZID=America/Denver:20250130T200000
DURATION:PT1H0M0S
SUMMARY:Twisted Keys vs. Tom's Team
DESCRIPTION:25 Winter League Thurs. Nights - Smithfield Recreation
LOCATION:Bobcat Gym
CATEGORIES:QuickScores, Basketball - Adult Game
TRANSP:OPAQUE
BEGIN:VALARM
TRIGGER:-PT2H
ACTION:DISPLAY
DESCRIPTION:Twisted Keys vs. Tom's Team
END:VALARM
END:VEVENT
BEGIN:VEVENT
UID:smithfieldrecreation-66450758-20250206T210000@quickscores.com
DTSTAMP:20260425T152700Z
DTSTART;TZID=America/Denver:20250206T210000
DURATION:PT1H0M0S
SUMMARY:Twisted Keys vs. Rees Farms
DESCRIPTION:25 Winter League Thurs. Nights - Smithfield Recreation
LOCATION:Multi-Purpose North Gym
CATEGORIES:QuickScores, Basketball - Adult Game
TRANSP:OPAQUE
BEGIN:VALARM
TRIGGER:-PT2H
ACTION:DISPLAY
DESCRIPTION:Twisted Keys vs. Rees Farms
END:VALARM
END:VEVENT
BEGIN:VEVENT
UID:smithfieldrecreation-66450764-20250213T180000@quickscores.com
DTSTAMP:20260425T152700Z
DTSTART;TZID=America/Denver:20250213T180000
DURATION:PT1H0M0S
SUMMARY:Backdoor Ballers vs. Twisted Keys
DESCRIPTION:25 Winter League Thurs. Nights - Smithfield Recreation
LOCATION:Bobcat Gym
CATEGORIES:QuickScores, Basketball - Adult Game
TRANSP:OPAQUE
BEGIN:VALARM
TRIGGER:-PT2H
ACTION:DISPLAY
DESCRIPTION:Backdoor Ballers vs. Twisted Keys
END:VALARM
END:VEVENT
BEGIN:VEVENT
UID:smithfieldrecreation-66450770-20250220T180000@quickscores.com
DTSTAMP:20260425T152700Z
DTSTART;TZID=America/Denver:20250220T180000
DURATION:PT1H0M0S
SUMMARY:Twisted Keys vs. Garbage Minutes
DESCRIPTION:25 Winter League Thurs. Nights - Smithfield Recreation
LOCATION:Bobcat Gym
CATEGORIES:QuickScores, Basketball - Adult Game
TRANSP:OPAQUE
BEGIN:VALARM
TRIGGER:-PT2H
ACTION:DISPLAY
DESCRIPTION:Twisted Keys vs. Garbage Minutes
END:VALARM
END:VEVENT
BEGIN:VEVENT
UID:smithfieldrecreation-67162494-20250227T180000@quickscores.com
DTSTAMP:20260425T152700Z
DTSTART;TZID=America/Denver:20250227T180000
DURATION:PT1H0M0S
SUMMARY:[8] Twisted Keys vs. [9] Backdoor Ballers
DESCRIPTION:25 Winter League Thurs. Nights - Smithfield Recreation
LOCATION:Bobcat Gym
CATEGORIES:QuickScores, Basketball - Adult Game
TRANSP:OPAQUE
BEGIN:VALARM
TRIGGER:-PT2H
ACTION:DISPLAY
DESCRIPTION:[8] Twisted Keys vs. [9] Backdoor Ballers
END:VALARM
END:VEVENT
END:VCALENDAR
