BEGIN:VCALENDAR
VERSION:2.0
PRODID:-//QuickScores.com//BQ Dynamic iCal Creator//EN
METHOD:PUBLISH
X-WR-CALNAME:Rees Farms - 25 Winter League Thurs. Nights - Winter 25
X-WR-CALDESC:QuickScores game calendar
X-PUBLISHED-TTL:PT24H
REFRESH-INTERVAL;VALUE=DURATION:PT24H
CALSCALE:GREGORIAN
BEGIN:VTIMEZONE
TZID:America/Denver
X-LIC-LOCATION:America/Denver
BEGIN:DAYLIGHT
TZNAME:MDT
TZOFFSETFROM:-0700
TZOFFSETTO:-0600
DTSTART:19700308T020000
RRULE:FREQ=YEARLY;BYMONTH=3;BYDAY=2SU
END:DAYLIGHT
BEGIN:STANDARD
TZNAME:MST
TZOFFSETFROM:-0600
TZOFFSETTO:-0700
DTSTART:19701101T020000
RRULE:FREQ=YEARLY;BYMONTH=11;BYDAY=1SU
END:STANDARD
END:VTIMEZONE
BEGIN:VEVENT
UID:smithfieldrecreation-66450736-20250109T200000@quickscores.com
DTSTAMP:20260423T054500Z
DTSTART;TZID=America/Denver:20250109T200000
DURATION:PT1H0M0S
SUMMARY:Tom's Team vs. Rees Farms
DESCRIPTION:25 Winter League Thurs. Nights - Smithfield Recreation
LOCATION:Bobcat Gym
CATEGORIES:QuickScores, Basketball - Adult Game
TRANSP:OPAQUE
BEGIN:VALARM
TRIGGER:-PT2H
ACTION:DISPLAY
DESCRIPTION:Tom's Team vs. Rees Farms
END:VALARM
END:VEVENT
BEGIN:VEVENT
UID:smithfieldrecreation-66450743-20250116T190000@quickscores.com
DTSTAMP:20260423T054500Z
DTSTART;TZID=America/Denver:20250116T190000
DURATION:PT1H0M0S
SUMMARY:Rees Farms vs. E3
DESCRIPTION:25 Winter League Thurs. Nights - Smithfield Recreation
LOCATION:Bobcat Gym
CATEGORIES:QuickScores, Basketball - Adult Game
TRANSP:OPAQUE
BEGIN:VALARM
TRIGGER:-PT2H
ACTION:DISPLAY
DESCRIPTION:Rees Farms vs. E3
END:VALARM
END:VEVENT
BEGIN:VEVENT
UID:smithfieldrecreation-66450747-20250123T180000@quickscores.com
DTSTAMP:20260423T054500Z
DTSTART;TZID=America/Denver:20250123T180000
DURATION:PT1H0M0S
SUMMARY:Nacho LiBros vs. Rees Farms
DESCRIPTION:25 Winter League Thurs. Nights - Smithfield Recreation
LOCATION:Bobcat Gym
CATEGORIES:QuickScores, Basketball - Adult Game
TRANSP:OPAQUE
BEGIN:VALARM
TRIGGER:-PT2H
ACTION:DISPLAY
DESCRIPTION:Nacho LiBros vs. Rees Farms
END:VALARM
END:VEVENT
BEGIN:VEVENT
UID:smithfieldrecreation-66450756-20250130T210000@quickscores.com
DTSTAMP:20260423T054500Z
DTSTART;TZID=America/Denver:20250130T210000
DURATION:PT1H0M0S
SUMMARY:Rees Farms vs. Pistoleros
DESCRIPTION:25 Winter League Thurs. Nights - Smithfield Recreation
LOCATION:Bobcat Gym
CATEGORIES:QuickScores, Basketball - Adult Game
TRANSP:OPAQUE
BEGIN:VALARM
TRIGGER:-PT2H
ACTION:DISPLAY
DESCRIPTION:Rees Farms vs. Pistoleros
END:VALARM
END:VEVENT
BEGIN:VEVENT
UID:smithfieldrecreation-66450758-20250206T210000@quickscores.com
DTSTAMP:20260423T054500Z
DTSTART;TZID=America/Denver:20250206T210000
DURATION:PT1H0M0S
SUMMARY:Twisted Keys vs. Rees Farms
DESCRIPTION:25 Winter League Thurs. Nights - Smithfield Recreation
LOCATION:Multi-Purpose North Gym
CATEGORIES:QuickScores, Basketball - Adult Game
TRANSP:OPAQUE
BEGIN:VALARM
TRIGGER:-PT2H
ACTION:DISPLAY
DESCRIPTION:Twisted Keys vs. Rees Farms
END:VALARM
END:VEVENT
BEGIN:VEVENT
UID:smithfieldrecreation-66450769-20250213T190000@quickscores.com
DTSTAMP:20260423T054500Z
DTSTART;TZID=America/Denver:20250213T190000
DURATION:PT1H0M0S
SUMMARY:Rees Farms vs. Garbage Minutes
DESCRIPTION:25 Winter League Thurs. Nights - Smithfield Recreation
LOCATION:Bobcat Gym
CATEGORIES:QuickScores, Basketball - Adult Game
TRANSP:OPAQUE
BEGIN:VALARM
TRIGGER:-PT2H
ACTION:DISPLAY
DESCRIPTION:Rees Farms vs. Garbage Minutes
END:VALARM
END:VEVENT
BEGIN:VEVENT
UID:smithfieldrecreation-66450771-20250220T200000@quickscores.com
DTSTAMP:20260423T054500Z
DTSTART;TZID=America/Denver:20250220T200000
DURATION:PT1H0M0S
SUMMARY:Idaho vs. Rees Farms
DESCRIPTION:25 Winter League Thurs. Nights - Smithfield Recreation
LOCATION:Multi-Purpose North Gym
CATEGORIES:QuickScores, Basketball - Adult Game
TRANSP:OPAQUE
BEGIN:VALARM
TRIGGER:-PT2H
ACTION:DISPLAY
DESCRIPTION:Idaho vs. Rees Farms
END:VALARM
END:VEVENT
BEGIN:VEVENT
UID:smithfieldrecreation-67162498-20250227T180000@quickscores.com
DTSTAMP:20260423T054500Z
DTSTART;TZID=America/Denver:20250227T180000
DURATION:PT1H0M0S
SUMMARY:[7] Rees Farms vs. [10] E3
DESCRIPTION:25 Winter League Thurs. Nights - Smithfield Recreation
LOCATION:Multi-Purpose North Gym
CATEGORIES:QuickScores, Basketball - Adult Game
TRANSP:OPAQUE
BEGIN:VALARM
TRIGGER:-PT2H
ACTION:DISPLAY
DESCRIPTION:[7] Rees Farms vs. [10] E3
END:VALARM
END:VEVENT
BEGIN:VEVENT
UID:smithfieldrecreation-67162503-20250227T190000@quickscores.com
DTSTAMP:20260423T054500Z
DTSTART;TZID=America/Denver:20250227T190000
DURATION:PT1H0M0S
SUMMARY:[2] Idaho vs. [7] Rees Farms
DESCRIPTION:25 Winter League Thurs. Nights - Smithfield Recreation
LOCATION:Multi-Purpose North Gym
CATEGORIES:QuickScores, Basketball - Adult Game
TRANSP:OPAQUE
BEGIN:VALARM
TRIGGER:-PT2H
ACTION:DISPLAY
DESCRIPTION:[2] Idaho vs. [7] Rees Farms
END:VALARM
END:VEVENT
BEGIN:VEVENT
UID:smithfieldrecreation-67162506-20250306T202500@quickscores.com
DTSTAMP:20260423T054500Z
DTSTART;TZID=America/Denver:20250306T202500
DURATION:PT0H55M0S
SUMMARY:[7] Rees Farms vs. [3] Tom's Team
DESCRIPTION:25 Winter League Thurs. Nights - Smithfield Recreation
LOCATION:Spectator Gym
CATEGORIES:QuickScores, Basketball - Adult Game
TRANSP:OPAQUE
BEGIN:VALARM
TRIGGER:-PT2H
ACTION:DISPLAY
DESCRIPTION:[7] Rees Farms vs. [3] Tom's Team
END:VALARM
END:VEVENT
END:VCALENDAR
