BEGIN:VCALENDAR
VERSION:2.0
PRODID:-//QuickScores.com//BQ Dynamic iCal Creator//EN
METHOD:PUBLISH
X-WR-CALNAME:Athletics: Whitaker - T Ball - Summer 2024
X-WR-CALDESC:QuickScores game calendar
X-PUBLISHED-TTL:PT24H
REFRESH-INTERVAL;VALUE=DURATION:PT24H
CALSCALE:GREGORIAN
BEGIN:VTIMEZONE
TZID:America/Denver
X-LIC-LOCATION:America/Denver
BEGIN:DAYLIGHT
TZNAME:MDT
TZOFFSETFROM:-0700
TZOFFSETTO:-0600
DTSTART:19700308T020000
RRULE:FREQ=YEARLY;BYMONTH=3;BYDAY=2SU
END:DAYLIGHT
BEGIN:STANDARD
TZNAME:MST
TZOFFSETFROM:-0600
TZOFFSETTO:-0700
DTSTART:19701101T020000
RRULE:FREQ=YEARLY;BYMONTH=11;BYDAY=1SU
END:STANDARD
END:VTIMEZONE
BEGIN:VEVENT
UID:smithfieldrecreation-63605953-20240604T200000@quickscores.com
DTSTAMP:20260425T075400Z
DTSTART;TZID=America/Denver:20240604T200000
DURATION:PT1H0M0S
SUMMARY:Athletics: Whitaker vs. Astros: Shill
DESCRIPTION:T Ball - Smithfield Recreation
LOCATION:West Field South
CATEGORIES:QuickScores, Baseball - Youth Game
TRANSP:OPAQUE
BEGIN:VALARM
TRIGGER:-PT2H
ACTION:DISPLAY
DESCRIPTION:Athletics: Whitaker vs. Astros: Shill
END:VALARM
END:VEVENT
BEGIN:VEVENT
UID:smithfieldrecreation-63605960-20240606T173000@quickscores.com
DTSTAMP:20260425T075400Z
DTSTART;TZID=America/Denver:20240606T173000
DURATION:PT1H0M0S
SUMMARY:Mariners: Anderson vs. Athletics: Whitaker
DESCRIPTION:T Ball - Smithfield Recreation
LOCATION:West Field North
CATEGORIES:QuickScores, Baseball - Youth Game
TRANSP:OPAQUE
BEGIN:VALARM
TRIGGER:-PT2H
ACTION:DISPLAY
DESCRIPTION:Mariners: Anderson vs. Athletics: Whitaker
END:VALARM
END:VEVENT
BEGIN:VEVENT
UID:smithfieldrecreation-63605966-20240611T190000@quickscores.com
DTSTAMP:20260425T075400Z
DTSTART;TZID=America/Denver:20240611T190000
DURATION:PT1H0M0S
SUMMARY:Athletics: Whitaker vs. Brewers: Gomm
DESCRIPTION:T Ball - Smithfield Recreation
LOCATION:West Field South
CATEGORIES:QuickScores, Baseball - Youth Game
TRANSP:OPAQUE
BEGIN:VALARM
TRIGGER:-PT2H
ACTION:DISPLAY
DESCRIPTION:Athletics: Whitaker vs. Brewers: Gomm
END:VALARM
END:VEVENT
BEGIN:VEVENT
UID:smithfieldrecreation-63605973-20240613T183000@quickscores.com
DTSTAMP:20260425T075400Z
DTSTART;TZID=America/Denver:20240613T183000
DURATION:PT1H0M0S
SUMMARY:Giants: Finlinson vs. Athletics: Whitaker
DESCRIPTION:T Ball - Smithfield Recreation
LOCATION:West Field North
CATEGORIES:QuickScores, Baseball - Youth Game
TRANSP:OPAQUE
BEGIN:VALARM
TRIGGER:-PT2H
ACTION:DISPLAY
DESCRIPTION:Giants: Finlinson vs. Athletics: Whitaker
END:VALARM
END:VEVENT
BEGIN:VEVENT
UID:smithfieldrecreation-63605979-20240618T180000@quickscores.com
DTSTAMP:20260425T075400Z
DTSTART;TZID=America/Denver:20240618T180000
DURATION:PT1H0M0S
SUMMARY:Athletics: Whitaker vs. Dodgers: Madsen
DESCRIPTION:T Ball - Smithfield Recreation
LOCATION:West Field South
CATEGORIES:QuickScores, Baseball - Youth Game
TRANSP:OPAQUE
BEGIN:VALARM
TRIGGER:-PT2H
ACTION:DISPLAY
DESCRIPTION:Athletics: Whitaker vs. Dodgers: Madsen
END:VALARM
END:VEVENT
BEGIN:VEVENT
UID:smithfieldrecreation-63605986-20240620T180000@quickscores.com
DTSTAMP:20260425T075400Z
DTSTART;TZID=America/Denver:20240620T180000
DURATION:PT1H0M0S
SUMMARY:Cardinals: Winn vs. Athletics: Whitaker
DESCRIPTION:T Ball - Smithfield Recreation
LOCATION:West Field South
CATEGORIES:QuickScores, Baseball - Youth Game
TRANSP:OPAQUE
BEGIN:VALARM
TRIGGER:-PT2H
ACTION:DISPLAY
DESCRIPTION:Cardinals: Winn vs. Athletics: Whitaker
END:VALARM
END:VEVENT
BEGIN:VEVENT
UID:smithfieldrecreation-63605992-20240625T193000@quickscores.com
DTSTAMP:20260425T075400Z
DTSTART;TZID=America/Denver:20240625T193000
DURATION:PT1H0M0S
SUMMARY:Padres: Kooyman vs. Athletics: Whitaker
DESCRIPTION:T Ball - Smithfield Recreation
LOCATION:West Field North
CATEGORIES:QuickScores, Baseball - Youth Game
TRANSP:OPAQUE
BEGIN:VALARM
TRIGGER:-PT2H
ACTION:DISPLAY
DESCRIPTION:Padres: Kooyman vs. Athletics: Whitaker
END:VALARM
END:VEVENT
BEGIN:VEVENT
UID:smithfieldrecreation-63605999-20240627T193000@quickscores.com
DTSTAMP:20260425T075400Z
DTSTART;TZID=America/Denver:20240627T193000
DURATION:PT1H0M0S
SUMMARY:Athletics: Whitaker vs. Rockies: Ochsenbein
DESCRIPTION:T Ball - Smithfield Recreation
LOCATION:West Field North
CATEGORIES:QuickScores, Baseball - Youth Game
TRANSP:OPAQUE
BEGIN:VALARM
TRIGGER:-PT2H
ACTION:DISPLAY
DESCRIPTION:Athletics: Whitaker vs. Rockies: Ochsenbein
END:VALARM
END:VEVENT
END:VCALENDAR
