BEGIN:VCALENDAR
VERSION:2.0
PRODID:-//QuickScores.com//BQ Dynamic iCal Creator//EN
METHOD:PUBLISH
X-WR-CALNAME:Diamondbacks: Smith - T Ball - Summer 2024
X-WR-CALDESC:QuickScores game calendar
X-PUBLISHED-TTL:PT24H
REFRESH-INTERVAL;VALUE=DURATION:PT24H
CALSCALE:GREGORIAN
BEGIN:VTIMEZONE
TZID:America/Denver
X-LIC-LOCATION:America/Denver
BEGIN:DAYLIGHT
TZNAME:MDT
TZOFFSETFROM:-0700
TZOFFSETTO:-0600
DTSTART:19700308T020000
RRULE:FREQ=YEARLY;BYMONTH=3;BYDAY=2SU
END:DAYLIGHT
BEGIN:STANDARD
TZNAME:MST
TZOFFSETFROM:-0600
TZOFFSETTO:-0700
DTSTART:19701101T020000
RRULE:FREQ=YEARLY;BYMONTH=11;BYDAY=1SU
END:STANDARD
END:VTIMEZONE
BEGIN:VEVENT
UID:smithfieldrecreation-63605956-20240604T190000@quickscores.com
DTSTAMP:20260425T153200Z
DTSTART;TZID=America/Denver:20240604T190000
DURATION:PT1H0M0S
SUMMARY:Rockies: Ochsenbein vs. Diamondbacks: Smith
DESCRIPTION:T Ball - Smithfield Recreation
LOCATION:West Field South
CATEGORIES:QuickScores, Baseball - Youth Game
TRANSP:OPAQUE
BEGIN:VALARM
TRIGGER:-PT2H
ACTION:DISPLAY
DESCRIPTION:Rockies: Ochsenbein vs. Diamondbacks: Smith
END:VALARM
END:VEVENT
BEGIN:VEVENT
UID:smithfieldrecreation-63605961-20240606T183000@quickscores.com
DTSTAMP:20260425T153200Z
DTSTART;TZID=America/Denver:20240606T183000
DURATION:PT1H0M0S
SUMMARY:Rangers: McDanel vs. Diamondbacks: Smith
DESCRIPTION:T Ball - Smithfield Recreation
LOCATION:West Field North
CATEGORIES:QuickScores, Baseball - Youth Game
TRANSP:OPAQUE
BEGIN:VALARM
TRIGGER:-PT2H
ACTION:DISPLAY
DESCRIPTION:Rangers: McDanel vs. Diamondbacks: Smith
END:VALARM
END:VEVENT
BEGIN:VEVENT
UID:smithfieldrecreation-63605969-20240611T183000@quickscores.com
DTSTAMP:20260425T153200Z
DTSTART;TZID=America/Denver:20240611T183000
DURATION:PT1H0M0S
SUMMARY:Diamondbacks: Smith vs. Cardinals: Winn
DESCRIPTION:T Ball - Smithfield Recreation
LOCATION:West Field North
CATEGORIES:QuickScores, Baseball - Youth Game
TRANSP:OPAQUE
BEGIN:VALARM
TRIGGER:-PT2H
ACTION:DISPLAY
DESCRIPTION:Diamondbacks: Smith vs. Cardinals: Winn
END:VALARM
END:VEVENT
BEGIN:VEVENT
UID:smithfieldrecreation-63605972-20240613T173000@quickscores.com
DTSTAMP:20260425T153200Z
DTSTART;TZID=America/Denver:20240613T173000
DURATION:PT1H0M0S
SUMMARY:Diamondbacks: Smith vs. Royals: Ringler
DESCRIPTION:T Ball - Smithfield Recreation
LOCATION:West Field North
CATEGORIES:QuickScores, Baseball - Youth Game
TRANSP:OPAQUE
BEGIN:VALARM
TRIGGER:-PT2H
ACTION:DISPLAY
DESCRIPTION:Diamondbacks: Smith vs. Royals: Ringler
END:VALARM
END:VEVENT
BEGIN:VEVENT
UID:smithfieldrecreation-63605982-20240618T193000@quickscores.com
DTSTAMP:20260425T153200Z
DTSTART;TZID=America/Denver:20240618T193000
DURATION:PT1H0M0S
SUMMARY:Diamondbacks: Smith vs. Giants: Finlinson
DESCRIPTION:T Ball - Smithfield Recreation
LOCATION:West Field North
CATEGORIES:QuickScores, Baseball - Youth Game
TRANSP:OPAQUE
BEGIN:VALARM
TRIGGER:-PT2H
ACTION:DISPLAY
DESCRIPTION:Diamondbacks: Smith vs. Giants: Finlinson
END:VALARM
END:VEVENT
BEGIN:VEVENT
UID:smithfieldrecreation-63605983-20240620T190000@quickscores.com
DTSTAMP:20260425T153200Z
DTSTART;TZID=America/Denver:20240620T190000
DURATION:PT1H0M0S
SUMMARY:Diamondbacks: Smith vs. Astros: Shill
DESCRIPTION:T Ball - Smithfield Recreation
LOCATION:West Field South
CATEGORIES:QuickScores, Baseball - Youth Game
TRANSP:OPAQUE
BEGIN:VALARM
TRIGGER:-PT2H
ACTION:DISPLAY
DESCRIPTION:Diamondbacks: Smith vs. Astros: Shill
END:VALARM
END:VEVENT
BEGIN:VEVENT
UID:smithfieldrecreation-63605994-20240625T200000@quickscores.com
DTSTAMP:20260425T153200Z
DTSTART;TZID=America/Denver:20240625T200000
DURATION:PT1H0M0S
SUMMARY:Mariners: Anderson vs. Diamondbacks: Smith
DESCRIPTION:T Ball - Smithfield Recreation
LOCATION:West Field South
CATEGORIES:QuickScores, Baseball - Youth Game
TRANSP:OPAQUE
BEGIN:VALARM
TRIGGER:-PT2H
ACTION:DISPLAY
DESCRIPTION:Mariners: Anderson vs. Diamondbacks: Smith
END:VALARM
END:VEVENT
BEGIN:VEVENT
UID:smithfieldrecreation-63605996-20240627T180000@quickscores.com
DTSTAMP:20260425T153200Z
DTSTART;TZID=America/Denver:20240627T180000
DURATION:PT1H0M0S
SUMMARY:Padres: Kooyman vs. Diamondbacks: Smith
DESCRIPTION:T Ball - Smithfield Recreation
LOCATION:West Field South
CATEGORIES:QuickScores, Baseball - Youth Game
TRANSP:OPAQUE
BEGIN:VALARM
TRIGGER:-PT2H
ACTION:DISPLAY
DESCRIPTION:Padres: Kooyman vs. Diamondbacks: Smith
END:VALARM
END:VEVENT
END:VCALENDAR
