BEGIN:VCALENDAR
VERSION:2.0
PRODID:-//QuickScores.com//BQ Dynamic iCal Creator//EN
METHOD:PUBLISH
X-WR-CALNAME:Giants: Finlinson - T Ball - Summer 2024
X-WR-CALDESC:QuickScores game calendar
X-PUBLISHED-TTL:PT24H
REFRESH-INTERVAL;VALUE=DURATION:PT24H
CALSCALE:GREGORIAN
BEGIN:VTIMEZONE
TZID:America/Denver
X-LIC-LOCATION:America/Denver
BEGIN:DAYLIGHT
TZNAME:MDT
TZOFFSETFROM:-0700
TZOFFSETTO:-0600
DTSTART:19700308T020000
RRULE:FREQ=YEARLY;BYMONTH=3;BYDAY=2SU
END:DAYLIGHT
BEGIN:STANDARD
TZNAME:MST
TZOFFSETFROM:-0600
TZOFFSETTO:-0700
DTSTART:19701101T020000
RRULE:FREQ=YEARLY;BYMONTH=11;BYDAY=1SU
END:STANDARD
END:VTIMEZONE
BEGIN:VEVENT
UID:smithfieldrecreation-63605957-20240604T183000@quickscores.com
DTSTAMP:20260425T075300Z
DTSTART;TZID=America/Denver:20240604T183000
DURATION:PT1H0M0S
SUMMARY:Dodgers: Madsen vs. Giants: Finlinson
DESCRIPTION:T Ball - Smithfield Recreation
LOCATION:West Field North
CATEGORIES:QuickScores, Baseball - Youth Game
TRANSP:OPAQUE
BEGIN:VALARM
TRIGGER:-PT2H
ACTION:DISPLAY
DESCRIPTION:Dodgers: Madsen vs. Giants: Finlinson
END:VALARM
END:VEVENT
BEGIN:VEVENT
UID:smithfieldrecreation-63605962-20240606T190000@quickscores.com
DTSTAMP:20260425T075300Z
DTSTART;TZID=America/Denver:20240606T190000
DURATION:PT1H0M0S
SUMMARY:Giants: Finlinson vs. Brewers: Gomm
DESCRIPTION:T Ball - Smithfield Recreation
LOCATION:West Field South
CATEGORIES:QuickScores, Baseball - Youth Game
TRANSP:OPAQUE
BEGIN:VALARM
TRIGGER:-PT2H
ACTION:DISPLAY
DESCRIPTION:Giants: Finlinson vs. Brewers: Gomm
END:VALARM
END:VEVENT
BEGIN:VEVENT
UID:smithfieldrecreation-63605970-20240611T200000@quickscores.com
DTSTAMP:20260425T075300Z
DTSTART;TZID=America/Denver:20240611T200000
DURATION:PT1H0M0S
SUMMARY:Giants: Finlinson vs. Padres: Kooyman
DESCRIPTION:T Ball - Smithfield Recreation
LOCATION:West Field South
CATEGORIES:QuickScores, Baseball - Youth Game
TRANSP:OPAQUE
BEGIN:VALARM
TRIGGER:-PT2H
ACTION:DISPLAY
DESCRIPTION:Giants: Finlinson vs. Padres: Kooyman
END:VALARM
END:VEVENT
BEGIN:VEVENT
UID:smithfieldrecreation-63605973-20240613T183000@quickscores.com
DTSTAMP:20260425T075300Z
DTSTART;TZID=America/Denver:20240613T183000
DURATION:PT1H0M0S
SUMMARY:Giants: Finlinson vs. Athletics: Whitaker
DESCRIPTION:T Ball - Smithfield Recreation
LOCATION:West Field North
CATEGORIES:QuickScores, Baseball - Youth Game
TRANSP:OPAQUE
BEGIN:VALARM
TRIGGER:-PT2H
ACTION:DISPLAY
DESCRIPTION:Giants: Finlinson vs. Athletics: Whitaker
END:VALARM
END:VEVENT
BEGIN:VEVENT
UID:smithfieldrecreation-63605982-20240618T193000@quickscores.com
DTSTAMP:20260425T075300Z
DTSTART;TZID=America/Denver:20240618T193000
DURATION:PT1H0M0S
SUMMARY:Diamondbacks: Smith vs. Giants: Finlinson
DESCRIPTION:T Ball - Smithfield Recreation
LOCATION:West Field North
CATEGORIES:QuickScores, Baseball - Youth Game
TRANSP:OPAQUE
BEGIN:VALARM
TRIGGER:-PT2H
ACTION:DISPLAY
DESCRIPTION:Diamondbacks: Smith vs. Giants: Finlinson
END:VALARM
END:VEVENT
BEGIN:VEVENT
UID:smithfieldrecreation-63605984-20240620T173000@quickscores.com
DTSTAMP:20260425T075300Z
DTSTART;TZID=America/Denver:20240620T173000
DURATION:PT1H0M0S
SUMMARY:Giants: Finlinson vs. Mariners: Anderson
DESCRIPTION:T Ball - Smithfield Recreation
LOCATION:West Field North
CATEGORIES:QuickScores, Baseball - Youth Game
TRANSP:OPAQUE
BEGIN:VALARM
TRIGGER:-PT2H
ACTION:DISPLAY
DESCRIPTION:Giants: Finlinson vs. Mariners: Anderson
END:VALARM
END:VEVENT
BEGIN:VEVENT
UID:smithfieldrecreation-63605993-20240625T180000@quickscores.com
DTSTAMP:20260425T075300Z
DTSTART;TZID=America/Denver:20240625T180000
DURATION:PT1H0M0S
SUMMARY:Royals: Ringler vs. Giants: Finlinson
DESCRIPTION:T Ball - Smithfield Recreation
LOCATION:West Field South
CATEGORIES:QuickScores, Baseball - Youth Game
TRANSP:OPAQUE
BEGIN:VALARM
TRIGGER:-PT2H
ACTION:DISPLAY
DESCRIPTION:Royals: Ringler vs. Giants: Finlinson
END:VALARM
END:VEVENT
BEGIN:VEVENT
UID:smithfieldrecreation-63605995-20240627T173000@quickscores.com
DTSTAMP:20260425T075300Z
DTSTART;TZID=America/Denver:20240627T173000
DURATION:PT1H0M0S
SUMMARY:Astros: Shill vs. Giants: Finlinson
DESCRIPTION:T Ball - Smithfield Recreation
LOCATION:West Field North
CATEGORIES:QuickScores, Baseball - Youth Game
TRANSP:OPAQUE
BEGIN:VALARM
TRIGGER:-PT2H
ACTION:DISPLAY
DESCRIPTION:Astros: Shill vs. Giants: Finlinson
END:VALARM
END:VEVENT
END:VCALENDAR
