BEGIN:VCALENDAR
VERSION:2.0
PRODID:-//QuickScores.com//BQ Dynamic iCal Creator//EN
METHOD:PUBLISH
X-WR-CALNAME:Nuggets:  Lammi - 7-8 Grade Boys - Winter 2024
X-WR-CALDESC:QuickScores game calendar
X-PUBLISHED-TTL:PT24H
REFRESH-INTERVAL;VALUE=DURATION:PT24H
CALSCALE:GREGORIAN
BEGIN:VTIMEZONE
TZID:America/Denver
X-LIC-LOCATION:America/Denver
BEGIN:DAYLIGHT
TZNAME:MDT
TZOFFSETFROM:-0700
TZOFFSETTO:-0600
DTSTART:19700308T020000
RRULE:FREQ=YEARLY;BYMONTH=3;BYDAY=2SU
END:DAYLIGHT
BEGIN:STANDARD
TZNAME:MST
TZOFFSETFROM:-0600
TZOFFSETTO:-0700
DTSTART:19701101T020000
RRULE:FREQ=YEARLY;BYMONTH=11;BYDAY=1SU
END:STANDARD
END:VTIMEZONE
BEGIN:VEVENT
UID:smithfieldrecreation-61040007-20240106T090000@quickscores.com
DTSTAMP:20260422T121400Z
DTSTART;TZID=America/Denver:20240106T090000
DURATION:PT1H0M0S
SUMMARY:Nuggets:  Lammi vs. Jazz:  Secrist
DESCRIPTION:7-8 Grade Boys - Smithfield Recreation
LOCATION:Bobcat Gym
CATEGORIES:QuickScores, Basketball - Youth Game
TRANSP:OPAQUE
BEGIN:VALARM
TRIGGER:-PT2H
ACTION:DISPLAY
DESCRIPTION:Nuggets:  Lammi vs. Jazz:  Secrist
END:VALARM
END:VEVENT
BEGIN:VEVENT
UID:smithfieldrecreation-61040009-20240113T100000@quickscores.com
DTSTAMP:20260422T121400Z
DTSTART;TZID=America/Denver:20240113T100000
DURATION:PT1H0M0S
SUMMARY:Celtics:  Talbet vs. Nuggets:  Lammi
DESCRIPTION:7-8 Grade Boys - Smithfield Recreation
LOCATION:Multi-Purpose North Gym
CATEGORIES:QuickScores, Basketball - Youth Game
TRANSP:OPAQUE
BEGIN:VALARM
TRIGGER:-PT2H
ACTION:DISPLAY
DESCRIPTION:Celtics:  Talbet vs. Nuggets:  Lammi
END:VALARM
END:VEVENT
BEGIN:VEVENT
UID:smithfieldrecreation-61040014-20240120T100000@quickscores.com
DTSTAMP:20260422T121400Z
DTSTART;TZID=America/Denver:20240120T100000
DURATION:PT1H0M0S
SUMMARY:Nuggets:  Lammi vs. Lakers:  Gunnell
DESCRIPTION:7-8 Grade Boys - Smithfield Recreation
LOCATION:Bobcat Gym
CATEGORIES:QuickScores, Basketball - Youth Game
TRANSP:OPAQUE
BEGIN:VALARM
TRIGGER:-PT2H
ACTION:DISPLAY
DESCRIPTION:Nuggets:  Lammi vs. Lakers:  Gunnell
END:VALARM
END:VEVENT
BEGIN:VEVENT
UID:smithfieldrecreation-61040016-20240127T080000@quickscores.com
DTSTAMP:20260422T121400Z
DTSTART;TZID=America/Denver:20240127T080000
DURATION:PT1H0M0S
SUMMARY:Nuggets:  Lammi vs. Warriors:  Davis
DESCRIPTION:7-8 Grade Boys - Smithfield Recreation
LOCATION:Multi-Purpose North Gym
CATEGORIES:QuickScores, Basketball - Youth Game
TRANSP:OPAQUE
BEGIN:VALARM
TRIGGER:-PT2H
ACTION:DISPLAY
DESCRIPTION:Nuggets:  Lammi vs. Warriors:  Davis
END:VALARM
END:VEVENT
BEGIN:VEVENT
UID:smithfieldrecreation-61040020-20240203T140000@quickscores.com
DTSTAMP:20260422T121400Z
DTSTART;TZID=America/Denver:20240203T140000
DURATION:PT1H0M0S
SUMMARY:Bucks:  Law vs. Nuggets:  Lammi
DESCRIPTION:7-8 Grade Boys - Smithfield Recreation
LOCATION:Multi-Purpose North Gym
CATEGORIES:QuickScores, Basketball - Youth Game
TRANSP:OPAQUE
BEGIN:VALARM
TRIGGER:-PT2H
ACTION:DISPLAY
DESCRIPTION:Bucks:  Law vs. Nuggets:  Lammi
END:VALARM
END:VEVENT
BEGIN:VEVENT
UID:smithfieldrecreation-61040022-20240210T090000@quickscores.com
DTSTAMP:20260422T121400Z
DTSTART;TZID=America/Denver:20240210T090000
DURATION:PT1H0M0S
SUMMARY:Jazz:  Secrist vs. Nuggets:  Lammi
DESCRIPTION:7-8 Grade Boys - Smithfield Recreation
LOCATION:Bobcat Gym
CATEGORIES:QuickScores, Basketball - Youth Game
TRANSP:OPAQUE
BEGIN:VALARM
TRIGGER:-PT2H
ACTION:DISPLAY
DESCRIPTION:Jazz:  Secrist vs. Nuggets:  Lammi
END:VALARM
END:VEVENT
BEGIN:VEVENT
UID:smithfieldrecreation-61040024-20240224T080000@quickscores.com
DTSTAMP:20260422T121400Z
DTSTART;TZID=America/Denver:20240224T080000
DURATION:PT1H0M0S
SUMMARY:Nuggets:  Lammi vs. Celtics:  Talbet
DESCRIPTION:7-8 Grade Boys - Smithfield Recreation
LOCATION:Multi-Purpose North Gym
CATEGORIES:QuickScores, Basketball - Youth Game
TRANSP:OPAQUE
BEGIN:VALARM
TRIGGER:-PT2H
ACTION:DISPLAY
DESCRIPTION:Nuggets:  Lammi vs. Celtics:  Talbet
END:VALARM
END:VEVENT
BEGIN:VEVENT
UID:smithfieldrecreation-61887857-20240302T080000@quickscores.com
DTSTAMP:20260422T121400Z
DTSTART;TZID=America/Denver:20240302T080000
DURATION:PT1H0M0S
SUMMARY:[4] Nuggets:  Lammi vs. [5] Warriors:  Davis
DESCRIPTION:7-8 Grade Boys - Smithfield Recreation
LOCATION:Bobcat Gym
CATEGORIES:QuickScores, Basketball - Youth Game
TRANSP:OPAQUE
BEGIN:VALARM
TRIGGER:-PT2H
ACTION:DISPLAY
DESCRIPTION:[4] Nuggets:  Lammi vs. [5] Warriors:  Davis
END:VALARM
END:VEVENT
BEGIN:VEVENT
UID:smithfieldrecreation-61887860-20240302T100000@quickscores.com
DTSTAMP:20260422T121400Z
DTSTART;TZID=America/Denver:20240302T100000
DURATION:PT1H0M0S
SUMMARY:[1] Bucks:  Law vs. [4] Nuggets:  Lammi
DESCRIPTION:7-8 Grade Boys - Smithfield Recreation
LOCATION:Bobcat Gym
CATEGORIES:QuickScores, Basketball - Youth Game
TRANSP:OPAQUE
BEGIN:VALARM
TRIGGER:-PT2H
ACTION:DISPLAY
DESCRIPTION:[1] Bucks:  Law vs. [4] Nuggets:  Lammi
END:VALARM
END:VEVENT
END:VCALENDAR
