BEGIN:VCALENDAR
VERSION:2.0
PRODID:-//QuickScores.com//BQ Dynamic iCal Creator//EN
METHOD:PUBLISH
X-WR-CALNAME:BELLS ELLER - 12u Preseason - Spring 2026
X-WR-CALDESC:QuickScores game calendar
X-PUBLISHED-TTL:PT24H
REFRESH-INTERVAL;VALUE=DURATION:PT24H
CALSCALE:GREGORIAN
BEGIN:VTIMEZONE
TZID:America/Chicago
X-LIC-LOCATION:America/Chicago
BEGIN:DAYLIGHT
TZNAME:CDT
TZOFFSETFROM:-0600
TZOFFSETTO:-0500
DTSTART:19700308T020000
RRULE:FREQ=YEARLY;BYMONTH=3;BYDAY=2SU
END:DAYLIGHT
BEGIN:STANDARD
TZNAME:CST
TZOFFSETFROM:-0500
TZOFFSETTO:-0600
DTSTART:19701101T020000
RRULE:FREQ=YEARLY;BYMONTH=11;BYDAY=1SU
END:STANDARD
END:VTIMEZONE
BEGIN:VEVENT
UID:rrsa-73375025-20260326T180000@quickscores.com
DTSTAMP:20260420T225800Z
DTSTART;TZID=America/Chicago:20260326T180000
DURATION:PT1H0M0S
SUMMARY:S&S MCCAULEY vs. BELLS ELLER
DESCRIPTION:12u Preseason - <br><br><br>Red River Sports Association
LOCATION:TRENTON F1
CATEGORIES:QuickScores, Softball - Fastpitch Game
TRANSP:OPAQUE
BEGIN:VALARM
TRIGGER:-PT2H
ACTION:DISPLAY
DESCRIPTION:S&S MCCAULEY vs. BELLS ELLER
END:VALARM
END:VEVENT
BEGIN:VEVENT
UID:rrsa-73375033-20260328T110000@quickscores.com
DTSTAMP:20260420T225800Z
DTSTART;TZID=America/Chicago:20260328T110000
DURATION:PT1H0M0S
SUMMARY:BELLS SWADLEY vs. BELLS ELLER
DESCRIPTION:12u Preseason - <br><br><br>Red River Sports Association
LOCATION:TRENTON F1
CATEGORIES:QuickScores, Softball - Fastpitch Game
TRANSP:OPAQUE
BEGIN:VALARM
TRIGGER:-PT2H
ACTION:DISPLAY
DESCRIPTION:BELLS SWADLEY vs. BELLS ELLER
END:VALARM
END:VEVENT
BEGIN:VEVENT
UID:rrsa-73375036-20260328T140000@quickscores.com
DTSTAMP:20260420T225800Z
DTSTART;TZID=America/Chicago:20260328T140000
DURATION:PT1H0M0S
SUMMARY:TOM BEAN O'BIER vs. BELLS ELLER
DESCRIPTION:12u Preseason - <br><br><br>Red River Sports Association
LOCATION:TRENTON F1
CATEGORIES:QuickScores, Softball - Fastpitch Game
TRANSP:OPAQUE
BEGIN:VALARM
TRIGGER:-PT2H
ACTION:DISPLAY
DESCRIPTION:TOM BEAN O'BIER vs. BELLS ELLER
END:VALARM
END:VEVENT
BEGIN:VEVENT
UID:rrsa-73375082-20260328T170000@quickscores.com
DTSTAMP:20260420T225800Z
DTSTART;TZID=America/Chicago:20260328T170000
DURATION:PT1H0M0S
SUMMARY:BELLS ELLER vs. Winner of Game 17
DESCRIPTION:12u Preseason - <br><br><br>Red River Sports Association
LOCATION:TRENTON F1
CATEGORIES:QuickScores, Softball - Fastpitch Game
TRANSP:OPAQUE
BEGIN:VALARM
TRIGGER:-PT2H
ACTION:DISPLAY
DESCRIPTION:BELLS ELLER vs. Winner of Game 17
END:VALARM
END:VEVENT
END:VCALENDAR
