BEGIN:VCALENDAR
VERSION:2.0
PRODID:-//QuickScores.com//BQ Dynamic iCal Creator//EN
METHOD:PUBLISH
X-WR-CALNAME:TOM BEAN HALTER - 8u Preseason - Spring 2026
X-WR-CALDESC:QuickScores game calendar
X-PUBLISHED-TTL:PT24H
REFRESH-INTERVAL;VALUE=DURATION:PT24H
CALSCALE:GREGORIAN
BEGIN:VTIMEZONE
TZID:America/Chicago
X-LIC-LOCATION:America/Chicago
BEGIN:DAYLIGHT
TZNAME:CDT
TZOFFSETFROM:-0600
TZOFFSETTO:-0500
DTSTART:19700308T020000
RRULE:FREQ=YEARLY;BYMONTH=3;BYDAY=2SU
END:DAYLIGHT
BEGIN:STANDARD
TZNAME:CST
TZOFFSETFROM:-0500
TZOFFSETTO:-0600
DTSTART:19701101T020000
RRULE:FREQ=YEARLY;BYMONTH=11;BYDAY=1SU
END:STANDARD
END:VTIMEZONE
BEGIN:VEVENT
UID:rrsa-73373166-20260323T200000@quickscores.com
DTSTAMP:20260423T222800Z
DTSTART;TZID=America/Chicago:20260323T200000
DURATION:PT1H0M0S
SUMMARY:BELLS WILSON vs. TOM BEAN HALTER
DESCRIPTION:8u Preseason - <br><br><br>Red River Sports Association
LOCATION:POTTSBORO B
CATEGORIES:QuickScores, Softball - Fastpitch Game
TRANSP:OPAQUE
BEGIN:VALARM
TRIGGER:-PT2H
ACTION:DISPLAY
DESCRIPTION:BELLS WILSON vs. TOM BEAN HALTER
END:VALARM
END:VEVENT
BEGIN:VEVENT
UID:rrsa-73373171-20260324T180000@quickscores.com
DTSTAMP:20260423T222800Z
DTSTART;TZID=America/Chicago:20260324T180000
DURATION:PT1H0M0S
SUMMARY:POTTSBORO JENNINGS vs. TOM BEAN HALTER
DESCRIPTION:8u Preseason - <br><br><br>Red River Sports Association
LOCATION:POTTSBORO D
CATEGORIES:QuickScores, Softball - Fastpitch Game
TRANSP:OPAQUE
BEGIN:VALARM
TRIGGER:-PT2H
ACTION:DISPLAY
DESCRIPTION:POTTSBORO JENNINGS vs. TOM BEAN HALTER
END:VALARM
END:VEVENT
BEGIN:VEVENT
UID:rrsa-73373175-20260324T200000@quickscores.com
DTSTAMP:20260423T222800Z
DTSTART;TZID=America/Chicago:20260324T200000
DURATION:PT1H0M0S
SUMMARY:TOM BEAN HALTER vs. TRENTON TREVINO
DESCRIPTION:8u Preseason - <br><br><br>Red River Sports Association
LOCATION:POTTSBORO B
CATEGORIES:QuickScores, Softball - Fastpitch Game
TRANSP:OPAQUE
BEGIN:VALARM
TRIGGER:-PT2H
ACTION:DISPLAY
DESCRIPTION:TOM BEAN HALTER vs. TRENTON TREVINO
END:VALARM
END:VEVENT
BEGIN:VEVENT
UID:rrsa-73373180-20260325T180000@quickscores.com
DTSTAMP:20260423T222800Z
DTSTART;TZID=America/Chicago:20260325T180000
DURATION:PT1H0M0S
SUMMARY:COLLINSVILLE BIRD vs. TOM BEAN HALTER
DESCRIPTION:8u Preseason - <br><br><br>Red River Sports Association
LOCATION:POTTSBORO D
CATEGORIES:QuickScores, Softball - Fastpitch Game
TRANSP:OPAQUE
BEGIN:VALARM
TRIGGER:-PT2H
ACTION:DISPLAY
DESCRIPTION:COLLINSVILLE BIRD vs. TOM BEAN HALTER
END:VALARM
END:VEVENT
BEGIN:VEVENT
UID:rrsa-73373187-20260326T180000@quickscores.com
DTSTAMP:20260423T222800Z
DTSTART;TZID=America/Chicago:20260326T180000
DURATION:PT1H0M0S
SUMMARY:S&S DENNIS vs. TOM BEAN HALTER
DESCRIPTION:8u Preseason - <br><br><br>Red River Sports Association
LOCATION:POTTSBORO C
CATEGORIES:QuickScores, Softball - Fastpitch Game
TRANSP:OPAQUE
BEGIN:VALARM
TRIGGER:-PT2H
ACTION:DISPLAY
DESCRIPTION:S&S DENNIS vs. TOM BEAN HALTER
END:VALARM
END:VEVENT
END:VCALENDAR
