BEGIN:VCALENDAR
VERSION:2.0
PRODID:-//QuickScores.com//BQ Dynamic iCal Creator//EN
METHOD:PUBLISH
X-WR-CALNAME:LEONARD MURPHY - 8u Preseason - Spring 2026
X-WR-CALDESC:QuickScores game calendar
X-PUBLISHED-TTL:PT24H
REFRESH-INTERVAL;VALUE=DURATION:PT24H
CALSCALE:GREGORIAN
BEGIN:VTIMEZONE
TZID:America/Chicago
X-LIC-LOCATION:America/Chicago
BEGIN:DAYLIGHT
TZNAME:CDT
TZOFFSETFROM:-0600
TZOFFSETTO:-0500
DTSTART:19700308T020000
RRULE:FREQ=YEARLY;BYMONTH=3;BYDAY=2SU
END:DAYLIGHT
BEGIN:STANDARD
TZNAME:CST
TZOFFSETFROM:-0500
TZOFFSETTO:-0600
DTSTART:19701101T020000
RRULE:FREQ=YEARLY;BYMONTH=11;BYDAY=1SU
END:STANDARD
END:VTIMEZONE
BEGIN:VEVENT
UID:rrsa-73373160-20260323T180000@quickscores.com
DTSTAMP:20260424T104800Z
DTSTART;TZID=America/Chicago:20260323T180000
DURATION:PT1H0M0S
SUMMARY:LEONARD MURPHY vs. POTTSBORO JENNINGS
DESCRIPTION:8u Preseason - <br><br><br>Red River Sports Association
LOCATION:POTTSBORO B
CATEGORIES:QuickScores, Softball - Fastpitch Game
TRANSP:OPAQUE
BEGIN:VALARM
TRIGGER:-PT2H
ACTION:DISPLAY
DESCRIPTION:LEONARD MURPHY vs. POTTSBORO JENNINGS
END:VALARM
END:VEVENT
BEGIN:VEVENT
UID:rrsa-73373168-20260323T190000@quickscores.com
DTSTAMP:20260424T104800Z
DTSTART;TZID=America/Chicago:20260323T190000
DURATION:PT1H0M0S
SUMMARY:VA SMITH vs. LEONARD MURPHY
DESCRIPTION:8u Preseason - <br><br><br>Red River Sports Association
LOCATION:POTTSBORO B
CATEGORIES:QuickScores, Softball - Fastpitch Game
TRANSP:OPAQUE
BEGIN:VALARM
TRIGGER:-PT2H
ACTION:DISPLAY
DESCRIPTION:VA SMITH vs. LEONARD MURPHY
END:VALARM
END:VEVENT
BEGIN:VEVENT
UID:rrsa-73373177-20260324T200000@quickscores.com
DTSTAMP:20260424T104800Z
DTSTART;TZID=America/Chicago:20260324T200000
DURATION:PT1H0M0S
SUMMARY:LEONARD MURPHY vs. WHITEWRIGHT STEVENS
DESCRIPTION:8u Preseason - <br><br><br>Red River Sports Association
LOCATION:POTTSBORO D
CATEGORIES:QuickScores, Softball - Fastpitch Game
TRANSP:OPAQUE
BEGIN:VALARM
TRIGGER:-PT2H
ACTION:DISPLAY
DESCRIPTION:LEONARD MURPHY vs. WHITEWRIGHT STEVENS
END:VALARM
END:VEVENT
BEGIN:VEVENT
UID:rrsa-73373181-20260325T190000@quickscores.com
DTSTAMP:20260424T104800Z
DTSTART;TZID=America/Chicago:20260325T190000
DURATION:PT1H0M0S
SUMMARY:S&S DENNIS vs. LEONARD MURPHY
DESCRIPTION:8u Preseason - <br><br><br>Red River Sports Association
LOCATION:POTTSBORO B
CATEGORIES:QuickScores, Softball - Fastpitch Game
TRANSP:OPAQUE
BEGIN:VALARM
TRIGGER:-PT2H
ACTION:DISPLAY
DESCRIPTION:S&S DENNIS vs. LEONARD MURPHY
END:VALARM
END:VEVENT
END:VCALENDAR
