BEGIN:VCALENDAR
VERSION:2.0
PRODID:-//QuickScores.com//BQ Dynamic iCal Creator//EN
METHOD:PUBLISH
X-WR-CALNAME:HOWE WAGGONER - 6u Softball - Spring 2026
X-WR-CALDESC:QuickScores game calendar
X-PUBLISHED-TTL:PT24H
REFRESH-INTERVAL;VALUE=DURATION:PT24H
CALSCALE:GREGORIAN
BEGIN:VTIMEZONE
TZID:America/Chicago
X-LIC-LOCATION:America/Chicago
BEGIN:DAYLIGHT
TZNAME:CDT
TZOFFSETFROM:-0600
TZOFFSETTO:-0500
DTSTART:19700308T020000
RRULE:FREQ=YEARLY;BYMONTH=3;BYDAY=2SU
END:DAYLIGHT
BEGIN:STANDARD
TZNAME:CST
TZOFFSETFROM:-0500
TZOFFSETTO:-0600
DTSTART:19701101T020000
RRULE:FREQ=YEARLY;BYMONTH=11;BYDAY=1SU
END:STANDARD
END:VTIMEZONE
BEGIN:VEVENT
UID:rrsa-73218943-20260330T180000@quickscores.com
DTSTAMP:20260422T204800Z
DTSTART;TZID=America/Chicago:20260330T180000
DURATION:PT1H0M0S
SUMMARY:HOWE WAGGONER vs. WHITEWRIGHT LAWSON
DESCRIPTION:6u Softball - <br><br><br>Red River Sports Association
LOCATION:HOWE SOUTH
CATEGORIES:QuickScores, Softball - Fastpitch Game
TRANSP:OPAQUE
BEGIN:VALARM
TRIGGER:-PT2H
ACTION:DISPLAY
DESCRIPTION:HOWE WAGGONER vs. WHITEWRIGHT LAWSON
END:VALARM
END:VEVENT
BEGIN:VEVENT
UID:rrsa-73218951-20260401T180000@quickscores.com
DTSTAMP:20260422T204800Z
DTSTART;TZID=America/Chicago:20260401T180000
DURATION:PT1H0M0S
SUMMARY:TRENTON MCCARLEY vs. HOWE WAGGONER
DESCRIPTION:6u Softball - <br><br><br>Red River Sports Association
LOCATION:TRENTON F1
CATEGORIES:QuickScores, Softball - Fastpitch Game
TRANSP:OPAQUE
BEGIN:VALARM
TRIGGER:-PT2H
ACTION:DISPLAY
DESCRIPTION:TRENTON MCCARLEY vs. HOWE WAGGONER
END:VALARM
END:VEVENT
BEGIN:VEVENT
UID:rrsa-73218958-20260406T180000@quickscores.com
DTSTAMP:20260422T204800Z
DTSTART;TZID=America/Chicago:20260406T180000
DURATION:PT1H0M0S
SUMMARY:HOWE WAGGONER vs. S&S GARZA
DESCRIPTION:6u Softball - <br><br><br>Red River Sports Association
LOCATION:HOWE SOUTH
CATEGORIES:QuickScores, Softball - Fastpitch Game
TRANSP:OPAQUE
BEGIN:VALARM
TRIGGER:-PT2H
ACTION:DISPLAY
DESCRIPTION:HOWE WAGGONER vs. S&S GARZA
END:VALARM
END:VEVENT
BEGIN:VEVENT
UID:rrsa-73218968-20260409T180000@quickscores.com
DTSTAMP:20260422T204800Z
DTSTART;TZID=America/Chicago:20260409T180000
DURATION:PT1H0M0S
SUMMARY:LEONARD HERMAN vs. HOWE WAGGONER
DESCRIPTION:6u Softball - <br><br><br>Red River Sports Association
LOCATION:LEONARD F1
CATEGORIES:QuickScores, Softball - Fastpitch Game
TRANSP:OPAQUE
BEGIN:VALARM
TRIGGER:-PT2H
ACTION:DISPLAY
DESCRIPTION:LEONARD HERMAN vs. HOWE WAGGONER
END:VALARM
END:VEVENT
BEGIN:VEVENT
UID:rrsa-73218993-20260413T180000@quickscores.com
DTSTAMP:20260422T204800Z
DTSTART;TZID=America/Chicago:20260413T180000
DURATION:PT1H0M0S
SUMMARY:VA GOMEZ vs. HOWE WAGGONER
DESCRIPTION:6u Softball - <br><br><br>Red River Sports Association
LOCATION:VA FMP 1
CATEGORIES:QuickScores, Softball - Fastpitch Game
TRANSP:OPAQUE
BEGIN:VALARM
TRIGGER:-PT2H
ACTION:DISPLAY
DESCRIPTION:VA GOMEZ vs. HOWE WAGGONER
END:VALARM
END:VEVENT
BEGIN:VEVENT
UID:rrsa-73218975-20260413T190000@quickscores.com
DTSTAMP:20260422T204800Z
DTSTART;TZID=America/Chicago:20260413T190000
DURATION:PT1H0M0S
SUMMARY:VA CROOKS vs. HOWE WAGGONER
DESCRIPTION:6u Softball - <br><br><br>Red River Sports Association
LOCATION:VA FMP 2
CATEGORIES:QuickScores, Softball - Fastpitch Game
TRANSP:OPAQUE
BEGIN:VALARM
TRIGGER:-PT2H
ACTION:DISPLAY
DESCRIPTION:VA CROOKS vs. HOWE WAGGONER
END:VALARM
END:VEVENT
BEGIN:VEVENT
UID:rrsa-73218990-20260420T180000@quickscores.com
DTSTAMP:20260422T204800Z
DTSTART;TZID=America/Chicago:20260420T180000
DURATION:PT1H0M0S
SUMMARY:HOWE WAGGONER vs. BELLS LAMANCE
DESCRIPTION:6u Softball - <br><br><br>Red River Sports Association
LOCATION:HOWE SOUTH
CATEGORIES:QuickScores, Softball - Fastpitch Game
TRANSP:OPAQUE
BEGIN:VALARM
TRIGGER:-PT2H
ACTION:DISPLAY
DESCRIPTION:HOWE WAGGONER vs. BELLS LAMANCE
END:VALARM
END:VEVENT
BEGIN:VEVENT
UID:rrsa-73218998-20260427T180000@quickscores.com
DTSTAMP:20260422T204800Z
DTSTART;TZID=America/Chicago:20260427T180000
DURATION:PT1H0M0S
SUMMARY:HOWE WAGGONER vs. LEONARD LEWIS
DESCRIPTION:6u Softball - <br><br><br>Red River Sports Association
LOCATION:HOWE NORTH
CATEGORIES:QuickScores, Softball - Fastpitch Game
TRANSP:OPAQUE
BEGIN:VALARM
TRIGGER:-PT2H
ACTION:DISPLAY
DESCRIPTION:HOWE WAGGONER vs. LEONARD LEWIS
END:VALARM
END:VEVENT
BEGIN:VEVENT
UID:rrsa-73218981-20260430T180000@quickscores.com
DTSTAMP:20260422T204800Z
DTSTART;TZID=America/Chicago:20260430T180000
DURATION:PT1H0M0S
SUMMARY:HOWE WAGGONER vs. POTTSBORO ELLIS
DESCRIPTION:6u Softball - <br><br><br>Red River Sports Association
LOCATION:HOWE SOUTH
CATEGORIES:QuickScores, Softball - Fastpitch Game
TRANSP:OPAQUE
BEGIN:VALARM
TRIGGER:-PT2H
ACTION:DISPLAY
DESCRIPTION:HOWE WAGGONER vs. POTTSBORO ELLIS
END:VALARM
END:VEVENT
BEGIN:VEVENT
UID:rrsa-73219011-20260504T180000@quickscores.com
DTSTAMP:20260422T204800Z
DTSTART;TZID=America/Chicago:20260504T180000
DURATION:PT1H0M0S
SUMMARY:TOM BEAN STANLEY vs. HOWE WAGGONER
DESCRIPTION:6u Softball - <br><br><br>Red River Sports Association
LOCATION:TOM BEAN NORTH
CATEGORIES:QuickScores, Softball - Fastpitch Game
TRANSP:OPAQUE
BEGIN:VALARM
TRIGGER:-PT2H
ACTION:DISPLAY
DESCRIPTION:TOM BEAN STANLEY vs. HOWE WAGGONER
END:VALARM
END:VEVENT
BEGIN:VEVENT
UID:rrsa-73219015-20260507T180000@quickscores.com
DTSTAMP:20260422T204800Z
DTSTART;TZID=America/Chicago:20260507T180000
DURATION:PT1H0M0S
SUMMARY:HOWE WAGGONER vs. BELLS BULANEK
DESCRIPTION:6u Softball - <br><br><br>Red River Sports Association
LOCATION:HOWE SOUTH
CATEGORIES:QuickScores, Softball - Fastpitch Game
TRANSP:OPAQUE
BEGIN:VALARM
TRIGGER:-PT2H
ACTION:DISPLAY
DESCRIPTION:HOWE WAGGONER vs. BELLS BULANEK
END:VALARM
END:VEVENT
BEGIN:VEVENT
UID:rrsa-73219019-20260511T180000@quickscores.com
DTSTAMP:20260422T204800Z
DTSTART;TZID=America/Chicago:20260511T180000
DURATION:PT1H0M0S
SUMMARY:HOWE WAGGONER vs. WHITEWRIGHT RITCHIE
DESCRIPTION:6u Softball - <br><br><br>Red River Sports Association
LOCATION:HOWE SOUTH
CATEGORIES:QuickScores, Softball - Fastpitch Game
TRANSP:OPAQUE
BEGIN:VALARM
TRIGGER:-PT2H
ACTION:DISPLAY
DESCRIPTION:HOWE WAGGONER vs. WHITEWRIGHT RITCHIE
END:VALARM
END:VEVENT
END:VCALENDAR
