BEGIN:VCALENDAR
VERSION:2.0
PRODID:-//QuickScores.com//BQ Dynamic iCal Creator//EN
METHOD:PUBLISH
X-WR-CALNAME:WHITEWRIGHT LAWSON - 6u Softball - Spring 2026
X-WR-CALDESC:QuickScores game calendar
X-PUBLISHED-TTL:PT24H
REFRESH-INTERVAL;VALUE=DURATION:PT24H
CALSCALE:GREGORIAN
BEGIN:VTIMEZONE
TZID:America/Chicago
X-LIC-LOCATION:America/Chicago
BEGIN:DAYLIGHT
TZNAME:CDT
TZOFFSETFROM:-0600
TZOFFSETTO:-0500
DTSTART:19700308T020000
RRULE:FREQ=YEARLY;BYMONTH=3;BYDAY=2SU
END:DAYLIGHT
BEGIN:STANDARD
TZNAME:CST
TZOFFSETFROM:-0500
TZOFFSETTO:-0600
DTSTART:19701101T020000
RRULE:FREQ=YEARLY;BYMONTH=11;BYDAY=1SU
END:STANDARD
END:VTIMEZONE
BEGIN:VEVENT
UID:rrsa-73218943-20260330T180000@quickscores.com
DTSTAMP:20260425T134000Z
DTSTART;TZID=America/Chicago:20260330T180000
DURATION:PT1H0M0S
SUMMARY:HOWE WAGGONER vs. WHITEWRIGHT LAWSON
DESCRIPTION:6u Softball - <br><br><br>Red River Sports Association
LOCATION:HOWE SOUTH
CATEGORIES:QuickScores, Softball - Fastpitch Game
TRANSP:OPAQUE
BEGIN:VALARM
TRIGGER:-PT2H
ACTION:DISPLAY
DESCRIPTION:HOWE WAGGONER vs. WHITEWRIGHT LAWSON
END:VALARM
END:VEVENT
BEGIN:VEVENT
UID:rrsa-73218949-20260401T180000@quickscores.com
DTSTAMP:20260425T134000Z
DTSTART;TZID=America/Chicago:20260401T180000
DURATION:PT1H0M0S
SUMMARY:S&S GARZA vs. WHITEWRIGHT LAWSON
DESCRIPTION:6u Softball - <br><br><br>Red River Sports Association
LOCATION:S&S LITTLE
CATEGORIES:QuickScores, Softball - Fastpitch Game
TRANSP:OPAQUE
BEGIN:VALARM
TRIGGER:-PT2H
ACTION:DISPLAY
DESCRIPTION:S&S GARZA vs. WHITEWRIGHT LAWSON
END:VALARM
END:VEVENT
BEGIN:VEVENT
UID:rrsa-73218960-20260406T180000@quickscores.com
DTSTAMP:20260425T134000Z
DTSTART;TZID=America/Chicago:20260406T180000
DURATION:PT1H0M0S
SUMMARY:WHITEWRIGHT LAWSON vs. VA CROOKS
DESCRIPTION:6u Softball - <br><br><br>Red River Sports Association
LOCATION:WW SOUTHWEST
CATEGORIES:QuickScores, Softball - Fastpitch Game
TRANSP:OPAQUE
BEGIN:VALARM
TRIGGER:-PT2H
ACTION:DISPLAY
DESCRIPTION:WHITEWRIGHT LAWSON vs. VA CROOKS
END:VALARM
END:VEVENT
BEGIN:VEVENT
UID:rrsa-73218972-20260406T190000@quickscores.com
DTSTAMP:20260425T134000Z
DTSTART;TZID=America/Chicago:20260406T190000
DURATION:PT1H0M0S
SUMMARY:WHITEWRIGHT LAWSON vs. POTTSBORO PIERCE
DESCRIPTION:6u Softball - <br><br><br>Red River Sports Association
LOCATION:WW SOUTHWEST
CATEGORIES:QuickScores, Softball - Fastpitch Game
TRANSP:OPAQUE
BEGIN:VALARM
TRIGGER:-PT2H
ACTION:DISPLAY
DESCRIPTION:WHITEWRIGHT LAWSON vs. POTTSBORO PIERCE
END:VALARM
END:VEVENT
BEGIN:VEVENT
UID:rrsa-73218966-20260409T180000@quickscores.com
DTSTAMP:20260425T134000Z
DTSTART;TZID=America/Chicago:20260409T180000
DURATION:PT1H0M0S
SUMMARY:WHITEWRIGHT LAWSON vs. TRENTON MCCARLEY
DESCRIPTION:6u Softball - <br><br><br>Red River Sports Association
LOCATION:WW SOUTHWEST
CATEGORIES:QuickScores, Softball - Fastpitch Game
TRANSP:OPAQUE
BEGIN:VALARM
TRIGGER:-PT2H
ACTION:DISPLAY
DESCRIPTION:WHITEWRIGHT LAWSON vs. TRENTON MCCARLEY
END:VALARM
END:VEVENT
BEGIN:VEVENT
UID:rrsa-73218977-20260413T180000@quickscores.com
DTSTAMP:20260425T134000Z
DTSTART;TZID=America/Chicago:20260413T180000
DURATION:PT1H0M0S
SUMMARY:WHITEWRIGHT LAWSON vs. LEONARD LEWIS
DESCRIPTION:6u Softball - <br><br><br>Red River Sports Association
LOCATION:WW SOUTHWEST
CATEGORIES:QuickScores, Softball - Fastpitch Game
TRANSP:OPAQUE
BEGIN:VALARM
TRIGGER:-PT2H
ACTION:DISPLAY
DESCRIPTION:WHITEWRIGHT LAWSON vs. LEONARD LEWIS
END:VALARM
END:VEVENT
BEGIN:VEVENT
UID:rrsa-73218988-20260420T180000@quickscores.com
DTSTAMP:20260425T134000Z
DTSTART;TZID=America/Chicago:20260420T180000
DURATION:PT1H0M0S
SUMMARY:WHITEWRIGHT LAWSON vs. LEONARD HERMAN
DESCRIPTION:6u Softball - <br><br><br>Red River Sports Association
LOCATION:WW SOUTHWEST
CATEGORIES:QuickScores, Softball - Fastpitch Game
TRANSP:OPAQUE
BEGIN:VALARM
TRIGGER:-PT2H
ACTION:DISPLAY
DESCRIPTION:WHITEWRIGHT LAWSON vs. LEONARD HERMAN
END:VALARM
END:VEVENT
BEGIN:VEVENT
UID:rrsa-73219000-20260427T180000@quickscores.com
DTSTAMP:20260425T134000Z
DTSTART;TZID=America/Chicago:20260427T180000
DURATION:PT1H0M0S
SUMMARY:WHITEWRIGHT RITCHIE vs. WHITEWRIGHT LAWSON
DESCRIPTION:6u Softball - <br><br><br>Red River Sports Association
LOCATION:WW NORTHWEST
CATEGORIES:QuickScores, Softball - Fastpitch Game
TRANSP:OPAQUE
BEGIN:VALARM
TRIGGER:-PT2H
ACTION:DISPLAY
DESCRIPTION:WHITEWRIGHT RITCHIE vs. WHITEWRIGHT LAWSON
END:VALARM
END:VEVENT
BEGIN:VEVENT
UID:rrsa-73219009-20260504T180000@quickscores.com
DTSTAMP:20260425T134000Z
DTSTART;TZID=America/Chicago:20260504T180000
DURATION:PT1H0M0S
SUMMARY:WHITEWRIGHT LAWSON vs. BELLS LAMANCE
DESCRIPTION:6u Softball - <br><br><br>Red River Sports Association
LOCATION:WW SOUTHWEST
CATEGORIES:QuickScores, Softball - Fastpitch Game
TRANSP:OPAQUE
BEGIN:VALARM
TRIGGER:-PT2H
ACTION:DISPLAY
DESCRIPTION:WHITEWRIGHT LAWSON vs. BELLS LAMANCE
END:VALARM
END:VEVENT
BEGIN:VEVENT
UID:rrsa-73219014-20260506T190000@quickscores.com
DTSTAMP:20260425T134000Z
DTSTART;TZID=America/Chicago:20260506T190000
DURATION:PT1H0M0S
SUMMARY:WHITEWRIGHT LAWSON vs. VA GOMEZ
DESCRIPTION:6u Softball - <br><br><br>Red River Sports Association
LOCATION:WW SOUTHWEST
CATEGORIES:QuickScores, Softball - Fastpitch Game
TRANSP:OPAQUE
BEGIN:VALARM
TRIGGER:-PT2H
ACTION:DISPLAY
DESCRIPTION:WHITEWRIGHT LAWSON vs. VA GOMEZ
END:VALARM
END:VEVENT
BEGIN:VEVENT
UID:rrsa-73219021-20260511T180000@quickscores.com
DTSTAMP:20260425T134000Z
DTSTART;TZID=America/Chicago:20260511T180000
DURATION:PT1H0M0S
SUMMARY:WHITEWRIGHT LAWSON vs. BELLS BULANEK
DESCRIPTION:6u Softball - <br><br><br>Red River Sports Association
LOCATION:WW SOUTHWEST
CATEGORIES:QuickScores, Softball - Fastpitch Game
TRANSP:OPAQUE
BEGIN:VALARM
TRIGGER:-PT2H
ACTION:DISPLAY
DESCRIPTION:WHITEWRIGHT LAWSON vs. BELLS BULANEK
END:VALARM
END:VEVENT
BEGIN:VEVENT
UID:rrsa-73219023-20260514T180000@quickscores.com
DTSTAMP:20260425T134000Z
DTSTART;TZID=America/Chicago:20260514T180000
DURATION:PT1H0M0S
SUMMARY:TOM BEAN STANLEY vs. WHITEWRIGHT LAWSON
DESCRIPTION:6u Softball - <br><br><br>Red River Sports Association
LOCATION:TOM BEAN NORTH
CATEGORIES:QuickScores, Softball - Fastpitch Game
TRANSP:OPAQUE
BEGIN:VALARM
TRIGGER:-PT2H
ACTION:DISPLAY
DESCRIPTION:TOM BEAN STANLEY vs. WHITEWRIGHT LAWSON
END:VALARM
END:VEVENT
END:VCALENDAR
