BEGIN:VCALENDAR
VERSION:2.0
PRODID:-//QuickScores.com//BQ Dynamic iCal Creator//EN
METHOD:PUBLISH
X-WR-CALNAME:TOM  BEAN YOUNG - 10u Softball - Spring 2026
X-WR-CALDESC:QuickScores game calendar
X-PUBLISHED-TTL:PT24H
REFRESH-INTERVAL;VALUE=DURATION:PT24H
CALSCALE:GREGORIAN
BEGIN:VTIMEZONE
TZID:America/Chicago
X-LIC-LOCATION:America/Chicago
BEGIN:DAYLIGHT
TZNAME:CDT
TZOFFSETFROM:-0600
TZOFFSETTO:-0500
DTSTART:19700308T020000
RRULE:FREQ=YEARLY;BYMONTH=3;BYDAY=2SU
END:DAYLIGHT
BEGIN:STANDARD
TZNAME:CST
TZOFFSETFROM:-0500
TZOFFSETTO:-0600
DTSTART:19701101T020000
RRULE:FREQ=YEARLY;BYMONTH=11;BYDAY=1SU
END:STANDARD
END:VTIMEZONE
BEGIN:VEVENT
UID:rrsa-73219451-20260330T200000@quickscores.com
DTSTAMP:20260425T230700Z
DTSTART;TZID=America/Chicago:20260330T200000
DURATION:PT1H15M0S
SUMMARY:TOM  BEAN YOUNG vs. COLLINSVILLE SCHROEDER
DESCRIPTION:10u Softball - <br><br><br>Red River Sports Association
LOCATION:TOM BEAN NORTH
CATEGORIES:QuickScores, Softball - Fastpitch Game
TRANSP:OPAQUE
BEGIN:VALARM
TRIGGER:-PT2H
ACTION:DISPLAY
DESCRIPTION:TOM  BEAN YOUNG vs. COLLINSVILLE SCHROEDER
END:VALARM
END:VEVENT
BEGIN:VEVENT
UID:rrsa-73219460-20260401T180000@quickscores.com
DTSTAMP:20260425T230700Z
DTSTART;TZID=America/Chicago:20260401T180000
DURATION:PT1H15M0S
SUMMARY:WHITEWRIGHT SELMAN vs. TOM  BEAN YOUNG
DESCRIPTION:10u Softball - <br><br><br>Red River Sports Association
LOCATION:WW NORTHWEST
CATEGORIES:QuickScores, Softball - Fastpitch Game
TRANSP:OPAQUE
BEGIN:VALARM
TRIGGER:-PT2H
ACTION:DISPLAY
DESCRIPTION:WHITEWRIGHT SELMAN vs. TOM  BEAN YOUNG
END:VALARM
END:VEVENT
BEGIN:VEVENT
UID:rrsa-73219466-20260406T200000@quickscores.com
DTSTAMP:20260425T230700Z
DTSTART;TZID=America/Chicago:20260406T200000
DURATION:PT1H15M0S
SUMMARY:TOM  BEAN YOUNG vs. LEONARD PEACH
DESCRIPTION:10u Softball - <br><br><br>Red River Sports Association
LOCATION:TOM BEAN NORTH
CATEGORIES:QuickScores, Softball - Fastpitch Game
TRANSP:OPAQUE
BEGIN:VALARM
TRIGGER:-PT2H
ACTION:DISPLAY
DESCRIPTION:TOM  BEAN YOUNG vs. LEONARD PEACH
END:VALARM
END:VEVENT
BEGIN:VEVENT
UID:rrsa-73219478-20260413T180000@quickscores.com
DTSTAMP:20260425T230700Z
DTSTART;TZID=America/Chicago:20260413T180000
DURATION:PT1H15M0S
SUMMARY:TOM  BEAN YOUNG vs. POTTSBORO WILBURN
DESCRIPTION:10u Softball - <br><br><br>Red River Sports Association
LOCATION:TOM BEAN NORTH
CATEGORIES:QuickScores, Softball - Fastpitch Game
TRANSP:OPAQUE
BEGIN:VALARM
TRIGGER:-PT2H
ACTION:DISPLAY
DESCRIPTION:TOM  BEAN YOUNG vs. POTTSBORO WILBURN
END:VALARM
END:VEVENT
BEGIN:VEVENT
UID:rrsa-73219499-20260416T200000@quickscores.com
DTSTAMP:20260425T230700Z
DTSTART;TZID=America/Chicago:20260416T200000
DURATION:PT1H15M0S
SUMMARY:TOM  BEAN YOUNG vs. BELLS MCCAIN
DESCRIPTION:10u Softball - <br><br><br>Red River Sports Association
LOCATION:TOM BEAN NORTH
CATEGORIES:QuickScores, Softball - Fastpitch Game
TRANSP:OPAQUE
BEGIN:VALARM
TRIGGER:-PT2H
ACTION:DISPLAY
DESCRIPTION:TOM  BEAN YOUNG vs. BELLS MCCAIN
END:VALARM
END:VEVENT
BEGIN:VEVENT
UID:rrsa-73219495-20260420T200000@quickscores.com
DTSTAMP:20260425T230700Z
DTSTART;TZID=America/Chicago:20260420T200000
DURATION:PT1H15M0S
SUMMARY:HOWE PRITCHARD vs. TOM  BEAN YOUNG
DESCRIPTION:10u Softball - <br><br><br>Red River Sports Association
LOCATION:HOWE SOUTH
CATEGORIES:QuickScores, Softball - Fastpitch Game
TRANSP:OPAQUE
BEGIN:VALARM
TRIGGER:-PT2H
ACTION:DISPLAY
DESCRIPTION:HOWE PRITCHARD vs. TOM  BEAN YOUNG
END:VALARM
END:VEVENT
BEGIN:VEVENT
UID:rrsa-73219512-20260427T200000@quickscores.com
DTSTAMP:20260425T230700Z
DTSTART;TZID=America/Chicago:20260427T200000
DURATION:PT1H15M0S
SUMMARY:TRENTON YONKIN vs. TOM  BEAN YOUNG
DESCRIPTION:10u Softball - <br><br><br>Red River Sports Association
LOCATION:TRENTON F1
CATEGORIES:QuickScores, Softball - Fastpitch Game
TRANSP:OPAQUE
BEGIN:VALARM
TRIGGER:-PT2H
ACTION:DISPLAY
DESCRIPTION:TRENTON YONKIN vs. TOM  BEAN YOUNG
END:VALARM
END:VEVENT
BEGIN:VEVENT
UID:rrsa-73219514-20260430T191500@quickscores.com
DTSTAMP:20260425T230700Z
DTSTART;TZID=America/Chicago:20260430T191500
DURATION:PT1H15M0S
SUMMARY:TOM  BEAN YOUNG vs. BELLS CARTER
DESCRIPTION:10u Softball - <br><br><br>Red River Sports Association
LOCATION:TOM BEAN NORTH
CATEGORIES:QuickScores, Softball - Fastpitch Game
TRANSP:OPAQUE
BEGIN:VALARM
TRIGGER:-PT2H
ACTION:DISPLAY
DESCRIPTION:TOM  BEAN YOUNG vs. BELLS CARTER
END:VALARM
END:VEVENT
BEGIN:VEVENT
UID:rrsa-73219528-20260504T200000@quickscores.com
DTSTAMP:20260425T230700Z
DTSTART;TZID=America/Chicago:20260504T200000
DURATION:PT1H15M0S
SUMMARY:TOM  BEAN YOUNG vs. BELLS LUJAN
DESCRIPTION:10u Softball - <br><br><br>Red River Sports Association
LOCATION:TOM BEAN NORTH
CATEGORIES:QuickScores, Softball - Fastpitch Game
TRANSP:OPAQUE
BEGIN:VALARM
TRIGGER:-PT2H
ACTION:DISPLAY
DESCRIPTION:TOM  BEAN YOUNG vs. BELLS LUJAN
END:VALARM
END:VEVENT
BEGIN:VEVENT
UID:rrsa-73219531-20260507T180000@quickscores.com
DTSTAMP:20260425T230700Z
DTSTART;TZID=America/Chicago:20260507T180000
DURATION:PT1H15M0S
SUMMARY:TOM  BEAN YOUNG vs. TRENTON ALLISON
DESCRIPTION:10u Softball - <br><br><br>Red River Sports Association
LOCATION:TOM BEAN NORTH
CATEGORIES:QuickScores, Softball - Fastpitch Game
TRANSP:OPAQUE
BEGIN:VALARM
TRIGGER:-PT2H
ACTION:DISPLAY
DESCRIPTION:TOM  BEAN YOUNG vs. TRENTON ALLISON
END:VALARM
END:VEVENT
BEGIN:VEVENT
UID:rrsa-73219533-20260511T190000@quickscores.com
DTSTAMP:20260425T230700Z
DTSTART;TZID=America/Chicago:20260511T190000
DURATION:PT1H15M0S
SUMMARY:WHITEWRIGHT DOUGLAS vs. TOM  BEAN YOUNG
DESCRIPTION:10u Softball - <br><br><br>Red River Sports Association
LOCATION:WW NORTHWEST
CATEGORIES:QuickScores, Softball - Fastpitch Game
TRANSP:OPAQUE
BEGIN:VALARM
TRIGGER:-PT2H
ACTION:DISPLAY
DESCRIPTION:WHITEWRIGHT DOUGLAS vs. TOM  BEAN YOUNG
END:VALARM
END:VEVENT
BEGIN:VEVENT
UID:rrsa-73219471-20260514T190000@quickscores.com
DTSTAMP:20260425T230700Z
DTSTART;TZID=America/Chicago:20260514T190000
DURATION:PT1H15M0S
SUMMARY:TOM  BEAN YOUNG vs. VAN ALSTYNE FUNK
DESCRIPTION:10u Softball - <br><br><br>Red River Sports Association
LOCATION:TOM BEAN NORTH
CATEGORIES:QuickScores, Softball - Fastpitch Game
TRANSP:OPAQUE
BEGIN:VALARM
TRIGGER:-PT2H
ACTION:DISPLAY
DESCRIPTION:TOM  BEAN YOUNG vs. VAN ALSTYNE FUNK
END:VALARM
END:VEVENT
END:VCALENDAR
