BEGIN:VCALENDAR
VERSION:2.0
PRODID:-//QuickScores.com//BQ Dynamic iCal Creator//EN
METHOD:PUBLISH
X-WR-CALNAME:COLLINSVILLE SCHROEDER - 10u Softball - Spring 2026
X-WR-CALDESC:QuickScores game calendar
X-PUBLISHED-TTL:PT24H
REFRESH-INTERVAL;VALUE=DURATION:PT24H
CALSCALE:GREGORIAN
BEGIN:VTIMEZONE
TZID:America/Chicago
X-LIC-LOCATION:America/Chicago
BEGIN:DAYLIGHT
TZNAME:CDT
TZOFFSETFROM:-0600
TZOFFSETTO:-0500
DTSTART:19700308T020000
RRULE:FREQ=YEARLY;BYMONTH=3;BYDAY=2SU
END:DAYLIGHT
BEGIN:STANDARD
TZNAME:CST
TZOFFSETFROM:-0500
TZOFFSETTO:-0600
DTSTART:19701101T020000
RRULE:FREQ=YEARLY;BYMONTH=11;BYDAY=1SU
END:STANDARD
END:VTIMEZONE
BEGIN:VEVENT
UID:rrsa-73219451-20260330T200000@quickscores.com
DTSTAMP:20260422T153800Z
DTSTART;TZID=America/Chicago:20260330T200000
DURATION:PT1H15M0S
SUMMARY:TOM  BEAN YOUNG vs. COLLINSVILLE SCHROEDER
DESCRIPTION:10u Softball - <br><br><br>Red River Sports Association
LOCATION:TOM BEAN NORTH
CATEGORIES:QuickScores, Softball - Fastpitch Game
TRANSP:OPAQUE
BEGIN:VALARM
TRIGGER:-PT2H
ACTION:DISPLAY
DESCRIPTION:TOM  BEAN YOUNG vs. COLLINSVILLE SCHROEDER
END:VALARM
END:VEVENT
BEGIN:VEVENT
UID:rrsa-73219455-20260402T190000@quickscores.com
DTSTAMP:20260422T153800Z
DTSTART;TZID=America/Chicago:20260402T190000
DURATION:PT1H15M0S
SUMMARY:LEONARD PEACH vs. COLLINSVILLE SCHROEDER
DESCRIPTION:10u Softball - <br><br><br>Red River Sports Association
LOCATION:LEONARD F1
CATEGORIES:QuickScores, Softball - Fastpitch Game
TRANSP:OPAQUE
BEGIN:VALARM
TRIGGER:-PT2H
ACTION:DISPLAY
DESCRIPTION:LEONARD PEACH vs. COLLINSVILLE SCHROEDER
END:VALARM
END:VEVENT
BEGIN:VEVENT
UID:rrsa-73219464-20260409T190000@quickscores.com
DTSTAMP:20260422T153800Z
DTSTART;TZID=America/Chicago:20260409T190000
DURATION:PT1H15M0S
SUMMARY:BELLS CARTER vs. COLLINSVILLE SCHROEDER
DESCRIPTION:10u Softball - <br><br><br>Red River Sports Association
LOCATION:BELLS F3 RODDY
CATEGORIES:QuickScores, Softball - Fastpitch Game
TRANSP:OPAQUE
BEGIN:VALARM
TRIGGER:-PT2H
ACTION:DISPLAY
DESCRIPTION:BELLS CARTER vs. COLLINSVILLE SCHROEDER
END:VALARM
END:VEVENT
BEGIN:VEVENT
UID:rrsa-73219480-20260413T191500@quickscores.com
DTSTAMP:20260422T153800Z
DTSTART;TZID=America/Chicago:20260413T191500
DURATION:PT1H15M0S
SUMMARY:COLLINSVILLE SCHROEDER vs. VAN ALSTYNE FUNK
DESCRIPTION:10u Softball - <br><br><br>Red River Sports Association
LOCATION:COLLINSVILLE F2
CATEGORIES:QuickScores, Softball - Fastpitch Game
TRANSP:OPAQUE
BEGIN:VALARM
TRIGGER:-PT2H
ACTION:DISPLAY
DESCRIPTION:COLLINSVILLE SCHROEDER vs. VAN ALSTYNE FUNK
END:VALARM
END:VEVENT
BEGIN:VEVENT
UID:rrsa-73219484-20260416T190000@quickscores.com
DTSTAMP:20260422T153800Z
DTSTART;TZID=America/Chicago:20260416T190000
DURATION:PT1H15M0S
SUMMARY:COLLINSVILLE SCHROEDER vs. HOWE PRITCHARD
DESCRIPTION:10u Softball - <br><br><br>Red River Sports Association
LOCATION:COLLINSVILLE F2
CATEGORIES:QuickScores, Softball - Fastpitch Game
TRANSP:OPAQUE
BEGIN:VALARM
TRIGGER:-PT2H
ACTION:DISPLAY
DESCRIPTION:COLLINSVILLE SCHROEDER vs. HOWE PRITCHARD
END:VALARM
END:VEVENT
BEGIN:VEVENT
UID:rrsa-73219503-20260423T180000@quickscores.com
DTSTAMP:20260422T153800Z
DTSTART;TZID=America/Chicago:20260423T180000
DURATION:PT1H15M0S
SUMMARY:COLLINSVILLE SCHROEDER vs. POTTSBORO PERDUE
DESCRIPTION:10u Softball - <br><br><br>Red River Sports Association
LOCATION:COLLINSVILLE F2
CATEGORIES:QuickScores, Softball - Fastpitch Game
TRANSP:OPAQUE
BEGIN:VALARM
TRIGGER:-PT2H
ACTION:DISPLAY
DESCRIPTION:COLLINSVILLE SCHROEDER vs. POTTSBORO PERDUE
END:VALARM
END:VEVENT
BEGIN:VEVENT
UID:rrsa-73219491-20260423T191500@quickscores.com
DTSTAMP:20260422T153800Z
DTSTART;TZID=America/Chicago:20260423T191500
DURATION:PT1H15M0S
SUMMARY:BELLS MCCAIN vs. COLLINSVILLE SCHROEDER
DESCRIPTION:10u Softball - <br><br><br>Red River Sports Association
LOCATION:COLLINSVILLE F2
CATEGORIES:QuickScores, Softball - Fastpitch Game
TRANSP:OPAQUE
BEGIN:VALARM
TRIGGER:-PT2H
ACTION:DISPLAY
DESCRIPTION:BELLS MCCAIN vs. COLLINSVILLE SCHROEDER
END:VALARM
END:VEVENT
BEGIN:VEVENT
UID:rrsa-73219506-20260427T180000@quickscores.com
DTSTAMP:20260422T153800Z
DTSTART;TZID=America/Chicago:20260427T180000
DURATION:PT1H15M0S
SUMMARY:COLLINSVILLE SCHROEDER vs. POTTSBORO WILBURN
DESCRIPTION:10u Softball - <br><br><br>Red River Sports Association
LOCATION:POTTSBORO D
CATEGORIES:QuickScores, Softball - Fastpitch Game
TRANSP:OPAQUE
BEGIN:VALARM
TRIGGER:-PT2H
ACTION:DISPLAY
DESCRIPTION:COLLINSVILLE SCHROEDER vs. POTTSBORO WILBURN
END:VALARM
END:VEVENT
BEGIN:VEVENT
UID:rrsa-73219520-20260430T180000@quickscores.com
DTSTAMP:20260422T153800Z
DTSTART;TZID=America/Chicago:20260430T180000
DURATION:PT1H15M0S
SUMMARY:COLLINSVILLE SCHROEDER vs. LEONARD WREN
DESCRIPTION:10u Softball - <br><br><br>Red River Sports Association
LOCATION:COLLINSVILLE F2
CATEGORIES:QuickScores, Softball - Fastpitch Game
TRANSP:OPAQUE
BEGIN:VALARM
TRIGGER:-PT2H
ACTION:DISPLAY
DESCRIPTION:COLLINSVILLE SCHROEDER vs. LEONARD WREN
END:VALARM
END:VEVENT
BEGIN:VEVENT
UID:rrsa-73219521-20260504T180000@quickscores.com
DTSTAMP:20260422T153800Z
DTSTART;TZID=America/Chicago:20260504T180000
DURATION:PT1H15M0S
SUMMARY:COLLINSVILLE SCHROEDER vs. WHITEWRIGHT DOUGLAS
DESCRIPTION:10u Softball - <br><br><br>Red River Sports Association
LOCATION:COLLINSVILLE F2
CATEGORIES:QuickScores, Softball - Fastpitch Game
TRANSP:OPAQUE
BEGIN:VALARM
TRIGGER:-PT2H
ACTION:DISPLAY
DESCRIPTION:COLLINSVILLE SCHROEDER vs. WHITEWRIGHT DOUGLAS
END:VALARM
END:VEVENT
BEGIN:VEVENT
UID:rrsa-73219540-20260511T190000@quickscores.com
DTSTAMP:20260422T153800Z
DTSTART;TZID=America/Chicago:20260511T190000
DURATION:PT1H15M0S
SUMMARY:COLLINSVILLE BATES vs. COLLINSVILLE SCHROEDER
DESCRIPTION:10u Softball - <br><br><br>Red River Sports Association
LOCATION:COLLINSVILLE F2
CATEGORIES:QuickScores, Softball - Fastpitch Game
TRANSP:OPAQUE
BEGIN:VALARM
TRIGGER:-PT2H
ACTION:DISPLAY
DESCRIPTION:COLLINSVILLE BATES vs. COLLINSVILLE SCHROEDER
END:VALARM
END:VEVENT
BEGIN:VEVENT
UID:rrsa-73219542-20260514T180000@quickscores.com
DTSTAMP:20260422T153800Z
DTSTART;TZID=America/Chicago:20260514T180000
DURATION:PT1H15M0S
SUMMARY:TRENTON ALLISON vs. COLLINSVILLE SCHROEDER
DESCRIPTION:10u Softball - <br><br><br>Red River Sports Association
LOCATION:TRENTON F1
CATEGORIES:QuickScores, Softball - Fastpitch Game
TRANSP:OPAQUE
BEGIN:VALARM
TRIGGER:-PT2H
ACTION:DISPLAY
DESCRIPTION:TRENTON ALLISON vs. COLLINSVILLE SCHROEDER
END:VALARM
END:VEVENT
END:VCALENDAR
