BEGIN:VCALENDAR
VERSION:2.0
PRODID:-//QuickScores.com//BQ Dynamic iCal Creator//EN
METHOD:PUBLISH
X-WR-CALNAME:COLLINSVILLE BATES - 10u Softball - Spring 2026
X-WR-CALDESC:QuickScores game calendar
X-PUBLISHED-TTL:PT24H
REFRESH-INTERVAL;VALUE=DURATION:PT24H
CALSCALE:GREGORIAN
BEGIN:VTIMEZONE
TZID:America/Chicago
X-LIC-LOCATION:America/Chicago
BEGIN:DAYLIGHT
TZNAME:CDT
TZOFFSETFROM:-0600
TZOFFSETTO:-0500
DTSTART:19700308T020000
RRULE:FREQ=YEARLY;BYMONTH=3;BYDAY=2SU
END:DAYLIGHT
BEGIN:STANDARD
TZNAME:CST
TZOFFSETFROM:-0500
TZOFFSETTO:-0600
DTSTART:19701101T020000
RRULE:FREQ=YEARLY;BYMONTH=11;BYDAY=1SU
END:STANDARD
END:VTIMEZONE
BEGIN:VEVENT
UID:rrsa-73219450-20260330T190000@quickscores.com
DTSTAMP:20260422T054300Z
DTSTART;TZID=America/Chicago:20260330T190000
DURATION:PT1H15M0S
SUMMARY:COLLINSVILLE BATES vs. BELLS LUJAN
DESCRIPTION:10u Softball - <br><br><br>Red River Sports Association
LOCATION:COLLINSVILLE F2
CATEGORIES:QuickScores, Softball - Fastpitch Game
TRANSP:OPAQUE
BEGIN:VALARM
TRIGGER:-PT2H
ACTION:DISPLAY
DESCRIPTION:COLLINSVILLE BATES vs. BELLS LUJAN
END:VALARM
END:VEVENT
BEGIN:VEVENT
UID:rrsa-73219463-20260406T180000@quickscores.com
DTSTAMP:20260422T054300Z
DTSTART;TZID=America/Chicago:20260406T180000
DURATION:PT1H15M0S
SUMMARY:WHITEWRIGHT SELMAN vs. COLLINSVILLE BATES
DESCRIPTION:10u Softball - <br><br><br>Red River Sports Association
LOCATION:WW NORTHWEST
CATEGORIES:QuickScores, Softball - Fastpitch Game
TRANSP:OPAQUE
BEGIN:VALARM
TRIGGER:-PT2H
ACTION:DISPLAY
DESCRIPTION:WHITEWRIGHT SELMAN vs. COLLINSVILLE BATES
END:VALARM
END:VEVENT
BEGIN:VEVENT
UID:rrsa-73219474-20260409T201500@quickscores.com
DTSTAMP:20260422T054300Z
DTSTART;TZID=America/Chicago:20260409T201500
DURATION:PT1H15M0S
SUMMARY:POTTSBORO WILBURN vs. COLLINSVILLE BATES
DESCRIPTION:10u Softball - <br><br><br>Red River Sports Association
LOCATION:POTTSBORO D
CATEGORIES:QuickScores, Softball - Fastpitch Game
TRANSP:OPAQUE
BEGIN:VALARM
TRIGGER:-PT2H
ACTION:DISPLAY
DESCRIPTION:POTTSBORO WILBURN vs. COLLINSVILLE BATES
END:VALARM
END:VEVENT
BEGIN:VEVENT
UID:rrsa-73219479-20260413T180000@quickscores.com
DTSTAMP:20260422T054300Z
DTSTART;TZID=America/Chicago:20260413T180000
DURATION:PT1H15M0S
SUMMARY:COLLINSVILLE BATES vs. TRENTON YONKIN
DESCRIPTION:10u Softball - <br><br><br>Red River Sports Association
LOCATION:COLLINSVILLE F2
CATEGORIES:QuickScores, Softball - Fastpitch Game
TRANSP:OPAQUE
BEGIN:VALARM
TRIGGER:-PT2H
ACTION:DISPLAY
DESCRIPTION:COLLINSVILLE BATES vs. TRENTON YONKIN
END:VALARM
END:VEVENT
BEGIN:VEVENT
UID:rrsa-73219483-20260416T180000@quickscores.com
DTSTAMP:20260422T054300Z
DTSTART;TZID=America/Chicago:20260416T180000
DURATION:PT1H15M0S
SUMMARY:VAN ALSTYNE FUNK vs. COLLINSVILLE BATES
DESCRIPTION:10u Softball - <br><br><br>Red River Sports Association
LOCATION:VA FMP 2
CATEGORIES:QuickScores, Softball - Fastpitch Game
TRANSP:OPAQUE
BEGIN:VALARM
TRIGGER:-PT2H
ACTION:DISPLAY
DESCRIPTION:VAN ALSTYNE FUNK vs. COLLINSVILLE BATES
END:VALARM
END:VEVENT
BEGIN:VEVENT
UID:rrsa-73219490-20260420T190000@quickscores.com
DTSTAMP:20260422T054300Z
DTSTART;TZID=America/Chicago:20260420T190000
DURATION:PT1H15M0S
SUMMARY:COLLINSVILLE BATES vs. TRENTON ALLISON
DESCRIPTION:10u Softball - <br><br><br>Red River Sports Association
LOCATION:COLLINSVILLE F2
CATEGORIES:QuickScores, Softball - Fastpitch Game
TRANSP:OPAQUE
BEGIN:VALARM
TRIGGER:-PT2H
ACTION:DISPLAY
DESCRIPTION:COLLINSVILLE BATES vs. TRENTON ALLISON
END:VALARM
END:VEVENT
BEGIN:VEVENT
UID:rrsa-73219502-20260423T190000@quickscores.com
DTSTAMP:20260422T054300Z
DTSTART;TZID=America/Chicago:20260423T190000
DURATION:PT1H15M0S
SUMMARY:HOWE PRITCHARD vs. COLLINSVILLE BATES
DESCRIPTION:10u Softball - <br><br><br>Red River Sports Association
LOCATION:HOWE SOUTH
CATEGORIES:QuickScores, Softball - Fastpitch Game
TRANSP:OPAQUE
BEGIN:VALARM
TRIGGER:-PT2H
ACTION:DISPLAY
DESCRIPTION:HOWE PRITCHARD vs. COLLINSVILLE BATES
END:VALARM
END:VEVENT
BEGIN:VEVENT
UID:rrsa-73219505-20260427T190000@quickscores.com
DTSTAMP:20260422T054300Z
DTSTART;TZID=America/Chicago:20260427T190000
DURATION:PT1H15M0S
SUMMARY:WHITEWRIGHT DOUGLAS vs. COLLINSVILLE BATES
DESCRIPTION:10u Softball - <br><br><br>Red River Sports Association
LOCATION:WW SOUTHWEST
CATEGORIES:QuickScores, Softball - Fastpitch Game
TRANSP:OPAQUE
BEGIN:VALARM
TRIGGER:-PT2H
ACTION:DISPLAY
DESCRIPTION:WHITEWRIGHT DOUGLAS vs. COLLINSVILLE BATES
END:VALARM
END:VEVENT
BEGIN:VEVENT
UID:rrsa-73219519-20260430T190000@quickscores.com
DTSTAMP:20260422T054300Z
DTSTART;TZID=America/Chicago:20260430T190000
DURATION:PT1H15M0S
SUMMARY:LEONARD PEACH vs. COLLINSVILLE BATES
DESCRIPTION:10u Softball - <br><br><br>Red River Sports Association
LOCATION:LEONARD F1
CATEGORIES:QuickScores, Softball - Fastpitch Game
TRANSP:OPAQUE
BEGIN:VALARM
TRIGGER:-PT2H
ACTION:DISPLAY
DESCRIPTION:LEONARD PEACH vs. COLLINSVILLE BATES
END:VALARM
END:VEVENT
BEGIN:VEVENT
UID:rrsa-73219522-20260504T190000@quickscores.com
DTSTAMP:20260422T054300Z
DTSTART;TZID=America/Chicago:20260504T190000
DURATION:PT1H15M0S
SUMMARY:LEONARD WREN vs. COLLINSVILLE BATES
DESCRIPTION:10u Softball - <br><br><br>Red River Sports Association
LOCATION:LEONARD F1
CATEGORIES:QuickScores, Softball - Fastpitch Game
TRANSP:OPAQUE
BEGIN:VALARM
TRIGGER:-PT2H
ACTION:DISPLAY
DESCRIPTION:LEONARD WREN vs. COLLINSVILLE BATES
END:VALARM
END:VEVENT
BEGIN:VEVENT
UID:rrsa-73219530-20260507T190000@quickscores.com
DTSTAMP:20260422T054300Z
DTSTART;TZID=America/Chicago:20260507T190000
DURATION:PT1H15M0S
SUMMARY:COLLINSVILLE BATES vs. POTTSBORO PERDUE
DESCRIPTION:10u Softball - <br><br><br>Red River Sports Association
LOCATION:COLLINSVILLE F2
CATEGORIES:QuickScores, Softball - Fastpitch Game
TRANSP:OPAQUE
BEGIN:VALARM
TRIGGER:-PT2H
ACTION:DISPLAY
DESCRIPTION:COLLINSVILLE BATES vs. POTTSBORO PERDUE
END:VALARM
END:VEVENT
BEGIN:VEVENT
UID:rrsa-73219540-20260511T190000@quickscores.com
DTSTAMP:20260422T054300Z
DTSTART;TZID=America/Chicago:20260511T190000
DURATION:PT1H15M0S
SUMMARY:COLLINSVILLE BATES vs. COLLINSVILLE SCHROEDER
DESCRIPTION:10u Softball - <br><br><br>Red River Sports Association
LOCATION:COLLINSVILLE F2
CATEGORIES:QuickScores, Softball - Fastpitch Game
TRANSP:OPAQUE
BEGIN:VALARM
TRIGGER:-PT2H
ACTION:DISPLAY
DESCRIPTION:COLLINSVILLE BATES vs. COLLINSVILLE SCHROEDER
END:VALARM
END:VEVENT
END:VCALENDAR
