BEGIN:VCALENDAR
VERSION:2.0
PRODID:-//QuickScores.com//BQ Dynamic iCal Creator//EN
METHOD:PUBLISH
X-WR-CALNAME:TRENTON ALLISON - 10u Softball - Spring 2026
X-WR-CALDESC:QuickScores game calendar
X-PUBLISHED-TTL:PT24H
REFRESH-INTERVAL;VALUE=DURATION:PT24H
CALSCALE:GREGORIAN
BEGIN:VTIMEZONE
TZID:America/Chicago
X-LIC-LOCATION:America/Chicago
BEGIN:DAYLIGHT
TZNAME:CDT
TZOFFSETFROM:-0600
TZOFFSETTO:-0500
DTSTART:19700308T020000
RRULE:FREQ=YEARLY;BYMONTH=3;BYDAY=2SU
END:DAYLIGHT
BEGIN:STANDARD
TZNAME:CST
TZOFFSETFROM:-0500
TZOFFSETTO:-0600
DTSTART:19701101T020000
RRULE:FREQ=YEARLY;BYMONTH=11;BYDAY=1SU
END:STANDARD
END:VTIMEZONE
BEGIN:VEVENT
UID:rrsa-73219448-20260330T190000@quickscores.com
DTSTAMP:20260421T101700Z
DTSTART;TZID=America/Chicago:20260330T190000
DURATION:PT1H15M0S
SUMMARY:TRENTON ALLISON vs. WHITEWRIGHT SELMAN
DESCRIPTION:10u Softball - <br><br><br>Red River Sports Association
LOCATION:TRENTON F1
CATEGORIES:QuickScores, Softball - Fastpitch Game
TRANSP:OPAQUE
BEGIN:VALARM
TRIGGER:-PT2H
ACTION:DISPLAY
DESCRIPTION:TRENTON ALLISON vs. WHITEWRIGHT SELMAN
END:VALARM
END:VEVENT
BEGIN:VEVENT
UID:rrsa-73219461-20260406T191500@quickscores.com
DTSTAMP:20260421T101700Z
DTSTART;TZID=America/Chicago:20260406T191500
DURATION:PT1H15M0S
SUMMARY:WHITEWRIGHT DOUGLAS vs. TRENTON ALLISON
DESCRIPTION:10u Softball - <br><br><br>Red River Sports Association
LOCATION:WW NORTHWEST
CATEGORIES:QuickScores, Softball - Fastpitch Game
TRANSP:OPAQUE
BEGIN:VALARM
TRIGGER:-PT2H
ACTION:DISPLAY
DESCRIPTION:WHITEWRIGHT DOUGLAS vs. TRENTON ALLISON
END:VALARM
END:VEVENT
BEGIN:VEVENT
UID:rrsa-73219459-20260409T200000@quickscores.com
DTSTAMP:20260421T101700Z
DTSTART;TZID=America/Chicago:20260409T200000
DURATION:PT1H15M0S
SUMMARY:VAN ALSTYNE FUNK vs. TRENTON ALLISON
DESCRIPTION:10u Softball - <br><br><br>Red River Sports Association
LOCATION:VA FMP 1
CATEGORIES:QuickScores, Softball - Fastpitch Game
TRANSP:OPAQUE
BEGIN:VALARM
TRIGGER:-PT2H
ACTION:DISPLAY
DESCRIPTION:VAN ALSTYNE FUNK vs. TRENTON ALLISON
END:VALARM
END:VEVENT
BEGIN:VEVENT
UID:rrsa-73219477-20260413T190000@quickscores.com
DTSTAMP:20260421T101700Z
DTSTART;TZID=America/Chicago:20260413T190000
DURATION:PT1H15M0S
SUMMARY:TRENTON ALLISON vs. BELLS LUJAN
DESCRIPTION:10u Softball - <br><br><br>Red River Sports Association
LOCATION:TRENTON F1
CATEGORIES:QuickScores, Softball - Fastpitch Game
TRANSP:OPAQUE
BEGIN:VALARM
TRIGGER:-PT2H
ACTION:DISPLAY
DESCRIPTION:TRENTON ALLISON vs. BELLS LUJAN
END:VALARM
END:VEVENT
BEGIN:VEVENT
UID:rrsa-73219490-20260420T190000@quickscores.com
DTSTAMP:20260421T101700Z
DTSTART;TZID=America/Chicago:20260420T190000
DURATION:PT1H15M0S
SUMMARY:COLLINSVILLE BATES vs. TRENTON ALLISON
DESCRIPTION:10u Softball - <br><br><br>Red River Sports Association
LOCATION:COLLINSVILLE F2
CATEGORIES:QuickScores, Softball - Fastpitch Game
TRANSP:OPAQUE
BEGIN:VALARM
TRIGGER:-PT2H
ACTION:DISPLAY
DESCRIPTION:COLLINSVILLE BATES vs. TRENTON ALLISON
END:VALARM
END:VEVENT
BEGIN:VEVENT
UID:rrsa-73219500-20260423T190000@quickscores.com
DTSTAMP:20260421T101700Z
DTSTART;TZID=America/Chicago:20260423T190000
DURATION:PT1H15M0S
SUMMARY:TRENTON ALLISON vs. TRENTON YONKIN
DESCRIPTION:10u Softball - <br><br><br>Red River Sports Association
LOCATION:TRENTON F1
CATEGORIES:QuickScores, Softball - Fastpitch Game
TRANSP:OPAQUE
BEGIN:VALARM
TRIGGER:-PT2H
ACTION:DISPLAY
DESCRIPTION:TRENTON ALLISON vs. TRENTON YONKIN
END:VALARM
END:VEVENT
BEGIN:VEVENT
UID:rrsa-73219507-20260427T200000@quickscores.com
DTSTAMP:20260421T101700Z
DTSTART;TZID=America/Chicago:20260427T200000
DURATION:PT1H15M0S
SUMMARY:LEONARD WREN vs. TRENTON ALLISON
DESCRIPTION:10u Softball - <br><br><br>Red River Sports Association
LOCATION:LEONARD F1
CATEGORIES:QuickScores, Softball - Fastpitch Game
TRANSP:OPAQUE
BEGIN:VALARM
TRIGGER:-PT2H
ACTION:DISPLAY
DESCRIPTION:LEONARD WREN vs. TRENTON ALLISON
END:VALARM
END:VEVENT
BEGIN:VEVENT
UID:rrsa-73219517-20260430T180000@quickscores.com
DTSTAMP:20260421T101700Z
DTSTART;TZID=America/Chicago:20260430T180000
DURATION:PT1H15M0S
SUMMARY:HOWE PRITCHARD vs. TRENTON ALLISON
DESCRIPTION:10u Softball - <br><br><br>Red River Sports Association
LOCATION:HOWE NORTH
CATEGORIES:QuickScores, Softball - Fastpitch Game
TRANSP:OPAQUE
BEGIN:VALARM
TRIGGER:-PT2H
ACTION:DISPLAY
DESCRIPTION:HOWE PRITCHARD vs. TRENTON ALLISON
END:VALARM
END:VEVENT
BEGIN:VEVENT
UID:rrsa-73219524-20260504T190000@quickscores.com
DTSTAMP:20260421T101700Z
DTSTART;TZID=America/Chicago:20260504T190000
DURATION:PT1H15M0S
SUMMARY:POTTSBORO PERDUE vs. TRENTON ALLISON
DESCRIPTION:10u Softball - <br><br><br>Red River Sports Association
LOCATION:POTTSBORO D
CATEGORIES:QuickScores, Softball - Fastpitch Game
TRANSP:OPAQUE
BEGIN:VALARM
TRIGGER:-PT2H
ACTION:DISPLAY
DESCRIPTION:POTTSBORO PERDUE vs. TRENTON ALLISON
END:VALARM
END:VEVENT
BEGIN:VEVENT
UID:rrsa-73219531-20260507T180000@quickscores.com
DTSTAMP:20260421T101700Z
DTSTART;TZID=America/Chicago:20260507T180000
DURATION:PT1H15M0S
SUMMARY:TOM  BEAN YOUNG vs. TRENTON ALLISON
DESCRIPTION:10u Softball - <br><br><br>Red River Sports Association
LOCATION:TOM BEAN NORTH
CATEGORIES:QuickScores, Softball - Fastpitch Game
TRANSP:OPAQUE
BEGIN:VALARM
TRIGGER:-PT2H
ACTION:DISPLAY
DESCRIPTION:TOM  BEAN YOUNG vs. TRENTON ALLISON
END:VALARM
END:VEVENT
BEGIN:VEVENT
UID:rrsa-73219538-20260511T180000@quickscores.com
DTSTAMP:20260421T101700Z
DTSTART;TZID=America/Chicago:20260511T180000
DURATION:PT1H15M0S
SUMMARY:LEONARD PEACH vs. TRENTON ALLISON
DESCRIPTION:10u Softball - <br><br><br>Red River Sports Association
LOCATION:LEONARD F1
CATEGORIES:QuickScores, Softball - Fastpitch Game
TRANSP:OPAQUE
BEGIN:VALARM
TRIGGER:-PT2H
ACTION:DISPLAY
DESCRIPTION:LEONARD PEACH vs. TRENTON ALLISON
END:VALARM
END:VEVENT
BEGIN:VEVENT
UID:rrsa-73219542-20260514T180000@quickscores.com
DTSTAMP:20260421T101700Z
DTSTART;TZID=America/Chicago:20260514T180000
DURATION:PT1H15M0S
SUMMARY:TRENTON ALLISON vs. COLLINSVILLE SCHROEDER
DESCRIPTION:10u Softball - <br><br><br>Red River Sports Association
LOCATION:TRENTON F1
CATEGORIES:QuickScores, Softball - Fastpitch Game
TRANSP:OPAQUE
BEGIN:VALARM
TRIGGER:-PT2H
ACTION:DISPLAY
DESCRIPTION:TRENTON ALLISON vs. COLLINSVILLE SCHROEDER
END:VALARM
END:VEVENT
END:VCALENDAR
