BEGIN:VCALENDAR
VERSION:2.0
PRODID:-//QuickScores.com//BQ Dynamic iCal Creator//EN
METHOD:PUBLISH
X-WR-CALNAME:TRENTON YONKIN - 10u Softball - Spring 2026
X-WR-CALDESC:QuickScores game calendar
X-PUBLISHED-TTL:PT24H
REFRESH-INTERVAL;VALUE=DURATION:PT24H
CALSCALE:GREGORIAN
BEGIN:VTIMEZONE
TZID:America/Chicago
X-LIC-LOCATION:America/Chicago
BEGIN:DAYLIGHT
TZNAME:CDT
TZOFFSETFROM:-0600
TZOFFSETTO:-0500
DTSTART:19700308T020000
RRULE:FREQ=YEARLY;BYMONTH=3;BYDAY=2SU
END:DAYLIGHT
BEGIN:STANDARD
TZNAME:CST
TZOFFSETFROM:-0500
TZOFFSETTO:-0600
DTSTART:19701101T020000
RRULE:FREQ=YEARLY;BYMONTH=11;BYDAY=1SU
END:STANDARD
END:VTIMEZONE
BEGIN:VEVENT
UID:rrsa-73219452-20260330T200000@quickscores.com
DTSTAMP:20260422T054400Z
DTSTART;TZID=America/Chicago:20260330T200000
DURATION:PT1H15M0S
SUMMARY:LEONARD WREN vs. TRENTON YONKIN
DESCRIPTION:10u Softball - <br><br><br>Red River Sports Association
LOCATION:LEONARD F1
CATEGORIES:QuickScores, Softball - Fastpitch Game
TRANSP:OPAQUE
BEGIN:VALARM
TRIGGER:-PT2H
ACTION:DISPLAY
DESCRIPTION:LEONARD WREN vs. TRENTON YONKIN
END:VALARM
END:VEVENT
BEGIN:VEVENT
UID:rrsa-73219457-20260401T190000@quickscores.com
DTSTAMP:20260422T054400Z
DTSTART;TZID=America/Chicago:20260401T190000
DURATION:PT1H15M0S
SUMMARY:TRENTON YONKIN vs. BELLS MCCAIN
DESCRIPTION:10u Softball - <br><br><br>Red River Sports Association
LOCATION:TRENTON F1
CATEGORIES:QuickScores, Softball - Fastpitch Game
TRANSP:OPAQUE
BEGIN:VALARM
TRIGGER:-PT2H
ACTION:DISPLAY
DESCRIPTION:TRENTON YONKIN vs. BELLS MCCAIN
END:VALARM
END:VEVENT
BEGIN:VEVENT
UID:rrsa-73219467-20260409T190000@quickscores.com
DTSTAMP:20260422T054400Z
DTSTART;TZID=America/Chicago:20260409T190000
DURATION:PT1H15M0S
SUMMARY:TRENTON YONKIN vs. POTTSBORO PERDUE
DESCRIPTION:10u Softball - <br><br><br>Red River Sports Association
LOCATION:TRENTON F1
CATEGORIES:QuickScores, Softball - Fastpitch Game
TRANSP:OPAQUE
BEGIN:VALARM
TRIGGER:-PT2H
ACTION:DISPLAY
DESCRIPTION:TRENTON YONKIN vs. POTTSBORO PERDUE
END:VALARM
END:VEVENT
BEGIN:VEVENT
UID:rrsa-73219479-20260413T180000@quickscores.com
DTSTAMP:20260422T054400Z
DTSTART;TZID=America/Chicago:20260413T180000
DURATION:PT1H15M0S
SUMMARY:COLLINSVILLE BATES vs. TRENTON YONKIN
DESCRIPTION:10u Softball - <br><br><br>Red River Sports Association
LOCATION:COLLINSVILLE F2
CATEGORIES:QuickScores, Softball - Fastpitch Game
TRANSP:OPAQUE
BEGIN:VALARM
TRIGGER:-PT2H
ACTION:DISPLAY
DESCRIPTION:COLLINSVILLE BATES vs. TRENTON YONKIN
END:VALARM
END:VEVENT
BEGIN:VEVENT
UID:rrsa-73219488-20260416T190000@quickscores.com
DTSTAMP:20260422T054400Z
DTSTART;TZID=America/Chicago:20260416T190000
DURATION:PT1H15M0S
SUMMARY:POTTSBORO WILBURN vs. TRENTON YONKIN
DESCRIPTION:10u Softball - <br><br><br>Red River Sports Association
LOCATION:POTTSBORO C
CATEGORIES:QuickScores, Softball - Fastpitch Game
TRANSP:OPAQUE
BEGIN:VALARM
TRIGGER:-PT2H
ACTION:DISPLAY
DESCRIPTION:POTTSBORO WILBURN vs. TRENTON YONKIN
END:VALARM
END:VEVENT
BEGIN:VEVENT
UID:rrsa-73219496-20260420T191500@quickscores.com
DTSTAMP:20260422T054400Z
DTSTART;TZID=America/Chicago:20260420T191500
DURATION:PT1H15M0S
SUMMARY:TRENTON YONKIN vs. VAN ALSTYNE FUNK
DESCRIPTION:10u Softball - <br><br><br>Red River Sports Association
LOCATION:TRENTON F1
CATEGORIES:QuickScores, Softball - Fastpitch Game
TRANSP:OPAQUE
BEGIN:VALARM
TRIGGER:-PT2H
ACTION:DISPLAY
DESCRIPTION:TRENTON YONKIN vs. VAN ALSTYNE FUNK
END:VALARM
END:VEVENT
BEGIN:VEVENT
UID:rrsa-73219500-20260423T190000@quickscores.com
DTSTAMP:20260422T054400Z
DTSTART;TZID=America/Chicago:20260423T190000
DURATION:PT1H15M0S
SUMMARY:TRENTON ALLISON vs. TRENTON YONKIN
DESCRIPTION:10u Softball - <br><br><br>Red River Sports Association
LOCATION:TRENTON F1
CATEGORIES:QuickScores, Softball - Fastpitch Game
TRANSP:OPAQUE
BEGIN:VALARM
TRIGGER:-PT2H
ACTION:DISPLAY
DESCRIPTION:TRENTON ALLISON vs. TRENTON YONKIN
END:VALARM
END:VEVENT
BEGIN:VEVENT
UID:rrsa-73219512-20260427T200000@quickscores.com
DTSTAMP:20260422T054400Z
DTSTART;TZID=America/Chicago:20260427T200000
DURATION:PT1H15M0S
SUMMARY:TRENTON YONKIN vs. TOM  BEAN YOUNG
DESCRIPTION:10u Softball - <br><br><br>Red River Sports Association
LOCATION:TRENTON F1
CATEGORIES:QuickScores, Softball - Fastpitch Game
TRANSP:OPAQUE
BEGIN:VALARM
TRIGGER:-PT2H
ACTION:DISPLAY
DESCRIPTION:TRENTON YONKIN vs. TOM  BEAN YOUNG
END:VALARM
END:VEVENT
BEGIN:VEVENT
UID:rrsa-73219515-20260430T191500@quickscores.com
DTSTAMP:20260422T054400Z
DTSTART;TZID=America/Chicago:20260430T191500
DURATION:PT1H15M0S
SUMMARY:WHITEWRIGHT SELMAN vs. TRENTON YONKIN
DESCRIPTION:10u Softball - <br><br><br>Red River Sports Association
LOCATION:WW NORTHWEST
CATEGORIES:QuickScores, Softball - Fastpitch Game
TRANSP:OPAQUE
BEGIN:VALARM
TRIGGER:-PT2H
ACTION:DISPLAY
DESCRIPTION:WHITEWRIGHT SELMAN vs. TRENTON YONKIN
END:VALARM
END:VEVENT
BEGIN:VEVENT
UID:rrsa-73219527-20260504T190000@quickscores.com
DTSTAMP:20260422T054400Z
DTSTART;TZID=America/Chicago:20260504T190000
DURATION:PT1H15M0S
SUMMARY:TRENTON YONKIN vs. BELLS CARTER
DESCRIPTION:10u Softball - <br><br><br>Red River Sports Association
LOCATION:TRENTON F1
CATEGORIES:QuickScores, Softball - Fastpitch Game
TRANSP:OPAQUE
BEGIN:VALARM
TRIGGER:-PT2H
ACTION:DISPLAY
DESCRIPTION:TRENTON YONKIN vs. BELLS CARTER
END:VALARM
END:VEVENT
BEGIN:VEVENT
UID:rrsa-73219534-20260511T200000@quickscores.com
DTSTAMP:20260422T054400Z
DTSTART;TZID=America/Chicago:20260511T200000
DURATION:PT1H15M0S
SUMMARY:BELLS LUJAN vs. TRENTON YONKIN
DESCRIPTION:10u Softball - <br><br><br>Red River Sports Association
LOCATION:BELLS F3 RODDY
CATEGORIES:QuickScores, Softball - Fastpitch Game
TRANSP:OPAQUE
BEGIN:VALARM
TRIGGER:-PT2H
ACTION:DISPLAY
DESCRIPTION:BELLS LUJAN vs. TRENTON YONKIN
END:VALARM
END:VEVENT
BEGIN:VEVENT
UID:rrsa-73219473-20260514T191500@quickscores.com
DTSTAMP:20260422T054400Z
DTSTART;TZID=America/Chicago:20260514T191500
DURATION:PT1H15M0S
SUMMARY:TRENTON YONKIN vs. WHITEWRIGHT DOUGLAS
DESCRIPTION:10u Softball - <br><br><br>Red River Sports Association
LOCATION:TRENTON F1
CATEGORIES:QuickScores, Softball - Fastpitch Game
TRANSP:OPAQUE
BEGIN:VALARM
TRIGGER:-PT2H
ACTION:DISPLAY
DESCRIPTION:TRENTON YONKIN vs. WHITEWRIGHT DOUGLAS
END:VALARM
END:VEVENT
END:VCALENDAR
