BEGIN:VCALENDAR
VERSION:2.0
PRODID:-//QuickScores.com//BQ Dynamic iCal Creator//EN
METHOD:PUBLISH
X-WR-CALNAME:POTTSBORO PIERCE - 6u Softball - Spring 2026
X-WR-CALDESC:QuickScores game calendar
X-PUBLISHED-TTL:PT24H
REFRESH-INTERVAL;VALUE=DURATION:PT24H
CALSCALE:GREGORIAN
BEGIN:VTIMEZONE
TZID:America/Chicago
X-LIC-LOCATION:America/Chicago
BEGIN:DAYLIGHT
TZNAME:CDT
TZOFFSETFROM:-0600
TZOFFSETTO:-0500
DTSTART:19700308T020000
RRULE:FREQ=YEARLY;BYMONTH=3;BYDAY=2SU
END:DAYLIGHT
BEGIN:STANDARD
TZNAME:CST
TZOFFSETFROM:-0500
TZOFFSETTO:-0600
DTSTART:19701101T020000
RRULE:FREQ=YEARLY;BYMONTH=11;BYDAY=1SU
END:STANDARD
END:VTIMEZONE
BEGIN:VEVENT
UID:rrsa-73218944-20260330T180000@quickscores.com
DTSTAMP:20260422T004200Z
DTSTART;TZID=America/Chicago:20260330T180000
DURATION:PT1H0M0S
SUMMARY:POTTSBORO PIERCE vs. VA GOMEZ
DESCRIPTION:6u Softball - <br><br><br>Red River Sports Association
LOCATION:POTTSBORO C
CATEGORIES:QuickScores, Softball - Fastpitch Game
TRANSP:OPAQUE
BEGIN:VALARM
TRIGGER:-PT2H
ACTION:DISPLAY
DESCRIPTION:POTTSBORO PIERCE vs. VA GOMEZ
END:VALARM
END:VEVENT
BEGIN:VEVENT
UID:rrsa-73218950-20260402T180000@quickscores.com
DTSTAMP:20260422T004200Z
DTSTART;TZID=America/Chicago:20260402T180000
DURATION:PT1H0M0S
SUMMARY:POTTSBORO PIERCE vs. POTTSBORO ELLIS
DESCRIPTION:6u Softball - <br><br><br>Red River Sports Association
LOCATION:POTTSBORO C
CATEGORIES:QuickScores, Softball - Fastpitch Game
TRANSP:OPAQUE
BEGIN:VALARM
TRIGGER:-PT2H
ACTION:DISPLAY
DESCRIPTION:POTTSBORO PIERCE vs. POTTSBORO ELLIS
END:VALARM
END:VEVENT
BEGIN:VEVENT
UID:rrsa-73218972-20260406T190000@quickscores.com
DTSTAMP:20260422T004200Z
DTSTART;TZID=America/Chicago:20260406T190000
DURATION:PT1H0M0S
SUMMARY:WHITEWRIGHT LAWSON vs. POTTSBORO PIERCE
DESCRIPTION:6u Softball - <br><br><br>Red River Sports Association
LOCATION:WW SOUTHWEST
CATEGORIES:QuickScores, Softball - Fastpitch Game
TRANSP:OPAQUE
BEGIN:VALARM
TRIGGER:-PT2H
ACTION:DISPLAY
DESCRIPTION:WHITEWRIGHT LAWSON vs. POTTSBORO PIERCE
END:VALARM
END:VEVENT
BEGIN:VEVENT
UID:rrsa-73218965-20260409T180000@quickscores.com
DTSTAMP:20260422T004200Z
DTSTART;TZID=America/Chicago:20260409T180000
DURATION:PT1H0M0S
SUMMARY:S&S GARZA vs. POTTSBORO PIERCE
DESCRIPTION:6u Softball - <br><br><br>Red River Sports Association
LOCATION:S&S LITTLE
CATEGORIES:QuickScores, Softball - Fastpitch Game
TRANSP:OPAQUE
BEGIN:VALARM
TRIGGER:-PT2H
ACTION:DISPLAY
DESCRIPTION:S&S GARZA vs. POTTSBORO PIERCE
END:VALARM
END:VEVENT
BEGIN:VEVENT
UID:rrsa-73218978-20260413T180000@quickscores.com
DTSTAMP:20260422T004200Z
DTSTART;TZID=America/Chicago:20260413T180000
DURATION:PT1H0M0S
SUMMARY:BELLS LAMANCE vs. POTTSBORO PIERCE
DESCRIPTION:6u Softball - <br><br><br>Red River Sports Association
LOCATION:BELLS F3 RODDY
CATEGORIES:QuickScores, Softball - Fastpitch Game
TRANSP:OPAQUE
BEGIN:VALARM
TRIGGER:-PT2H
ACTION:DISPLAY
DESCRIPTION:BELLS LAMANCE vs. POTTSBORO PIERCE
END:VALARM
END:VEVENT
BEGIN:VEVENT
UID:rrsa-73218982-20260416T180000@quickscores.com
DTSTAMP:20260422T004200Z
DTSTART;TZID=America/Chicago:20260416T180000
DURATION:PT1H0M0S
SUMMARY:POTTSBORO PIERCE vs. VA CROOKS
DESCRIPTION:6u Softball - <br><br><br>Red River Sports Association
LOCATION:POTTSBORO C
CATEGORIES:QuickScores, Softball - Fastpitch Game
TRANSP:OPAQUE
BEGIN:VALARM
TRIGGER:-PT2H
ACTION:DISPLAY
DESCRIPTION:POTTSBORO PIERCE vs. VA CROOKS
END:VALARM
END:VEVENT
BEGIN:VEVENT
UID:rrsa-73218987-20260420T180000@quickscores.com
DTSTAMP:20260422T004200Z
DTSTART;TZID=America/Chicago:20260420T180000
DURATION:PT1H0M0S
SUMMARY:POTTSBORO PIERCE vs. BELLS BULANEK
DESCRIPTION:6u Softball - <br><br><br>Red River Sports Association
LOCATION:POTTSBORO D
CATEGORIES:QuickScores, Softball - Fastpitch Game
TRANSP:OPAQUE
BEGIN:VALARM
TRIGGER:-PT2H
ACTION:DISPLAY
DESCRIPTION:POTTSBORO PIERCE vs. BELLS BULANEK
END:VALARM
END:VEVENT
BEGIN:VEVENT
UID:rrsa-73218995-20260423T180000@quickscores.com
DTSTAMP:20260422T004200Z
DTSTART;TZID=America/Chicago:20260423T180000
DURATION:PT1H0M0S
SUMMARY:LEONARD LEWIS vs. POTTSBORO PIERCE
DESCRIPTION:6u Softball - <br><br><br>Red River Sports Association
LOCATION:LEONARD F1
CATEGORIES:QuickScores, Softball - Fastpitch Game
TRANSP:OPAQUE
BEGIN:VALARM
TRIGGER:-PT2H
ACTION:DISPLAY
DESCRIPTION:LEONARD LEWIS vs. POTTSBORO PIERCE
END:VALARM
END:VEVENT
BEGIN:VEVENT
UID:rrsa-73219001-20260427T180000@quickscores.com
DTSTAMP:20260422T004200Z
DTSTART;TZID=America/Chicago:20260427T180000
DURATION:PT1H0M0S
SUMMARY:LEONARD HERMAN vs. POTTSBORO PIERCE
DESCRIPTION:6u Softball - <br><br><br>Red River Sports Association
LOCATION:LEONARD F1
CATEGORIES:QuickScores, Softball - Fastpitch Game
TRANSP:OPAQUE
BEGIN:VALARM
TRIGGER:-PT2H
ACTION:DISPLAY
DESCRIPTION:LEONARD HERMAN vs. POTTSBORO PIERCE
END:VALARM
END:VEVENT
BEGIN:VEVENT
UID:rrsa-73218961-20260430T180000@quickscores.com
DTSTAMP:20260422T004200Z
DTSTART;TZID=America/Chicago:20260430T180000
DURATION:PT1H0M0S
SUMMARY:POTTSBORO PIERCE vs. TOM BEAN STANLEY
DESCRIPTION:6u Softball - <br><br><br>Red River Sports Association
LOCATION:POTTSBORO C
CATEGORIES:QuickScores, Softball - Fastpitch Game
TRANSP:OPAQUE
BEGIN:VALARM
TRIGGER:-PT2H
ACTION:DISPLAY
DESCRIPTION:POTTSBORO PIERCE vs. TOM BEAN STANLEY
END:VALARM
END:VEVENT
BEGIN:VEVENT
UID:rrsa-73219008-20260504T180000@quickscores.com
DTSTAMP:20260422T004200Z
DTSTART;TZID=America/Chicago:20260504T180000
DURATION:PT1H0M0S
SUMMARY:POTTSBORO PIERCE vs. WHITEWRIGHT RITCHIE
DESCRIPTION:6u Softball - <br><br><br>Red River Sports Association
LOCATION:POTTSBORO C
CATEGORIES:QuickScores, Softball - Fastpitch Game
TRANSP:OPAQUE
BEGIN:VALARM
TRIGGER:-PT2H
ACTION:DISPLAY
DESCRIPTION:POTTSBORO PIERCE vs. WHITEWRIGHT RITCHIE
END:VALARM
END:VEVENT
BEGIN:VEVENT
UID:rrsa-73219022-20260511T190000@quickscores.com
DTSTAMP:20260422T004200Z
DTSTART;TZID=America/Chicago:20260511T190000
DURATION:PT1H0M0S
SUMMARY:POTTSBORO PIERCE vs. TRENTON MCCARLEY
DESCRIPTION:6u Softball - <br><br><br>Red River Sports Association
LOCATION:POTTSBORO C
CATEGORIES:QuickScores, Softball - Fastpitch Game
TRANSP:OPAQUE
BEGIN:VALARM
TRIGGER:-PT2H
ACTION:DISPLAY
DESCRIPTION:POTTSBORO PIERCE vs. TRENTON MCCARLEY
END:VALARM
END:VEVENT
END:VCALENDAR
