BEGIN:VCALENDAR
VERSION:2.0
PRODID:-//QuickScores.com//BQ Dynamic iCal Creator//EN
METHOD:PUBLISH
X-WR-CALNAME:BELLS LAMANCE - 6u Softball - Spring 2026
X-WR-CALDESC:QuickScores game calendar
X-PUBLISHED-TTL:PT24H
REFRESH-INTERVAL;VALUE=DURATION:PT24H
CALSCALE:GREGORIAN
BEGIN:VTIMEZONE
TZID:America/Chicago
X-LIC-LOCATION:America/Chicago
BEGIN:DAYLIGHT
TZNAME:CDT
TZOFFSETFROM:-0600
TZOFFSETTO:-0500
DTSTART:19700308T020000
RRULE:FREQ=YEARLY;BYMONTH=3;BYDAY=2SU
END:DAYLIGHT
BEGIN:STANDARD
TZNAME:CST
TZOFFSETFROM:-0500
TZOFFSETTO:-0600
DTSTART:19701101T020000
RRULE:FREQ=YEARLY;BYMONTH=11;BYDAY=1SU
END:STANDARD
END:VTIMEZONE
BEGIN:VEVENT
UID:rrsa-73218948-20260330T180000@quickscores.com
DTSTAMP:20260422T190500Z
DTSTART;TZID=America/Chicago:20260330T180000
DURATION:PT1H0M0S
SUMMARY:BELLS LAMANCE vs. WHITEWRIGHT RITCHIE
DESCRIPTION:6u Softball - <br><br><br>Red River Sports Association
LOCATION:BELLS F3 RODDY
CATEGORIES:QuickScores, Softball - Fastpitch Game
TRANSP:OPAQUE
BEGIN:VALARM
TRIGGER:-PT2H
ACTION:DISPLAY
DESCRIPTION:BELLS LAMANCE vs. WHITEWRIGHT RITCHIE
END:VALARM
END:VEVENT
BEGIN:VEVENT
UID:rrsa-73218955-20260401T180000@quickscores.com
DTSTAMP:20260422T190500Z
DTSTART;TZID=America/Chicago:20260401T180000
DURATION:PT1H0M0S
SUMMARY:BELLS LAMANCE vs. LEONARD LEWIS
DESCRIPTION:6u Softball - <br><br><br>Red River Sports Association
LOCATION:BELLS F3 RODDY
CATEGORIES:QuickScores, Softball - Fastpitch Game
TRANSP:OPAQUE
BEGIN:VALARM
TRIGGER:-PT2H
ACTION:DISPLAY
DESCRIPTION:BELLS LAMANCE vs. LEONARD LEWIS
END:VALARM
END:VEVENT
BEGIN:VEVENT
UID:rrsa-73218973-20260406T180000@quickscores.com
DTSTAMP:20260422T190500Z
DTSTART;TZID=America/Chicago:20260406T180000
DURATION:PT1H0M0S
SUMMARY:TOM BEAN STANLEY vs. BELLS LAMANCE
DESCRIPTION:6u Softball - <br><br><br>Red River Sports Association
LOCATION:TOM BEAN NORTH
CATEGORIES:QuickScores, Softball - Fastpitch Game
TRANSP:OPAQUE
BEGIN:VALARM
TRIGGER:-PT2H
ACTION:DISPLAY
DESCRIPTION:TOM BEAN STANLEY vs. BELLS LAMANCE
END:VALARM
END:VEVENT
BEGIN:VEVENT
UID:rrsa-73218970-20260409T180000@quickscores.com
DTSTAMP:20260422T190500Z
DTSTART;TZID=America/Chicago:20260409T180000
DURATION:PT1H0M0S
SUMMARY:VA CROOKS vs. BELLS LAMANCE
DESCRIPTION:6u Softball - <br><br><br>Red River Sports Association
LOCATION:VA FMP 1
CATEGORIES:QuickScores, Softball - Fastpitch Game
TRANSP:OPAQUE
BEGIN:VALARM
TRIGGER:-PT2H
ACTION:DISPLAY
DESCRIPTION:VA CROOKS vs. BELLS LAMANCE
END:VALARM
END:VEVENT
BEGIN:VEVENT
UID:rrsa-73218978-20260413T180000@quickscores.com
DTSTAMP:20260422T190500Z
DTSTART;TZID=America/Chicago:20260413T180000
DURATION:PT1H0M0S
SUMMARY:BELLS LAMANCE vs. POTTSBORO PIERCE
DESCRIPTION:6u Softball - <br><br><br>Red River Sports Association
LOCATION:BELLS F3 RODDY
CATEGORIES:QuickScores, Softball - Fastpitch Game
TRANSP:OPAQUE
BEGIN:VALARM
TRIGGER:-PT2H
ACTION:DISPLAY
DESCRIPTION:BELLS LAMANCE vs. POTTSBORO PIERCE
END:VALARM
END:VEVENT
BEGIN:VEVENT
UID:rrsa-73218984-20260416T180000@quickscores.com
DTSTAMP:20260422T190500Z
DTSTART;TZID=America/Chicago:20260416T180000
DURATION:PT1H0M0S
SUMMARY:LEONARD HERMAN vs. BELLS LAMANCE
DESCRIPTION:6u Softball - <br><br><br>Red River Sports Association
LOCATION:LEONARD F1
CATEGORIES:QuickScores, Softball - Fastpitch Game
TRANSP:OPAQUE
BEGIN:VALARM
TRIGGER:-PT2H
ACTION:DISPLAY
DESCRIPTION:LEONARD HERMAN vs. BELLS LAMANCE
END:VALARM
END:VEVENT
BEGIN:VEVENT
UID:rrsa-73218990-20260420T180000@quickscores.com
DTSTAMP:20260422T190500Z
DTSTART;TZID=America/Chicago:20260420T180000
DURATION:PT1H0M0S
SUMMARY:HOWE WAGGONER vs. BELLS LAMANCE
DESCRIPTION:6u Softball - <br><br><br>Red River Sports Association
LOCATION:HOWE SOUTH
CATEGORIES:QuickScores, Softball - Fastpitch Game
TRANSP:OPAQUE
BEGIN:VALARM
TRIGGER:-PT2H
ACTION:DISPLAY
DESCRIPTION:HOWE WAGGONER vs. BELLS LAMANCE
END:VALARM
END:VEVENT
BEGIN:VEVENT
UID:rrsa-73218994-20260423T180000@quickscores.com
DTSTAMP:20260422T190500Z
DTSTART;TZID=America/Chicago:20260423T180000
DURATION:PT1H0M0S
SUMMARY:TRENTON MCCARLEY vs. BELLS LAMANCE
DESCRIPTION:6u Softball - <br><br><br>Red River Sports Association
LOCATION:TRENTON F1
CATEGORIES:QuickScores, Softball - Fastpitch Game
TRANSP:OPAQUE
BEGIN:VALARM
TRIGGER:-PT2H
ACTION:DISPLAY
DESCRIPTION:TRENTON MCCARLEY vs. BELLS LAMANCE
END:VALARM
END:VEVENT
BEGIN:VEVENT
UID:rrsa-73218963-20260430T180000@quickscores.com
DTSTAMP:20260422T190500Z
DTSTART;TZID=America/Chicago:20260430T180000
DURATION:PT1H0M0S
SUMMARY:BELLS BULANEK vs. BELLS LAMANCE
DESCRIPTION:6u Softball - <br><br><br>Red River Sports Association
LOCATION:BELLS F3 RODDY
CATEGORIES:QuickScores, Softball - Fastpitch Game
TRANSP:OPAQUE
BEGIN:VALARM
TRIGGER:-PT2H
ACTION:DISPLAY
DESCRIPTION:BELLS BULANEK vs. BELLS LAMANCE
END:VALARM
END:VEVENT
BEGIN:VEVENT
UID:rrsa-73219009-20260504T180000@quickscores.com
DTSTAMP:20260422T190500Z
DTSTART;TZID=America/Chicago:20260504T180000
DURATION:PT1H0M0S
SUMMARY:WHITEWRIGHT LAWSON vs. BELLS LAMANCE
DESCRIPTION:6u Softball - <br><br><br>Red River Sports Association
LOCATION:WW SOUTHWEST
CATEGORIES:QuickScores, Softball - Fastpitch Game
TRANSP:OPAQUE
BEGIN:VALARM
TRIGGER:-PT2H
ACTION:DISPLAY
DESCRIPTION:WHITEWRIGHT LAWSON vs. BELLS LAMANCE
END:VALARM
END:VEVENT
BEGIN:VEVENT
UID:rrsa-73218999-20260507T180000@quickscores.com
DTSTAMP:20260422T190500Z
DTSTART;TZID=America/Chicago:20260507T180000
DURATION:PT1H0M0S
SUMMARY:POTTSBORO ELLIS vs. BELLS LAMANCE
DESCRIPTION:6u Softball - <br><br><br>Red River Sports Association
LOCATION:POTTSBORO C
CATEGORIES:QuickScores, Softball - Fastpitch Game
TRANSP:OPAQUE
BEGIN:VALARM
TRIGGER:-PT2H
ACTION:DISPLAY
DESCRIPTION:POTTSBORO ELLIS vs. BELLS LAMANCE
END:VALARM
END:VEVENT
BEGIN:VEVENT
UID:rrsa-73219018-20260511T190000@quickscores.com
DTSTAMP:20260422T190500Z
DTSTART;TZID=America/Chicago:20260511T190000
DURATION:PT1H0M0S
SUMMARY:VA GOMEZ vs. BELLS LAMANCE
DESCRIPTION:6u Softball - <br><br><br>Red River Sports Association
LOCATION:VA FMP 1
CATEGORIES:QuickScores, Softball - Fastpitch Game
TRANSP:OPAQUE
BEGIN:VALARM
TRIGGER:-PT2H
ACTION:DISPLAY
DESCRIPTION:VA GOMEZ vs. BELLS LAMANCE
END:VALARM
END:VEVENT
END:VCALENDAR
