BEGIN:VCALENDAR
VERSION:2.0
PRODID:-//QuickScores.com//BQ Dynamic iCal Creator//EN
METHOD:PUBLISH
X-WR-CALNAME:Rock Falls - 7th Grade Boys Travel Basketball - Winter 2025-2026
X-WR-CALDESC:QuickScores game calendar
X-PUBLISHED-TTL:PT24H
REFRESH-INTERVAL;VALUE=DURATION:PT24H
CALSCALE:GREGORIAN
BEGIN:VTIMEZONE
TZID:America/Chicago
X-LIC-LOCATION:America/Chicago
BEGIN:DAYLIGHT
TZNAME:CDT
TZOFFSETFROM:-0600
TZOFFSETTO:-0500
DTSTART:19700308T020000
RRULE:FREQ=YEARLY;BYMONTH=3;BYDAY=2SU
END:DAYLIGHT
BEGIN:STANDARD
TZNAME:CST
TZOFFSETFROM:-0500
TZOFFSETTO:-0600
DTSTART:19701101T020000
RRULE:FREQ=YEARLY;BYMONTH=11;BYDAY=1SU
END:STANDARD
END:VTIMEZONE
BEGIN:VEVENT
UID:rochelleparkdistrict-72090193-20260110T150000@quickscores.com
DTSTAMP:20260425T205700Z
DTSTART;TZID=America/Chicago:20260110T150000
DURATION:PT1H0M0S
SUMMARY:Dekalb vs. Rock Falls
DESCRIPTION:7th Grade Boys Travel Basketball - Flagg-Rochelle Community Park District
LOCATION:The REC-Court C
CATEGORIES:QuickScores, Basketball - Youth Game
TRANSP:OPAQUE
BEGIN:VALARM
TRIGGER:-PT2H
ACTION:DISPLAY
DESCRIPTION:Dekalb vs. Rock Falls
END:VALARM
END:VEVENT
BEGIN:VEVENT
UID:rochelleparkdistrict-72090192-20260110T160000@quickscores.com
DTSTAMP:20260425T205700Z
DTSTART;TZID=America/Chicago:20260110T160000
DURATION:PT1H0M0S
SUMMARY:Rochelle vs. Rock Falls
DESCRIPTION:Maybe rescheduled --- 7th Grade Boys Travel Basketball - Flagg-Rochelle Community Park District
LOCATION:The REC-Court A
CATEGORIES:QuickScores, Basketball - Youth Game
TRANSP:OPAQUE
BEGIN:VALARM
TRIGGER:-PT2H
ACTION:DISPLAY
DESCRIPTION:Rochelle vs. Rock Falls
END:VALARM
END:VEVENT
BEGIN:VEVENT
UID:rochelleparkdistrict-72090196-20260124T170000@quickscores.com
DTSTAMP:20260425T205700Z
DTSTART;TZID=America/Chicago:20260124T170000
DURATION:PT1H0M0S
SUMMARY:Rock Falls vs. Genoa Jr. Cogs
DESCRIPTION:7th Grade Boys Travel Basketball - Flagg-Rochelle Community Park District
LOCATION:The REC-Court C
CATEGORIES:QuickScores, Basketball - Youth Game
TRANSP:OPAQUE
BEGIN:VALARM
TRIGGER:-PT2H
ACTION:DISPLAY
DESCRIPTION:Rock Falls vs. Genoa Jr. Cogs
END:VALARM
END:VEVENT
BEGIN:VEVENT
UID:rochelleparkdistrict-72090195-20260124T190000@quickscores.com
DTSTAMP:20260425T205700Z
DTSTART;TZID=America/Chicago:20260124T190000
DURATION:PT1H0M0S
SUMMARY:Rock Falls vs. Amboy
DESCRIPTION:7th Grade Boys Travel Basketball - Flagg-Rochelle Community Park District
LOCATION:The REC-Court A
CATEGORIES:QuickScores, Basketball - Youth Game
TRANSP:OPAQUE
BEGIN:VALARM
TRIGGER:-PT2H
ACTION:DISPLAY
DESCRIPTION:Rock Falls vs. Amboy
END:VALARM
END:VEVENT
BEGIN:VEVENT
UID:rochelleparkdistrict-72090207-20260221T170000@quickscores.com
DTSTAMP:20260425T205700Z
DTSTART;TZID=America/Chicago:20260221T170000
DURATION:PT1H0M0S
SUMMARY:Rock Falls vs. Oregon
DESCRIPTION:7th Grade Boys Travel Basketball - Flagg-Rochelle Community Park District
LOCATION:The REC-Court A
CATEGORIES:QuickScores, Basketball - Youth Game
TRANSP:OPAQUE
BEGIN:VALARM
TRIGGER:-PT2H
ACTION:DISPLAY
DESCRIPTION:Rock Falls vs. Oregon
END:VALARM
END:VEVENT
BEGIN:VEVENT
UID:rochelleparkdistrict-72090212-20260221T180000@quickscores.com
DTSTAMP:20260425T205700Z
DTSTART;TZID=America/Chicago:20260221T180000
DURATION:PT1H0M0S
SUMMARY:Sterling Newman vs. Rock Falls
DESCRIPTION:7th Grade Boys Travel Basketball - Flagg-Rochelle Community Park District
LOCATION:The REC-Court C
CATEGORIES:QuickScores, Basketball - Youth Game
TRANSP:OPAQUE
BEGIN:VALARM
TRIGGER:-PT2H
ACTION:DISPLAY
DESCRIPTION:Sterling Newman vs. Rock Falls
END:VALARM
END:VEVENT
BEGIN:VEVENT
UID:rochelleparkdistrict-72777969-20260228T140000@quickscores.com
DTSTAMP:20260425T205700Z
DTSTART;TZID=America/Chicago:20260228T140000
DURATION:PT1H0M0S
SUMMARY:[1] Rock Falls vs. [4] Rochelle
DESCRIPTION:7th Grade Boys Travel Basketball - Flagg-Rochelle Community Park District
LOCATION:The REC-Court A
CATEGORIES:QuickScores, Basketball - Youth Game
TRANSP:OPAQUE
BEGIN:VALARM
TRIGGER:-PT2H
ACTION:DISPLAY
DESCRIPTION:[1] Rock Falls vs. [4] Rochelle
END:VALARM
END:VEVENT
BEGIN:VEVENT
UID:rochelleparkdistrict-72777971-20260228T160000@quickscores.com
DTSTAMP:20260425T205700Z
DTSTART;TZID=America/Chicago:20260228T160000
DURATION:PT1H0M0S
SUMMARY:[1] Rock Falls vs. [3] Mendota
DESCRIPTION:7th Grade Boys Travel Basketball - Flagg-Rochelle Community Park District
LOCATION:The REC-Court A
CATEGORIES:QuickScores, Basketball - Youth Game
TRANSP:OPAQUE
BEGIN:VALARM
TRIGGER:-PT2H
ACTION:DISPLAY
DESCRIPTION:[1] Rock Falls vs. [3] Mendota
END:VALARM
END:VEVENT
END:VCALENDAR
