BEGIN:VCALENDAR
VERSION:2.0
PRODID:-//QuickScores.com//BQ Dynamic iCal Creator//EN
METHOD:PUBLISH
X-WR-CALNAME:Quahogs - Division 3 - Spring/Summer 2026
X-WR-CALDESC:QuickScores game calendar
X-PUBLISHED-TTL:PT24H
REFRESH-INTERVAL;VALUE=DURATION:PT24H
CALSCALE:GREGORIAN
BEGIN:VTIMEZONE
TZID:America/New_York
X-LIC-LOCATION:America/New_York
BEGIN:DAYLIGHT
TZNAME:EDT
TZOFFSETFROM:-0500
TZOFFSETTO:-0400
DTSTART:19700308T020000
RRULE:FREQ=YEARLY;BYMONTH=3;BYDAY=2SU
END:DAYLIGHT
BEGIN:STANDARD
TZNAME:EST
TZOFFSETFROM:-0400
TZOFFSETTO:-0500
DTSTART:19701101T020000
RRULE:FREQ=YEARLY;BYMONTH=11;BYDAY=1SU
END:STANDARD
END:VTIMEZONE
BEGIN:VEVENT
UID:rcsl-73885911-20260503T090000@quickscores.com
DTSTAMP:20260423T070700Z
DTSTART;TZID=America/New_York:20260503T090000
DURATION:PT1H0M0S
SUMMARY:Fireballs vs. Quahogs
DESCRIPTION:Division 3 - RCSL
LOCATION:Hank Soar 1
CATEGORIES:QuickScores, Softball - Adult Game
TRANSP:OPAQUE
BEGIN:VALARM
TRIGGER:-PT2H
ACTION:DISPLAY
DESCRIPTION:Fireballs vs. Quahogs
END:VALARM
END:VEVENT
BEGIN:VEVENT
UID:rcsl-73885910-20260503T110000@quickscores.com
DTSTAMP:20260423T070700Z
DTSTART;TZID=America/New_York:20260503T110000
DURATION:PT1H0M0S
SUMMARY:Quahogs vs. Sluggers
DESCRIPTION:Division 3 - RCSL
LOCATION:Hank Soar 1
CATEGORIES:QuickScores, Softball - Adult Game
TRANSP:OPAQUE
BEGIN:VALARM
TRIGGER:-PT2H
ACTION:DISPLAY
DESCRIPTION:Quahogs vs. Sluggers
END:VALARM
END:VEVENT
BEGIN:VEVENT
UID:rcsl-73885915-20260517T120000@quickscores.com
DTSTAMP:20260423T070700Z
DTSTART;TZID=America/New_York:20260517T120000
DURATION:PT1H0M0S
SUMMARY:Dill Doughs vs. Quahogs
DESCRIPTION:Division 3 - RCSL
LOCATION:Hank Soar 3
CATEGORIES:QuickScores, Softball - Adult Game
TRANSP:OPAQUE
BEGIN:VALARM
TRIGGER:-PT2H
ACTION:DISPLAY
DESCRIPTION:Dill Doughs vs. Quahogs
END:VALARM
END:VEVENT
BEGIN:VEVENT
UID:rcsl-73885916-20260517T140000@quickscores.com
DTSTAMP:20260423T070700Z
DTSTART;TZID=America/New_York:20260517T140000
DURATION:PT1H0M0S
SUMMARY:Quahogs vs. Black Sheep
DESCRIPTION:Division 3 - RCSL
LOCATION:Hank Soar 3
CATEGORIES:QuickScores, Softball - Adult Game
TRANSP:OPAQUE
BEGIN:VALARM
TRIGGER:-PT2H
ACTION:DISPLAY
DESCRIPTION:Quahogs vs. Black Sheep
END:VALARM
END:VEVENT
BEGIN:VEVENT
UID:rcsl-73885920-20260531T090000@quickscores.com
DTSTAMP:20260423T070700Z
DTSTART;TZID=America/New_York:20260531T090000
DURATION:PT1H0M0S
SUMMARY:Sluggers vs. Quahogs
DESCRIPTION:Division 3 - RCSL
LOCATION:Hank Soar 1
CATEGORIES:QuickScores, Softball - Adult Game
TRANSP:OPAQUE
BEGIN:VALARM
TRIGGER:-PT2H
ACTION:DISPLAY
DESCRIPTION:Sluggers vs. Quahogs
END:VALARM
END:VEVENT
BEGIN:VEVENT
UID:rcsl-73885923-20260531T100000@quickscores.com
DTSTAMP:20260423T070700Z
DTSTART;TZID=America/New_York:20260531T100000
DURATION:PT1H0M0S
SUMMARY:No Prob Llamas vs. Quahogs
DESCRIPTION:Division 3 - RCSL
LOCATION:Hank Soar 1
CATEGORIES:QuickScores, Softball - Adult Game
TRANSP:OPAQUE
BEGIN:VALARM
TRIGGER:-PT2H
ACTION:DISPLAY
DESCRIPTION:No Prob Llamas vs. Quahogs
END:VALARM
END:VEVENT
BEGIN:VEVENT
UID:rcsl-73885926-20260607T120000@quickscores.com
DTSTAMP:20260423T070700Z
DTSTART;TZID=America/New_York:20260607T120000
DURATION:PT1H0M0S
SUMMARY:Quahogs vs. Fireballs
DESCRIPTION:Division 3 - RCSL
LOCATION:Hank Soar 3
CATEGORIES:QuickScores, Softball - Adult Game
TRANSP:OPAQUE
BEGIN:VALARM
TRIGGER:-PT2H
ACTION:DISPLAY
DESCRIPTION:Quahogs vs. Fireballs
END:VALARM
END:VEVENT
BEGIN:VEVENT
UID:rcsl-73885929-20260607T140000@quickscores.com
DTSTAMP:20260423T070700Z
DTSTART;TZID=America/New_York:20260607T140000
DURATION:PT1H0M0S
SUMMARY:Black Sheep vs. Quahogs
DESCRIPTION:Division 3 - RCSL
LOCATION:Hank Soar 3
CATEGORIES:QuickScores, Softball - Adult Game
TRANSP:OPAQUE
BEGIN:VALARM
TRIGGER:-PT2H
ACTION:DISPLAY
DESCRIPTION:Black Sheep vs. Quahogs
END:VALARM
END:VEVENT
BEGIN:VEVENT
UID:rcsl-73885935-20260614T090000@quickscores.com
DTSTAMP:20260423T070700Z
DTSTART;TZID=America/New_York:20260614T090000
DURATION:PT1H0M0S
SUMMARY:Quahogs vs. No Prob Llamas
DESCRIPTION:Division 3 - RCSL
LOCATION:Hank Soar 1
CATEGORIES:QuickScores, Softball - Adult Game
TRANSP:OPAQUE
BEGIN:VALARM
TRIGGER:-PT2H
ACTION:DISPLAY
DESCRIPTION:Quahogs vs. No Prob Llamas
END:VALARM
END:VEVENT
BEGIN:VEVENT
UID:rcsl-73885931-20260614T100000@quickscores.com
DTSTAMP:20260423T070700Z
DTSTART;TZID=America/New_York:20260614T100000
DURATION:PT1H0M0S
SUMMARY:Quahogs vs. Dill Doughs
DESCRIPTION:Division 3 - RCSL
LOCATION:Hank Soar 1
CATEGORIES:QuickScores, Softball - Adult Game
TRANSP:OPAQUE
BEGIN:VALARM
TRIGGER:-PT2H
ACTION:DISPLAY
DESCRIPTION:Quahogs vs. Dill Doughs
END:VALARM
END:VEVENT
BEGIN:VEVENT
UID:rcsl-73885940-20260628T100000@quickscores.com
DTSTAMP:20260423T070700Z
DTSTART;TZID=America/New_York:20260628T100000
DURATION:PT1H0M0S
SUMMARY:Quahogs vs. Sluggers
DESCRIPTION:Division 3 - RCSL
LOCATION:Hank Soar 3
CATEGORIES:QuickScores, Softball - Adult Game
TRANSP:OPAQUE
BEGIN:VALARM
TRIGGER:-PT2H
ACTION:DISPLAY
DESCRIPTION:Quahogs vs. Sluggers
END:VALARM
END:VEVENT
BEGIN:VEVENT
UID:rcsl-73885941-20260628T120000@quickscores.com
DTSTAMP:20260423T070700Z
DTSTART;TZID=America/New_York:20260628T120000
DURATION:PT1H0M0S
SUMMARY:Fireballs vs. Quahogs
DESCRIPTION:Division 3 - RCSL
LOCATION:Hank Soar 3
CATEGORIES:QuickScores, Softball - Adult Game
TRANSP:OPAQUE
BEGIN:VALARM
TRIGGER:-PT2H
ACTION:DISPLAY
DESCRIPTION:Fireballs vs. Quahogs
END:VALARM
END:VEVENT
BEGIN:VEVENT
UID:rcsl-73885946-20260712T110000@quickscores.com
DTSTAMP:20260423T070700Z
DTSTART;TZID=America/New_York:20260712T110000
DURATION:PT1H0M0S
SUMMARY:Quahogs vs. Black Sheep
DESCRIPTION:Division 3 - RCSL
LOCATION:Hank Soar 1
CATEGORIES:QuickScores, Softball - Adult Game
TRANSP:OPAQUE
BEGIN:VALARM
TRIGGER:-PT2H
ACTION:DISPLAY
DESCRIPTION:Quahogs vs. Black Sheep
END:VALARM
END:VEVENT
BEGIN:VEVENT
UID:rcsl-73885945-20260712T130000@quickscores.com
DTSTAMP:20260423T070700Z
DTSTART;TZID=America/New_York:20260712T130000
DURATION:PT1H0M0S
SUMMARY:Dill Doughs vs. Quahogs
DESCRIPTION:Division 3 - RCSL
LOCATION:Hank Soar 1
CATEGORIES:QuickScores, Softball - Adult Game
TRANSP:OPAQUE
BEGIN:VALARM
TRIGGER:-PT2H
ACTION:DISPLAY
DESCRIPTION:Dill Doughs vs. Quahogs
END:VALARM
END:VEVENT
BEGIN:VEVENT
UID:rcsl-73885953-20260719T130000@quickscores.com
DTSTAMP:20260423T070700Z
DTSTART;TZID=America/New_York:20260719T130000
DURATION:PT1H0M0S
SUMMARY:No Prob Llamas vs. Quahogs
DESCRIPTION:Division 3 - RCSL
LOCATION:Hank Soar 3
CATEGORIES:QuickScores, Softball - Adult Game
TRANSP:OPAQUE
BEGIN:VALARM
TRIGGER:-PT2H
ACTION:DISPLAY
DESCRIPTION:No Prob Llamas vs. Quahogs
END:VALARM
END:VEVENT
BEGIN:VEVENT
UID:rcsl-73885950-20260719T140000@quickscores.com
DTSTAMP:20260423T070700Z
DTSTART;TZID=America/New_York:20260719T140000
DURATION:PT1H0M0S
SUMMARY:Sluggers vs. Quahogs
DESCRIPTION:Division 3 - RCSL
LOCATION:Hank Soar 3
CATEGORIES:QuickScores, Softball - Adult Game
TRANSP:OPAQUE
BEGIN:VALARM
TRIGGER:-PT2H
ACTION:DISPLAY
DESCRIPTION:Sluggers vs. Quahogs
END:VALARM
END:VEVENT
BEGIN:VEVENT
UID:rcsl-73885959-20260726T110000@quickscores.com
DTSTAMP:20260423T070700Z
DTSTART;TZID=America/New_York:20260726T110000
DURATION:PT1H0M0S
SUMMARY:Black Sheep vs. Quahogs
DESCRIPTION:Division 3 - RCSL
LOCATION:Hank Soar 1
CATEGORIES:QuickScores, Softball - Adult Game
TRANSP:OPAQUE
BEGIN:VALARM
TRIGGER:-PT2H
ACTION:DISPLAY
DESCRIPTION:Black Sheep vs. Quahogs
END:VALARM
END:VEVENT
BEGIN:VEVENT
UID:rcsl-73885956-20260726T130000@quickscores.com
DTSTAMP:20260423T070700Z
DTSTART;TZID=America/New_York:20260726T130000
DURATION:PT1H0M0S
SUMMARY:Quahogs vs. Fireballs
DESCRIPTION:Division 3 - RCSL
LOCATION:Hank Soar 1
CATEGORIES:QuickScores, Softball - Adult Game
TRANSP:OPAQUE
BEGIN:VALARM
TRIGGER:-PT2H
ACTION:DISPLAY
DESCRIPTION:Quahogs vs. Fireballs
END:VALARM
END:VEVENT
BEGIN:VEVENT
UID:rcsl-73885961-20260802T130000@quickscores.com
DTSTAMP:20260423T070700Z
DTSTART;TZID=America/New_York:20260802T130000
DURATION:PT1H0M0S
SUMMARY:Quahogs vs. Dill Doughs
DESCRIPTION:Division 3 - RCSL
LOCATION:Hank Soar 3
CATEGORIES:QuickScores, Softball - Adult Game
TRANSP:OPAQUE
BEGIN:VALARM
TRIGGER:-PT2H
ACTION:DISPLAY
DESCRIPTION:Quahogs vs. Dill Doughs
END:VALARM
END:VEVENT
BEGIN:VEVENT
UID:rcsl-73885965-20260802T140000@quickscores.com
DTSTAMP:20260423T070700Z
DTSTART;TZID=America/New_York:20260802T140000
DURATION:PT1H0M0S
SUMMARY:Quahogs vs. No Prob Llamas
DESCRIPTION:Division 3 - RCSL
LOCATION:Hank Soar 3
CATEGORIES:QuickScores, Softball - Adult Game
TRANSP:OPAQUE
BEGIN:VALARM
TRIGGER:-PT2H
ACTION:DISPLAY
DESCRIPTION:Quahogs vs. No Prob Llamas
END:VALARM
END:VEVENT
BEGIN:VEVENT
UID:rcsl-73885971-20260809T110000@quickscores.com
DTSTAMP:20260423T070700Z
DTSTART;TZID=America/New_York:20260809T110000
DURATION:PT1H0M0S
SUMMARY:Fireballs vs. Quahogs
DESCRIPTION:Division 3 - RCSL
LOCATION:Hank Soar 1
CATEGORIES:QuickScores, Softball - Adult Game
TRANSP:OPAQUE
BEGIN:VALARM
TRIGGER:-PT2H
ACTION:DISPLAY
DESCRIPTION:Fireballs vs. Quahogs
END:VALARM
END:VEVENT
BEGIN:VEVENT
UID:rcsl-73885970-20260809T130000@quickscores.com
DTSTAMP:20260423T070700Z
DTSTART;TZID=America/New_York:20260809T130000
DURATION:PT1H0M0S
SUMMARY:Quahogs vs. Sluggers
DESCRIPTION:Division 3 - RCSL
LOCATION:Hank Soar 1
CATEGORIES:QuickScores, Softball - Adult Game
TRANSP:OPAQUE
BEGIN:VALARM
TRIGGER:-PT2H
ACTION:DISPLAY
DESCRIPTION:Quahogs vs. Sluggers
END:VALARM
END:VEVENT
END:VCALENDAR
