BEGIN:VCALENDAR
VERSION:2.0
PRODID:-//QuickScores.com//BQ Dynamic iCal Creator//EN
METHOD:PUBLISH
X-WR-CALNAME:Bad News - Divisions 1 & 2 - Spring/Summer 2026
X-WR-CALDESC:QuickScores game calendar
X-PUBLISHED-TTL:PT24H
REFRESH-INTERVAL;VALUE=DURATION:PT24H
CALSCALE:GREGORIAN
BEGIN:VTIMEZONE
TZID:America/New_York
X-LIC-LOCATION:America/New_York
BEGIN:DAYLIGHT
TZNAME:EDT
TZOFFSETFROM:-0500
TZOFFSETTO:-0400
DTSTART:19700308T020000
RRULE:FREQ=YEARLY;BYMONTH=3;BYDAY=2SU
END:DAYLIGHT
BEGIN:STANDARD
TZNAME:EST
TZOFFSETFROM:-0400
TZOFFSETTO:-0500
DTSTART:19701101T020000
RRULE:FREQ=YEARLY;BYMONTH=11;BYDAY=1SU
END:STANDARD
END:VTIMEZONE
BEGIN:VEVENT
UID:rcsl-73827155-20260503T090000@quickscores.com
DTSTAMP:20260425T055100Z
DTSTART;TZID=America/New_York:20260503T090000
DURATION:PT1H0M0S
SUMMARY:Critical Hits vs. Bad News
DESCRIPTION:Divisions 1 & 2 - RCSL
LOCATION:Hank Soar 2
CATEGORIES:QuickScores, Softball - Adult Game
TRANSP:OPAQUE
BEGIN:VALARM
TRIGGER:-PT2H
ACTION:DISPLAY
DESCRIPTION:Critical Hits vs. Bad News
END:VALARM
END:VEVENT
BEGIN:VEVENT
UID:rcsl-73827149-20260503T110000@quickscores.com
DTSTAMP:20260425T055100Z
DTSTART;TZID=America/New_York:20260503T110000
DURATION:PT1H0M0S
SUMMARY:Big Ol' Hitties vs. Bad News
DESCRIPTION:Divisions 1 & 2 - RCSL
LOCATION:Hank Soar 2
CATEGORIES:QuickScores, Softball - Adult Game
TRANSP:OPAQUE
BEGIN:VALARM
TRIGGER:-PT2H
ACTION:DISPLAY
DESCRIPTION:Big Ol' Hitties vs. Bad News
END:VALARM
END:VEVENT
BEGIN:VEVENT
UID:rcsl-73827161-20260517T090000@quickscores.com
DTSTAMP:20260425T055100Z
DTSTART;TZID=America/New_York:20260517T090000
DURATION:PT1H0M0S
SUMMARY:Spartans vs. Bad News
DESCRIPTION:Divisions 1 & 2 - RCSL
LOCATION:Hank Soar 2
CATEGORIES:QuickScores, Softball - Adult Game
TRANSP:OPAQUE
BEGIN:VALARM
TRIGGER:-PT2H
ACTION:DISPLAY
DESCRIPTION:Spartans vs. Bad News
END:VALARM
END:VEVENT
BEGIN:VEVENT
UID:rcsl-73827157-20260517T110000@quickscores.com
DTSTAMP:20260425T055100Z
DTSTART;TZID=America/New_York:20260517T110000
DURATION:PT1H0M0S
SUMMARY:Wingmen vs. Bad News
DESCRIPTION:Divisions 1 & 2 - RCSL
LOCATION:Hank Soar 2
CATEGORIES:QuickScores, Softball - Adult Game
TRANSP:OPAQUE
BEGIN:VALARM
TRIGGER:-PT2H
ACTION:DISPLAY
DESCRIPTION:Wingmen vs. Bad News
END:VALARM
END:VEVENT
BEGIN:VEVENT
UID:rcsl-73827169-20260531T100000@quickscores.com
DTSTAMP:20260425T055100Z
DTSTART;TZID=America/New_York:20260531T100000
DURATION:PT1H0M0S
SUMMARY:Renegades vs. Bad News
DESCRIPTION:Divisions 1 & 2 - RCSL
LOCATION:Hank Soar 2
CATEGORIES:QuickScores, Softball - Adult Game
TRANSP:OPAQUE
BEGIN:VALARM
TRIGGER:-PT2H
ACTION:DISPLAY
DESCRIPTION:Renegades vs. Bad News
END:VALARM
END:VEVENT
BEGIN:VEVENT
UID:rcsl-73827167-20260531T120000@quickscores.com
DTSTAMP:20260425T055100Z
DTSTART;TZID=America/New_York:20260531T120000
DURATION:PT1H0M0S
SUMMARY:Cruisers vs. Bad News
DESCRIPTION:Divisions 1 & 2 - RCSL
LOCATION:Hank Soar 3
CATEGORIES:QuickScores, Softball - Adult Game
TRANSP:OPAQUE
BEGIN:VALARM
TRIGGER:-PT2H
ACTION:DISPLAY
DESCRIPTION:Cruisers vs. Bad News
END:VALARM
END:VEVENT
BEGIN:VEVENT
UID:rcsl-73827176-20260607T120000@quickscores.com
DTSTAMP:20260425T055100Z
DTSTART;TZID=America/New_York:20260607T120000
DURATION:PT1H0M0S
SUMMARY:Bad News vs. Wingmen
DESCRIPTION:Divisions 1 & 2 - RCSL
LOCATION:Hank Soar 1
CATEGORIES:QuickScores, Softball - Adult Game
TRANSP:OPAQUE
BEGIN:VALARM
TRIGGER:-PT2H
ACTION:DISPLAY
DESCRIPTION:Bad News vs. Wingmen
END:VALARM
END:VEVENT
BEGIN:VEVENT
UID:rcsl-73827177-20260607T130000@quickscores.com
DTSTAMP:20260425T055100Z
DTSTART;TZID=America/New_York:20260607T130000
DURATION:PT1H0M0S
SUMMARY:Bad News vs. Spartans
DESCRIPTION:Divisions 1 & 2 - RCSL
LOCATION:Hank Soar 2
CATEGORIES:QuickScores, Softball - Adult Game
TRANSP:OPAQUE
BEGIN:VALARM
TRIGGER:-PT2H
ACTION:DISPLAY
DESCRIPTION:Bad News vs. Spartans
END:VALARM
END:VEVENT
BEGIN:VEVENT
UID:rcsl-73827185-20260614T090000@quickscores.com
DTSTAMP:20260425T055100Z
DTSTART;TZID=America/New_York:20260614T090000
DURATION:PT1H0M0S
SUMMARY:Bad News vs. Critical Hits
DESCRIPTION:Divisions 1 & 2 - RCSL
LOCATION:Hank Soar 3
CATEGORIES:QuickScores, Softball - Adult Game
TRANSP:OPAQUE
BEGIN:VALARM
TRIGGER:-PT2H
ACTION:DISPLAY
DESCRIPTION:Bad News vs. Critical Hits
END:VALARM
END:VEVENT
BEGIN:VEVENT
UID:rcsl-73827183-20260614T100000@quickscores.com
DTSTAMP:20260425T055100Z
DTSTART;TZID=America/New_York:20260614T100000
DURATION:PT1H0M0S
SUMMARY:Bad News vs. Big Ol' Hitties
DESCRIPTION:Divisions 1 & 2 - RCSL
LOCATION:Hank Soar 3
CATEGORIES:QuickScores, Softball - Adult Game
TRANSP:OPAQUE
BEGIN:VALARM
TRIGGER:-PT2H
ACTION:DISPLAY
DESCRIPTION:Bad News vs. Big Ol' Hitties
END:VALARM
END:VEVENT
BEGIN:VEVENT
UID:rcsl-73827193-20260628T090000@quickscores.com
DTSTAMP:20260425T055100Z
DTSTART;TZID=America/New_York:20260628T090000
DURATION:PT1H0M0S
SUMMARY:Bad News vs. Hustlers
DESCRIPTION:Divisions 1 & 2 - RCSL
LOCATION:Hank Soar 2
CATEGORIES:QuickScores, Softball - Adult Game
TRANSP:OPAQUE
BEGIN:VALARM
TRIGGER:-PT2H
ACTION:DISPLAY
DESCRIPTION:Bad News vs. Hustlers
END:VALARM
END:VEVENT
BEGIN:VEVENT
UID:rcsl-73827199-20260628T100000@quickscores.com
DTSTAMP:20260425T055100Z
DTSTART;TZID=America/New_York:20260628T100000
DURATION:PT1H0M0S
SUMMARY:Bad News vs. Wingmen
DESCRIPTION:Divisions 1 & 2 - RCSL
LOCATION:Hank Soar 2
CATEGORIES:QuickScores, Softball - Adult Game
TRANSP:OPAQUE
BEGIN:VALARM
TRIGGER:-PT2H
ACTION:DISPLAY
DESCRIPTION:Bad News vs. Wingmen
END:VALARM
END:VEVENT
BEGIN:VEVENT
UID:rcsl-73827208-20260712T090000@quickscores.com
DTSTAMP:20260425T055100Z
DTSTART;TZID=America/New_York:20260712T090000
DURATION:PT1H0M0S
SUMMARY:Spartans vs. Bad News
DESCRIPTION:Divisions 1 & 2 - RCSL
LOCATION:Hank Soar 3
CATEGORIES:QuickScores, Softball - Adult Game
TRANSP:OPAQUE
BEGIN:VALARM
TRIGGER:-PT2H
ACTION:DISPLAY
DESCRIPTION:Spartans vs. Bad News
END:VALARM
END:VEVENT
BEGIN:VEVENT
UID:rcsl-73827207-20260712T100000@quickscores.com
DTSTAMP:20260425T055100Z
DTSTART;TZID=America/New_York:20260712T100000
DURATION:PT1H0M0S
SUMMARY:Bad News vs. Critical Hits
DESCRIPTION:Divisions 1 & 2 - RCSL
LOCATION:Hank Soar 3
CATEGORIES:QuickScores, Softball - Adult Game
TRANSP:OPAQUE
BEGIN:VALARM
TRIGGER:-PT2H
ACTION:DISPLAY
DESCRIPTION:Bad News vs. Critical Hits
END:VALARM
END:VEVENT
BEGIN:VEVENT
UID:rcsl-73827210-20260719T100000@quickscores.com
DTSTAMP:20260425T055100Z
DTSTART;TZID=America/New_York:20260719T100000
DURATION:PT1H0M0S
SUMMARY:Bad News vs. Riptide
DESCRIPTION:Divisions 1 & 2 - RCSL
LOCATION:Hank Soar 2
CATEGORIES:QuickScores, Softball - Adult Game
TRANSP:OPAQUE
BEGIN:VALARM
TRIGGER:-PT2H
ACTION:DISPLAY
DESCRIPTION:Bad News vs. Riptide
END:VALARM
END:VEVENT
BEGIN:VEVENT
UID:rcsl-73827215-20260719T110000@quickscores.com
DTSTAMP:20260425T055100Z
DTSTART;TZID=America/New_York:20260719T110000
DURATION:PT1H0M0S
SUMMARY:Critical Hits vs. Bad News
DESCRIPTION:Divisions 1 & 2 - RCSL
LOCATION:Hank Soar 2
CATEGORIES:QuickScores, Softball - Adult Game
TRANSP:OPAQUE
BEGIN:VALARM
TRIGGER:-PT2H
ACTION:DISPLAY
DESCRIPTION:Critical Hits vs. Bad News
END:VALARM
END:VEVENT
BEGIN:VEVENT
UID:rcsl-73827225-20260726T110000@quickscores.com
DTSTAMP:20260425T055100Z
DTSTART;TZID=America/New_York:20260726T110000
DURATION:PT1H0M0S
SUMMARY:Wingmen vs. Bad News
DESCRIPTION:Divisions 1 & 2 - RCSL
LOCATION:Hank Soar 3
CATEGORIES:QuickScores, Softball - Adult Game
TRANSP:OPAQUE
BEGIN:VALARM
TRIGGER:-PT2H
ACTION:DISPLAY
DESCRIPTION:Wingmen vs. Bad News
END:VALARM
END:VEVENT
BEGIN:VEVENT
UID:rcsl-73827226-20260726T120000@quickscores.com
DTSTAMP:20260425T055100Z
DTSTART;TZID=America/New_York:20260726T120000
DURATION:PT1H0M0S
SUMMARY:Bad News vs. Spartans
DESCRIPTION:Divisions 1 & 2 - RCSL
LOCATION:Hank Soar 3
CATEGORIES:QuickScores, Softball - Adult Game
TRANSP:OPAQUE
BEGIN:VALARM
TRIGGER:-PT2H
ACTION:DISPLAY
DESCRIPTION:Bad News vs. Spartans
END:VALARM
END:VEVENT
BEGIN:VEVENT
UID:rcsl-73827234-20260802T120000@quickscores.com
DTSTAMP:20260425T055100Z
DTSTART;TZID=America/New_York:20260802T120000
DURATION:PT1H0M0S
SUMMARY:Critical Hits vs. Bad News
DESCRIPTION:Divisions 1 & 2 - RCSL
LOCATION:Hank Soar 1
CATEGORIES:QuickScores, Softball - Adult Game
TRANSP:OPAQUE
BEGIN:VALARM
TRIGGER:-PT2H
ACTION:DISPLAY
DESCRIPTION:Critical Hits vs. Bad News
END:VALARM
END:VEVENT
BEGIN:VEVENT
UID:rcsl-73827235-20260802T130000@quickscores.com
DTSTAMP:20260425T055100Z
DTSTART;TZID=America/New_York:20260802T130000
DURATION:PT1H0M0S
SUMMARY:Bad News vs. Big Ol' Hitties
DESCRIPTION:Divisions 1 & 2 - RCSL
LOCATION:Hank Soar 2
CATEGORIES:QuickScores, Softball - Adult Game
TRANSP:OPAQUE
BEGIN:VALARM
TRIGGER:-PT2H
ACTION:DISPLAY
DESCRIPTION:Bad News vs. Big Ol' Hitties
END:VALARM
END:VEVENT
BEGIN:VEVENT
UID:rcsl-73827382-20260809T090000@quickscores.com
DTSTAMP:20260425T055100Z
DTSTART;TZID=America/New_York:20260809T090000
DURATION:PT1H0M0S
SUMMARY:Spartans vs. Bad News
DESCRIPTION:Divisions 1 & 2 - RCSL
LOCATION:Hank Soar 2
CATEGORIES:QuickScores, Softball - Adult Game
TRANSP:OPAQUE
BEGIN:VALARM
TRIGGER:-PT2H
ACTION:DISPLAY
DESCRIPTION:Spartans vs. Bad News
END:VALARM
END:VEVENT
BEGIN:VEVENT
UID:rcsl-73827384-20260809T100000@quickscores.com
DTSTAMP:20260425T055100Z
DTSTART;TZID=America/New_York:20260809T100000
DURATION:PT1H0M0S
SUMMARY:Bad News vs. Big Ol' Hitties
DESCRIPTION:Divisions 1 & 2 - RCSL
LOCATION:Hank Soar 3
CATEGORIES:QuickScores, Softball - Adult Game
TRANSP:OPAQUE
BEGIN:VALARM
TRIGGER:-PT2H
ACTION:DISPLAY
DESCRIPTION:Bad News vs. Big Ol' Hitties
END:VALARM
END:VEVENT
END:VCALENDAR
