BEGIN:VCALENDAR
VERSION:2.0
PRODID:-//QuickScores.com//BQ Dynamic iCal Creator//EN
METHOD:PUBLISH
X-WR-CALNAME:Walker/Walker - Fmg Tuesday Rec  League - Early Spring 2026 (recovered) - Frankie Martins Garden Ongoing Leagues
X-WR-CALDESC:QuickScores game calendar
X-PUBLISHED-TTL:PT24H
REFRESH-INTERVAL;VALUE=DURATION:PT24H
CALSCALE:GREGORIAN
BEGIN:VTIMEZONE
TZID:America/Chicago
X-LIC-LOCATION:America/Chicago
BEGIN:DAYLIGHT
TZNAME:CDT
TZOFFSETFROM:-0600
TZOFFSETTO:-0500
DTSTART:19700308T020000
RRULE:FREQ=YEARLY;BYMONTH=3;BYDAY=2SU
END:DAYLIGHT
BEGIN:STANDARD
TZNAME:CST
TZOFFSETFROM:-0500
TZOFFSETTO:-0600
DTSTART:19701101T020000
RRULE:FREQ=YEARLY;BYMONTH=11;BYDAY=1SU
END:STANDARD
END:VTIMEZONE
BEGIN:VEVENT
UID:pupc-74176842-20260407T192000@quickscores.com
DTSTAMP:20260422T210400Z
DTSTART;TZID=America/Chicago:20260407T192000
DURATION:PT0H40M0S
SUMMARY:Lemery/Reynolds (Out) vs. Walker/Walker
DESCRIPTION:Fmg Tuesday Rec  League - Early Spring 2026 (recovered) - Paddle Up Pickleball Club
LOCATION:FMG Court 4
CATEGORIES:QuickScores, Pickleball Game
TRANSP:OPAQUE
BEGIN:VALARM
TRIGGER:-PT2H
ACTION:DISPLAY
DESCRIPTION:Lemery/Reynolds (Out) vs. Walker/Walker
END:VALARM
END:VEVENT
BEGIN:VEVENT
UID:pupc-74176843-20260407T200000@quickscores.com
DTSTAMP:20260422T210400Z
DTSTART;TZID=America/Chicago:20260407T200000
DURATION:PT0H40M0S
SUMMARY:Versemann/Versemann vs. Walker/Walker
DESCRIPTION:Fmg Tuesday Rec  League - Early Spring 2026 (recovered) - Paddle Up Pickleball Club
LOCATION:FMG Court 4
CATEGORIES:QuickScores, Pickleball Game
TRANSP:OPAQUE
BEGIN:VALARM
TRIGGER:-PT2H
ACTION:DISPLAY
DESCRIPTION:Versemann/Versemann vs. Walker/Walker
END:VALARM
END:VEVENT
BEGIN:VEVENT
UID:pupc-74176863-20260414T180000@quickscores.com
DTSTAMP:20260422T210400Z
DTSTART;TZID=America/Chicago:20260414T180000
DURATION:PT0H40M0S
SUMMARY:Lemery/Black vs. Walker/Walker
DESCRIPTION:Fmg Tuesday Rec  League - Early Spring 2026 (recovered) - Paddle Up Pickleball Club
LOCATION:FMG Court 3
CATEGORIES:QuickScores, Pickleball Game
TRANSP:OPAQUE
BEGIN:VALARM
TRIGGER:-PT2H
ACTION:DISPLAY
DESCRIPTION:Lemery/Black vs. Walker/Walker
END:VALARM
END:VEVENT
BEGIN:VEVENT
UID:pupc-74176857-20260414T184000@quickscores.com
DTSTAMP:20260422T210400Z
DTSTART;TZID=America/Chicago:20260414T184000
DURATION:PT0H40M0S
SUMMARY:Sosnowski/Sosnowski vs. Walker/Walker
DESCRIPTION:Fmg Tuesday Rec  League - Early Spring 2026 (recovered) - Paddle Up Pickleball Club
LOCATION:FMG Court 5
CATEGORIES:QuickScores, Pickleball Game
TRANSP:OPAQUE
BEGIN:VALARM
TRIGGER:-PT2H
ACTION:DISPLAY
DESCRIPTION:Sosnowski/Sosnowski vs. Walker/Walker
END:VALARM
END:VEVENT
BEGIN:VEVENT
UID:pupc-74176873-20260421T192000@quickscores.com
DTSTAMP:20260422T210400Z
DTSTART;TZID=America/Chicago:20260421T192000
DURATION:PT0H40M0S
SUMMARY:Walker/Walker vs. Brown/Brown
DESCRIPTION:Fmg Tuesday Rec  League - Early Spring 2026 (recovered) - Paddle Up Pickleball Club
LOCATION:FMG Court 5
CATEGORIES:QuickScores, Pickleball Game
TRANSP:OPAQUE
BEGIN:VALARM
TRIGGER:-PT2H
ACTION:DISPLAY
DESCRIPTION:Walker/Walker vs. Brown/Brown
END:VALARM
END:VEVENT
BEGIN:VEVENT
UID:pupc-74176874-20260421T200000@quickscores.com
DTSTAMP:20260422T210400Z
DTSTART;TZID=America/Chicago:20260421T200000
DURATION:PT0H40M0S
SUMMARY:Steinbeck/Smegner vs. Walker/Walker
DESCRIPTION:Fmg Tuesday Rec  League - Early Spring 2026 (recovered) - Paddle Up Pickleball Club
LOCATION:FMG Court 6
CATEGORIES:QuickScores, Pickleball Game
TRANSP:OPAQUE
BEGIN:VALARM
TRIGGER:-PT2H
ACTION:DISPLAY
DESCRIPTION:Steinbeck/Smegner vs. Walker/Walker
END:VALARM
END:VEVENT
BEGIN:VEVENT
UID:pupc-74176889-20260428T180000@quickscores.com
DTSTAMP:20260422T210400Z
DTSTART;TZID=America/Chicago:20260428T180000
DURATION:PT0H40M0S
SUMMARY:Curran/Curran vs. Walker/Walker
DESCRIPTION:Fmg Tuesday Rec  League - Early Spring 2026 (recovered) - Paddle Up Pickleball Club
LOCATION:FMG Court 3
CATEGORIES:QuickScores, Pickleball Game
TRANSP:OPAQUE
BEGIN:VALARM
TRIGGER:-PT2H
ACTION:DISPLAY
DESCRIPTION:Curran/Curran vs. Walker/Walker
END:VALARM
END:VEVENT
BEGIN:VEVENT
UID:pupc-74176890-20260428T184000@quickscores.com
DTSTAMP:20260422T210400Z
DTSTART;TZID=America/Chicago:20260428T184000
DURATION:PT0H40M0S
SUMMARY:Walker/Walker vs. Hoffman/Corrigan
DESCRIPTION:Fmg Tuesday Rec  League - Early Spring 2026 (recovered) - Paddle Up Pickleball Club
LOCATION:FMG Court 3
CATEGORIES:QuickScores, Pickleball Game
TRANSP:OPAQUE
BEGIN:VALARM
TRIGGER:-PT2H
ACTION:DISPLAY
DESCRIPTION:Walker/Walker vs. Hoffman/Corrigan
END:VALARM
END:VEVENT
BEGIN:VEVENT
UID:pupc-74176899-20260505T180000@quickscores.com
DTSTAMP:20260422T210400Z
DTSTART;TZID=America/Chicago:20260505T180000
DURATION:PT0H40M0S
SUMMARY:Versemann/Versemann vs. Walker/Walker
DESCRIPTION:Fmg Tuesday Rec  League - Early Spring 2026 (recovered) - Paddle Up Pickleball Club
LOCATION:FMG Court 5
CATEGORIES:QuickScores, Pickleball Game
TRANSP:OPAQUE
BEGIN:VALARM
TRIGGER:-PT2H
ACTION:DISPLAY
DESCRIPTION:Versemann/Versemann vs. Walker/Walker
END:VALARM
END:VEVENT
BEGIN:VEVENT
UID:pupc-74176900-20260505T184000@quickscores.com
DTSTAMP:20260422T210400Z
DTSTART;TZID=America/Chicago:20260505T184000
DURATION:PT0H40M0S
SUMMARY:Walker/Walker vs. Shirey/Shirey
DESCRIPTION:Fmg Tuesday Rec  League - Early Spring 2026 (recovered) - Paddle Up Pickleball Club
LOCATION:FMG Court 5
CATEGORIES:QuickScores, Pickleball Game
TRANSP:OPAQUE
BEGIN:VALARM
TRIGGER:-PT2H
ACTION:DISPLAY
DESCRIPTION:Walker/Walker vs. Shirey/Shirey
END:VALARM
END:VEVENT
END:VCALENDAR
