BEGIN:VCALENDAR
VERSION:2.0
PRODID:-//QuickScores.com//BQ Dynamic iCal Creator//EN
METHOD:PUBLISH
X-WR-CALNAME:Versemann/Versemann - Fmg Tuesday Rec  League - Early Spring 2026 (recovered) - Frankie Martins Garden Ongoing Leagues
X-WR-CALDESC:QuickScores game calendar
X-PUBLISHED-TTL:PT24H
REFRESH-INTERVAL;VALUE=DURATION:PT24H
CALSCALE:GREGORIAN
BEGIN:VTIMEZONE
TZID:America/Chicago
X-LIC-LOCATION:America/Chicago
BEGIN:DAYLIGHT
TZNAME:CDT
TZOFFSETFROM:-0600
TZOFFSETTO:-0500
DTSTART:19700308T020000
RRULE:FREQ=YEARLY;BYMONTH=3;BYDAY=2SU
END:DAYLIGHT
BEGIN:STANDARD
TZNAME:CST
TZOFFSETFROM:-0500
TZOFFSETTO:-0600
DTSTART:19701101T020000
RRULE:FREQ=YEARLY;BYMONTH=11;BYDAY=1SU
END:STANDARD
END:VTIMEZONE
BEGIN:VEVENT
UID:pupc-74176844-20260407T184000@quickscores.com
DTSTAMP:20260425T153300Z
DTSTART;TZID=America/Chicago:20260407T184000
DURATION:PT0H40M0S
SUMMARY:Pund/Benedick vs. Versemann/Versemann
DESCRIPTION:Fmg Tuesday Rec  League - Early Spring 2026 (recovered) - Paddle Up Pickleball Club
LOCATION:FMG Court 4
CATEGORIES:QuickScores, Pickleball Game
TRANSP:OPAQUE
BEGIN:VALARM
TRIGGER:-PT2H
ACTION:DISPLAY
DESCRIPTION:Pund/Benedick vs. Versemann/Versemann
END:VALARM
END:VEVENT
BEGIN:VEVENT
UID:pupc-74176843-20260407T200000@quickscores.com
DTSTAMP:20260425T153300Z
DTSTART;TZID=America/Chicago:20260407T200000
DURATION:PT0H40M0S
SUMMARY:Versemann/Versemann vs. Walker/Walker
DESCRIPTION:Fmg Tuesday Rec  League - Early Spring 2026 (recovered) - Paddle Up Pickleball Club
LOCATION:FMG Court 4
CATEGORIES:QuickScores, Pickleball Game
TRANSP:OPAQUE
BEGIN:VALARM
TRIGGER:-PT2H
ACTION:DISPLAY
DESCRIPTION:Versemann/Versemann vs. Walker/Walker
END:VALARM
END:VEVENT
BEGIN:VEVENT
UID:pupc-74176854-20260414T180000@quickscores.com
DTSTAMP:20260425T153300Z
DTSTART;TZID=America/Chicago:20260414T180000
DURATION:PT0H40M0S
SUMMARY:Versemann/Versemann vs. Lemery/Reynolds (Out)
DESCRIPTION:Fmg Tuesday Rec  League - Early Spring 2026 (recovered) - Paddle Up Pickleball Club
LOCATION:FMG Court 4
CATEGORIES:QuickScores, Pickleball Game
TRANSP:OPAQUE
BEGIN:VALARM
TRIGGER:-PT2H
ACTION:DISPLAY
DESCRIPTION:Versemann/Versemann vs. Lemery/Reynolds (Out)
END:VALARM
END:VEVENT
BEGIN:VEVENT
UID:pupc-74176855-20260414T184000@quickscores.com
DTSTAMP:20260425T153300Z
DTSTART;TZID=America/Chicago:20260414T184000
DURATION:PT0H40M0S
SUMMARY:Versemann/Versemann vs. Meyer/Saettele
DESCRIPTION:Fmg Tuesday Rec  League - Early Spring 2026 (recovered) - Paddle Up Pickleball Club
LOCATION:FMG Court 4
CATEGORIES:QuickScores, Pickleball Game
TRANSP:OPAQUE
BEGIN:VALARM
TRIGGER:-PT2H
ACTION:DISPLAY
DESCRIPTION:Versemann/Versemann vs. Meyer/Saettele
END:VALARM
END:VEVENT
BEGIN:VEVENT
UID:pupc-74176868-20260421T192000@quickscores.com
DTSTAMP:20260425T153300Z
DTSTART;TZID=America/Chicago:20260421T192000
DURATION:PT0H40M0S
SUMMARY:Sosnowski/Sosnowski vs. Versemann/Versemann
DESCRIPTION:Fmg Tuesday Rec  League - Early Spring 2026 (recovered) - Paddle Up Pickleball Club
LOCATION:FMG Court 4
CATEGORIES:QuickScores, Pickleball Game
TRANSP:OPAQUE
BEGIN:VALARM
TRIGGER:-PT2H
ACTION:DISPLAY
DESCRIPTION:Sosnowski/Sosnowski vs. Versemann/Versemann
END:VALARM
END:VEVENT
BEGIN:VEVENT
UID:pupc-74176869-20260421T200000@quickscores.com
DTSTAMP:20260425T153300Z
DTSTART;TZID=America/Chicago:20260421T200000
DURATION:PT0H40M0S
SUMMARY:Versemann/Versemann vs. Papa/Olwig
DESCRIPTION:Fmg Tuesday Rec  League - Early Spring 2026 (recovered) - Paddle Up Pickleball Club
LOCATION:FMG Court 1
CATEGORIES:QuickScores, Pickleball Game
TRANSP:OPAQUE
BEGIN:VALARM
TRIGGER:-PT2H
ACTION:DISPLAY
DESCRIPTION:Versemann/Versemann vs. Papa/Olwig
END:VALARM
END:VEVENT
BEGIN:VEVENT
UID:pupc-74176893-20260428T180000@quickscores.com
DTSTAMP:20260425T153300Z
DTSTART;TZID=America/Chicago:20260428T180000
DURATION:PT0H40M0S
SUMMARY:Versemann/Versemann vs. Krueger/Howard
DESCRIPTION:Fmg Tuesday Rec  League - Early Spring 2026 (recovered) - Paddle Up Pickleball Club
LOCATION:FMG Court 6
CATEGORIES:QuickScores, Pickleball Game
TRANSP:OPAQUE
BEGIN:VALARM
TRIGGER:-PT2H
ACTION:DISPLAY
DESCRIPTION:Versemann/Versemann vs. Krueger/Howard
END:VALARM
END:VEVENT
BEGIN:VEVENT
UID:pupc-74176892-20260428T184000@quickscores.com
DTSTAMP:20260425T153300Z
DTSTART;TZID=America/Chicago:20260428T184000
DURATION:PT0H40M0S
SUMMARY:Curran/Curran vs. Versemann/Versemann
DESCRIPTION:Fmg Tuesday Rec  League - Early Spring 2026 (recovered) - Paddle Up Pickleball Club
LOCATION:FMG Court 5
CATEGORIES:QuickScores, Pickleball Game
TRANSP:OPAQUE
BEGIN:VALARM
TRIGGER:-PT2H
ACTION:DISPLAY
DESCRIPTION:Curran/Curran vs. Versemann/Versemann
END:VALARM
END:VEVENT
BEGIN:VEVENT
UID:pupc-74176899-20260505T180000@quickscores.com
DTSTAMP:20260425T153300Z
DTSTART;TZID=America/Chicago:20260505T180000
DURATION:PT0H40M0S
SUMMARY:Versemann/Versemann vs. Walker/Walker
DESCRIPTION:Fmg Tuesday Rec  League - Early Spring 2026 (recovered) - Paddle Up Pickleball Club
LOCATION:FMG Court 5
CATEGORIES:QuickScores, Pickleball Game
TRANSP:OPAQUE
BEGIN:VALARM
TRIGGER:-PT2H
ACTION:DISPLAY
DESCRIPTION:Versemann/Versemann vs. Walker/Walker
END:VALARM
END:VEVENT
BEGIN:VEVENT
UID:pupc-74176898-20260505T184000@quickscores.com
DTSTAMP:20260425T153300Z
DTSTART;TZID=America/Chicago:20260505T184000
DURATION:PT0H40M0S
SUMMARY:Sosnowski/Sosnowski vs. Versemann/Versemann
DESCRIPTION:Fmg Tuesday Rec  League - Early Spring 2026 (recovered) - Paddle Up Pickleball Club
LOCATION:FMG Court 4
CATEGORIES:QuickScores, Pickleball Game
TRANSP:OPAQUE
BEGIN:VALARM
TRIGGER:-PT2H
ACTION:DISPLAY
DESCRIPTION:Sosnowski/Sosnowski vs. Versemann/Versemann
END:VALARM
END:VEVENT
END:VCALENDAR
