BEGIN:VCALENDAR
VERSION:2.0
PRODID:-//QuickScores.com//BQ Dynamic iCal Creator//EN
METHOD:PUBLISH
X-WR-CALNAME:Steinbeck/Smegner - Fmg Tuesday Rec  League - Early Spring 2026 (recovered) - Frankie Martins Garden Ongoing Leagues
X-WR-CALDESC:QuickScores game calendar
X-PUBLISHED-TTL:PT24H
REFRESH-INTERVAL;VALUE=DURATION:PT24H
CALSCALE:GREGORIAN
BEGIN:VTIMEZONE
TZID:America/Chicago
X-LIC-LOCATION:America/Chicago
BEGIN:DAYLIGHT
TZNAME:CDT
TZOFFSETFROM:-0600
TZOFFSETTO:-0500
DTSTART:19700308T020000
RRULE:FREQ=YEARLY;BYMONTH=3;BYDAY=2SU
END:DAYLIGHT
BEGIN:STANDARD
TZNAME:CST
TZOFFSETFROM:-0500
TZOFFSETTO:-0600
DTSTART:19701101T020000
RRULE:FREQ=YEARLY;BYMONTH=11;BYDAY=1SU
END:STANDARD
END:VTIMEZONE
BEGIN:VEVENT
UID:pupc-74176847-20260407T180000@quickscores.com
DTSTAMP:20260425T200200Z
DTSTART;TZID=America/Chicago:20260407T180000
DURATION:PT0H40M0S
SUMMARY:Steinbeck/Smegner vs. Pund/Benedick
DESCRIPTION:Fmg Tuesday Rec  League - Early Spring 2026 (recovered) - Paddle Up Pickleball Club
LOCATION:FMG Court 5
CATEGORIES:QuickScores, Pickleball Game
TRANSP:OPAQUE
BEGIN:VALARM
TRIGGER:-PT2H
ACTION:DISPLAY
DESCRIPTION:Steinbeck/Smegner vs. Pund/Benedick
END:VALARM
END:VEVENT
BEGIN:VEVENT
UID:pupc-74176848-20260407T184000@quickscores.com
DTSTAMP:20260425T200200Z
DTSTART;TZID=America/Chicago:20260407T184000
DURATION:PT0H40M0S
SUMMARY:Papa/Olwig vs. Steinbeck/Smegner
DESCRIPTION:Fmg Tuesday Rec  League - Early Spring 2026 (recovered) - Paddle Up Pickleball Club
LOCATION:FMG Court 5
CATEGORIES:QuickScores, Pickleball Game
TRANSP:OPAQUE
BEGIN:VALARM
TRIGGER:-PT2H
ACTION:DISPLAY
DESCRIPTION:Papa/Olwig vs. Steinbeck/Smegner
END:VALARM
END:VEVENT
BEGIN:VEVENT
UID:pupc-74176866-20260414T192000@quickscores.com
DTSTAMP:20260425T200200Z
DTSTART;TZID=America/Chicago:20260414T192000
DURATION:PT0H40M0S
SUMMARY:Steinbeck/Smegner vs. Brown/Brown
DESCRIPTION:Fmg Tuesday Rec  League - Early Spring 2026 (recovered) - Paddle Up Pickleball Club
LOCATION:FMG Court 6
CATEGORIES:QuickScores, Pickleball Game
TRANSP:OPAQUE
BEGIN:VALARM
TRIGGER:-PT2H
ACTION:DISPLAY
DESCRIPTION:Steinbeck/Smegner vs. Brown/Brown
END:VALARM
END:VEVENT
BEGIN:VEVENT
UID:pupc-74176867-20260414T200000@quickscores.com
DTSTAMP:20260425T200200Z
DTSTART;TZID=America/Chicago:20260414T200000
DURATION:PT0H40M0S
SUMMARY:Steinbeck/Smegner vs. Krueger/Howard
DESCRIPTION:Fmg Tuesday Rec  League - Early Spring 2026 (recovered) - Paddle Up Pickleball Club
LOCATION:FMG Court 6
CATEGORIES:QuickScores, Pickleball Game
TRANSP:OPAQUE
BEGIN:VALARM
TRIGGER:-PT2H
ACTION:DISPLAY
DESCRIPTION:Steinbeck/Smegner vs. Krueger/Howard
END:VALARM
END:VEVENT
BEGIN:VEVENT
UID:pupc-74176875-20260421T192000@quickscores.com
DTSTAMP:20260425T200200Z
DTSTART;TZID=America/Chicago:20260421T192000
DURATION:PT0H40M0S
SUMMARY:Steinbeck/Smegner vs. Hoffman/Corrigan
DESCRIPTION:Fmg Tuesday Rec  League - Early Spring 2026 (recovered) - Paddle Up Pickleball Club
LOCATION:FMG Court 6
CATEGORIES:QuickScores, Pickleball Game
TRANSP:OPAQUE
BEGIN:VALARM
TRIGGER:-PT2H
ACTION:DISPLAY
DESCRIPTION:Steinbeck/Smegner vs. Hoffman/Corrigan
END:VALARM
END:VEVENT
BEGIN:VEVENT
UID:pupc-74176874-20260421T200000@quickscores.com
DTSTAMP:20260425T200200Z
DTSTART;TZID=America/Chicago:20260421T200000
DURATION:PT0H40M0S
SUMMARY:Steinbeck/Smegner vs. Walker/Walker
DESCRIPTION:Fmg Tuesday Rec  League - Early Spring 2026 (recovered) - Paddle Up Pickleball Club
LOCATION:FMG Court 6
CATEGORIES:QuickScores, Pickleball Game
TRANSP:OPAQUE
BEGIN:VALARM
TRIGGER:-PT2H
ACTION:DISPLAY
DESCRIPTION:Steinbeck/Smegner vs. Walker/Walker
END:VALARM
END:VEVENT
BEGIN:VEVENT
UID:pupc-74176886-20260428T192000@quickscores.com
DTSTAMP:20260425T200200Z
DTSTART;TZID=America/Chicago:20260428T192000
DURATION:PT0H40M0S
SUMMARY:Meyer/Saettele vs. Steinbeck/Smegner
DESCRIPTION:Fmg Tuesday Rec  League - Early Spring 2026 (recovered) - Paddle Up Pickleball Club
LOCATION:FMG Court 4
CATEGORIES:QuickScores, Pickleball Game
TRANSP:OPAQUE
BEGIN:VALARM
TRIGGER:-PT2H
ACTION:DISPLAY
DESCRIPTION:Meyer/Saettele vs. Steinbeck/Smegner
END:VALARM
END:VEVENT
BEGIN:VEVENT
UID:pupc-74176885-20260428T204000@quickscores.com
DTSTAMP:20260425T200200Z
DTSTART;TZID=America/Chicago:20260428T204000
DURATION:PT0H40M0S
SUMMARY:Steinbeck/Smegner vs. Pund/Benedick
DESCRIPTION:Fmg Tuesday Rec  League - Early Spring 2026 (recovered) - Paddle Up Pickleball Club
LOCATION:FMG Court 4
CATEGORIES:QuickScores, Pickleball Game
TRANSP:OPAQUE
BEGIN:VALARM
TRIGGER:-PT2H
ACTION:DISPLAY
DESCRIPTION:Steinbeck/Smegner vs. Pund/Benedick
END:VALARM
END:VEVENT
BEGIN:VEVENT
UID:pupc-74176907-20260505T200000@quickscores.com
DTSTAMP:20260425T200200Z
DTSTART;TZID=America/Chicago:20260505T200000
DURATION:PT0H40M0S
SUMMARY:Lemery/Black vs. Steinbeck/Smegner
DESCRIPTION:Fmg Tuesday Rec  League - Early Spring 2026 (recovered) - Paddle Up Pickleball Club
LOCATION:FMG Court 4
CATEGORIES:QuickScores, Pickleball Game
TRANSP:OPAQUE
BEGIN:VALARM
TRIGGER:-PT2H
ACTION:DISPLAY
DESCRIPTION:Lemery/Black vs. Steinbeck/Smegner
END:VALARM
END:VEVENT
BEGIN:VEVENT
UID:pupc-74176908-20260505T204000@quickscores.com
DTSTAMP:20260425T200200Z
DTSTART;TZID=America/Chicago:20260505T204000
DURATION:PT0H40M0S
SUMMARY:Curran/Curran vs. Steinbeck/Smegner
DESCRIPTION:Fmg Tuesday Rec  League - Early Spring 2026 (recovered) - Paddle Up Pickleball Club
LOCATION:FMG Court 5
CATEGORIES:QuickScores, Pickleball Game
TRANSP:OPAQUE
BEGIN:VALARM
TRIGGER:-PT2H
ACTION:DISPLAY
DESCRIPTION:Curran/Curran vs. Steinbeck/Smegner
END:VALARM
END:VEVENT
END:VCALENDAR
