BEGIN:VCALENDAR
VERSION:2.0
PRODID:-//QuickScores.com//BQ Dynamic iCal Creator//EN
METHOD:PUBLISH
X-WR-CALNAME:Papa/Olwig - Fmg Tuesday Rec  League - Early Spring 2026 (recovered) - Frankie Martins Garden Ongoing Leagues
X-WR-CALDESC:QuickScores game calendar
X-PUBLISHED-TTL:PT24H
REFRESH-INTERVAL;VALUE=DURATION:PT24H
CALSCALE:GREGORIAN
BEGIN:VTIMEZONE
TZID:America/Chicago
X-LIC-LOCATION:America/Chicago
BEGIN:DAYLIGHT
TZNAME:CDT
TZOFFSETFROM:-0600
TZOFFSETTO:-0500
DTSTART:19700308T020000
RRULE:FREQ=YEARLY;BYMONTH=3;BYDAY=2SU
END:DAYLIGHT
BEGIN:STANDARD
TZNAME:CST
TZOFFSETFROM:-0500
TZOFFSETTO:-0600
DTSTART:19701101T020000
RRULE:FREQ=YEARLY;BYMONTH=11;BYDAY=1SU
END:STANDARD
END:VTIMEZONE
BEGIN:VEVENT
UID:pupc-74176845-20260407T180000@quickscores.com
DTSTAMP:20260422T104200Z
DTSTART;TZID=America/Chicago:20260407T180000
DURATION:PT0H40M0S
SUMMARY:Brown/Brown vs. Papa/Olwig
DESCRIPTION:Fmg Tuesday Rec  League - Early Spring 2026 (recovered) - Paddle Up Pickleball Club
LOCATION:FMG Court 6
CATEGORIES:QuickScores, Pickleball Game
TRANSP:OPAQUE
BEGIN:VALARM
TRIGGER:-PT2H
ACTION:DISPLAY
DESCRIPTION:Brown/Brown vs. Papa/Olwig
END:VALARM
END:VEVENT
BEGIN:VEVENT
UID:pupc-74176848-20260407T184000@quickscores.com
DTSTAMP:20260422T104200Z
DTSTART;TZID=America/Chicago:20260407T184000
DURATION:PT0H40M0S
SUMMARY:Papa/Olwig vs. Steinbeck/Smegner
DESCRIPTION:Fmg Tuesday Rec  League - Early Spring 2026 (recovered) - Paddle Up Pickleball Club
LOCATION:FMG Court 5
CATEGORIES:QuickScores, Pickleball Game
TRANSP:OPAQUE
BEGIN:VALARM
TRIGGER:-PT2H
ACTION:DISPLAY
DESCRIPTION:Papa/Olwig vs. Steinbeck/Smegner
END:VALARM
END:VEVENT
BEGIN:VEVENT
UID:pupc-74176858-20260414T192000@quickscores.com
DTSTAMP:20260422T104200Z
DTSTART;TZID=America/Chicago:20260414T192000
DURATION:PT0H40M0S
SUMMARY:Krueger/Howard vs. Papa/Olwig
DESCRIPTION:Fmg Tuesday Rec  League - Early Spring 2026 (recovered) - Paddle Up Pickleball Club
LOCATION:FMG Court 4
CATEGORIES:QuickScores, Pickleball Game
TRANSP:OPAQUE
BEGIN:VALARM
TRIGGER:-PT2H
ACTION:DISPLAY
DESCRIPTION:Krueger/Howard vs. Papa/Olwig
END:VALARM
END:VEVENT
BEGIN:VEVENT
UID:pupc-74176859-20260414T200000@quickscores.com
DTSTAMP:20260422T104200Z
DTSTART;TZID=America/Chicago:20260414T200000
DURATION:PT0H40M0S
SUMMARY:Curran/Curran vs. Papa/Olwig
DESCRIPTION:Fmg Tuesday Rec  League - Early Spring 2026 (recovered) - Paddle Up Pickleball Club
LOCATION:FMG Court 4
CATEGORIES:QuickScores, Pickleball Game
TRANSP:OPAQUE
BEGIN:VALARM
TRIGGER:-PT2H
ACTION:DISPLAY
DESCRIPTION:Curran/Curran vs. Papa/Olwig
END:VALARM
END:VEVENT
BEGIN:VEVENT
UID:pupc-74176870-20260421T184000@quickscores.com
DTSTAMP:20260422T104200Z
DTSTART;TZID=America/Chicago:20260421T184000
DURATION:PT0H40M0S
SUMMARY:Papa/Olwig vs. Lemery/Black
DESCRIPTION:Fmg Tuesday Rec  League - Early Spring 2026 (recovered) - Paddle Up Pickleball Club
LOCATION:FMG Court 4
CATEGORIES:QuickScores, Pickleball Game
TRANSP:OPAQUE
BEGIN:VALARM
TRIGGER:-PT2H
ACTION:DISPLAY
DESCRIPTION:Papa/Olwig vs. Lemery/Black
END:VALARM
END:VEVENT
BEGIN:VEVENT
UID:pupc-74176869-20260421T200000@quickscores.com
DTSTAMP:20260422T104200Z
DTSTART;TZID=America/Chicago:20260421T200000
DURATION:PT0H40M0S
SUMMARY:Versemann/Versemann vs. Papa/Olwig
DESCRIPTION:Fmg Tuesday Rec  League - Early Spring 2026 (recovered) - Paddle Up Pickleball Club
LOCATION:FMG Court 1
CATEGORIES:QuickScores, Pickleball Game
TRANSP:OPAQUE
BEGIN:VALARM
TRIGGER:-PT2H
ACTION:DISPLAY
DESCRIPTION:Versemann/Versemann vs. Papa/Olwig
END:VALARM
END:VEVENT
BEGIN:VEVENT
UID:pupc-74176883-20260428T200000@quickscores.com
DTSTAMP:20260422T104200Z
DTSTART;TZID=America/Chicago:20260428T200000
DURATION:PT0H40M0S
SUMMARY:Papa/Olwig vs. Pund/Benedick
DESCRIPTION:Fmg Tuesday Rec  League - Early Spring 2026 (recovered) - Paddle Up Pickleball Club
LOCATION:FMG Court 5
CATEGORIES:QuickScores, Pickleball Game
TRANSP:OPAQUE
BEGIN:VALARM
TRIGGER:-PT2H
ACTION:DISPLAY
DESCRIPTION:Papa/Olwig vs. Pund/Benedick
END:VALARM
END:VEVENT
BEGIN:VEVENT
UID:pupc-74176897-20260428T204000@quickscores.com
DTSTAMP:20260422T104200Z
DTSTART;TZID=America/Chicago:20260428T204000
DURATION:PT0H40M0S
SUMMARY:Shirey/Shirey vs. Papa/Olwig
DESCRIPTION:Fmg Tuesday Rec  League - Early Spring 2026 (recovered) - Paddle Up Pickleball Club
LOCATION:FMG Court 5
CATEGORIES:QuickScores, Pickleball Game
TRANSP:OPAQUE
BEGIN:VALARM
TRIGGER:-PT2H
ACTION:DISPLAY
DESCRIPTION:Shirey/Shirey vs. Papa/Olwig
END:VALARM
END:VEVENT
BEGIN:VEVENT
UID:pupc-74176911-20260505T180000@quickscores.com
DTSTAMP:20260422T104200Z
DTSTART;TZID=America/Chicago:20260505T180000
DURATION:PT0H40M0S
SUMMARY:Papa/Olwig vs. Brown/Brown
DESCRIPTION:Fmg Tuesday Rec  League - Early Spring 2026 (recovered) - Paddle Up Pickleball Club
LOCATION:FMG Court 3
CATEGORIES:QuickScores, Pickleball Game
TRANSP:OPAQUE
BEGIN:VALARM
TRIGGER:-PT2H
ACTION:DISPLAY
DESCRIPTION:Papa/Olwig vs. Brown/Brown
END:VALARM
END:VEVENT
BEGIN:VEVENT
UID:pupc-74176912-20260505T184000@quickscores.com
DTSTAMP:20260422T104200Z
DTSTART;TZID=America/Chicago:20260505T184000
DURATION:PT0H40M0S
SUMMARY:Meyer/Saettele vs. Papa/Olwig
DESCRIPTION:Fmg Tuesday Rec  League - Early Spring 2026 (recovered) - Paddle Up Pickleball Club
LOCATION:FMG Court 6
CATEGORIES:QuickScores, Pickleball Game
TRANSP:OPAQUE
BEGIN:VALARM
TRIGGER:-PT2H
ACTION:DISPLAY
DESCRIPTION:Meyer/Saettele vs. Papa/Olwig
END:VALARM
END:VEVENT
END:VCALENDAR
