BEGIN:VCALENDAR
VERSION:2.0
PRODID:-//QuickScores.com//BQ Dynamic iCal Creator//EN
METHOD:PUBLISH
X-WR-CALNAME:Curran/Curran - Fmg Tuesday Rec  League - Early Spring 2026 (recovered) - Frankie Martins Garden Ongoing Leagues
X-WR-CALDESC:QuickScores game calendar
X-PUBLISHED-TTL:PT24H
REFRESH-INTERVAL;VALUE=DURATION:PT24H
CALSCALE:GREGORIAN
BEGIN:VTIMEZONE
TZID:America/Chicago
X-LIC-LOCATION:America/Chicago
BEGIN:DAYLIGHT
TZNAME:CDT
TZOFFSETFROM:-0600
TZOFFSETTO:-0500
DTSTART:19700308T020000
RRULE:FREQ=YEARLY;BYMONTH=3;BYDAY=2SU
END:DAYLIGHT
BEGIN:STANDARD
TZNAME:CST
TZOFFSETFROM:-0500
TZOFFSETTO:-0600
DTSTART:19701101T020000
RRULE:FREQ=YEARLY;BYMONTH=11;BYDAY=1SU
END:STANDARD
END:VTIMEZONE
BEGIN:VEVENT
UID:pupc-74176851-20260407T192000@quickscores.com
DTSTAMP:20260422T005400Z
DTSTART;TZID=America/Chicago:20260407T192000
DURATION:PT0H40M0S
SUMMARY:Meyer/Saettele vs. Curran/Curran
DESCRIPTION:Fmg Tuesday Rec  League - Early Spring 2026 (recovered) - Paddle Up Pickleball Club
LOCATION:FMG Court 6
CATEGORIES:QuickScores, Pickleball Game
TRANSP:OPAQUE
BEGIN:VALARM
TRIGGER:-PT2H
ACTION:DISPLAY
DESCRIPTION:Meyer/Saettele vs. Curran/Curran
END:VALARM
END:VEVENT
BEGIN:VEVENT
UID:pupc-74176839-20260407T200000@quickscores.com
DTSTAMP:20260422T005400Z
DTSTART;TZID=America/Chicago:20260407T200000
DURATION:PT0H40M0S
SUMMARY:Curran/Curran vs. Krueger/Howard
DESCRIPTION:Fmg Tuesday Rec  League - Early Spring 2026 (recovered) - Paddle Up Pickleball Club
LOCATION:FMG Court 5
CATEGORIES:QuickScores, Pickleball Game
TRANSP:OPAQUE
BEGIN:VALARM
TRIGGER:-PT2H
ACTION:DISPLAY
DESCRIPTION:Curran/Curran vs. Krueger/Howard
END:VALARM
END:VEVENT
BEGIN:VEVENT
UID:pupc-74176860-20260414T184000@quickscores.com
DTSTAMP:20260422T005400Z
DTSTART;TZID=America/Chicago:20260414T184000
DURATION:PT0H40M0S
SUMMARY:Curran/Curran vs. Hoffman/Corrigan
DESCRIPTION:Fmg Tuesday Rec  League - Early Spring 2026 (recovered) - Paddle Up Pickleball Club
LOCATION:FMG Court 3
CATEGORIES:QuickScores, Pickleball Game
TRANSP:OPAQUE
BEGIN:VALARM
TRIGGER:-PT2H
ACTION:DISPLAY
DESCRIPTION:Curran/Curran vs. Hoffman/Corrigan
END:VALARM
END:VEVENT
BEGIN:VEVENT
UID:pupc-74176859-20260414T200000@quickscores.com
DTSTAMP:20260422T005400Z
DTSTART;TZID=America/Chicago:20260414T200000
DURATION:PT0H40M0S
SUMMARY:Curran/Curran vs. Papa/Olwig
DESCRIPTION:Fmg Tuesday Rec  League - Early Spring 2026 (recovered) - Paddle Up Pickleball Club
LOCATION:FMG Court 4
CATEGORIES:QuickScores, Pickleball Game
TRANSP:OPAQUE
BEGIN:VALARM
TRIGGER:-PT2H
ACTION:DISPLAY
DESCRIPTION:Curran/Curran vs. Papa/Olwig
END:VALARM
END:VEVENT
BEGIN:VEVENT
UID:pupc-74176882-20260421T184000@quickscores.com
DTSTAMP:20260422T005400Z
DTSTART;TZID=America/Chicago:20260421T184000
DURATION:PT0H40M0S
SUMMARY:Curran/Curran vs. Krueger/Howard
DESCRIPTION:Fmg Tuesday Rec  League - Early Spring 2026 (recovered) - Paddle Up Pickleball Club
LOCATION:FMG Court 3
CATEGORIES:QuickScores, Pickleball Game
TRANSP:OPAQUE
BEGIN:VALARM
TRIGGER:-PT2H
ACTION:DISPLAY
DESCRIPTION:Curran/Curran vs. Krueger/Howard
END:VALARM
END:VEVENT
BEGIN:VEVENT
UID:pupc-74176876-20260421T200000@quickscores.com
DTSTAMP:20260422T005400Z
DTSTART;TZID=America/Chicago:20260421T200000
DURATION:PT0H40M0S
SUMMARY:Lemery/Black vs. Curran/Curran
DESCRIPTION:Fmg Tuesday Rec  League - Early Spring 2026 (recovered) - Paddle Up Pickleball Club
LOCATION:FMG Court 5
CATEGORIES:QuickScores, Pickleball Game
TRANSP:OPAQUE
BEGIN:VALARM
TRIGGER:-PT2H
ACTION:DISPLAY
DESCRIPTION:Lemery/Black vs. Curran/Curran
END:VALARM
END:VEVENT
BEGIN:VEVENT
UID:pupc-74176889-20260428T180000@quickscores.com
DTSTAMP:20260422T005400Z
DTSTART;TZID=America/Chicago:20260428T180000
DURATION:PT0H40M0S
SUMMARY:Curran/Curran vs. Walker/Walker
DESCRIPTION:Fmg Tuesday Rec  League - Early Spring 2026 (recovered) - Paddle Up Pickleball Club
LOCATION:FMG Court 3
CATEGORIES:QuickScores, Pickleball Game
TRANSP:OPAQUE
BEGIN:VALARM
TRIGGER:-PT2H
ACTION:DISPLAY
DESCRIPTION:Curran/Curran vs. Walker/Walker
END:VALARM
END:VEVENT
BEGIN:VEVENT
UID:pupc-74176892-20260428T184000@quickscores.com
DTSTAMP:20260422T005400Z
DTSTART;TZID=America/Chicago:20260428T184000
DURATION:PT0H40M0S
SUMMARY:Curran/Curran vs. Versemann/Versemann
DESCRIPTION:Fmg Tuesday Rec  League - Early Spring 2026 (recovered) - Paddle Up Pickleball Club
LOCATION:FMG Court 5
CATEGORIES:QuickScores, Pickleball Game
TRANSP:OPAQUE
BEGIN:VALARM
TRIGGER:-PT2H
ACTION:DISPLAY
DESCRIPTION:Curran/Curran vs. Versemann/Versemann
END:VALARM
END:VEVENT
BEGIN:VEVENT
UID:pupc-74176909-20260505T200000@quickscores.com
DTSTAMP:20260422T005400Z
DTSTART;TZID=America/Chicago:20260505T200000
DURATION:PT0H40M0S
SUMMARY:Empson/Empson vs. Curran/Curran
DESCRIPTION:Fmg Tuesday Rec  League - Early Spring 2026 (recovered) - Paddle Up Pickleball Club
LOCATION:FMG Court 5
CATEGORIES:QuickScores, Pickleball Game
TRANSP:OPAQUE
BEGIN:VALARM
TRIGGER:-PT2H
ACTION:DISPLAY
DESCRIPTION:Empson/Empson vs. Curran/Curran
END:VALARM
END:VEVENT
BEGIN:VEVENT
UID:pupc-74176908-20260505T204000@quickscores.com
DTSTAMP:20260422T005400Z
DTSTART;TZID=America/Chicago:20260505T204000
DURATION:PT0H40M0S
SUMMARY:Curran/Curran vs. Steinbeck/Smegner
DESCRIPTION:Fmg Tuesday Rec  League - Early Spring 2026 (recovered) - Paddle Up Pickleball Club
LOCATION:FMG Court 5
CATEGORIES:QuickScores, Pickleball Game
TRANSP:OPAQUE
BEGIN:VALARM
TRIGGER:-PT2H
ACTION:DISPLAY
DESCRIPTION:Curran/Curran vs. Steinbeck/Smegner
END:VALARM
END:VEVENT
END:VCALENDAR
