BEGIN:VCALENDAR
VERSION:2.0
PRODID:-//QuickScores.com//BQ Dynamic iCal Creator//EN
METHOD:PUBLISH
X-WR-CALNAME:drew/Quang/TomB/TomN - Quincy Wednesday Spring Squads League 2026 - Quincy Ongoing Leagues
X-WR-CALDESC:QuickScores game calendar
X-PUBLISHED-TTL:PT24H
REFRESH-INTERVAL;VALUE=DURATION:PT24H
CALSCALE:GREGORIAN
BEGIN:VTIMEZONE
TZID:America/Chicago
X-LIC-LOCATION:America/Chicago
BEGIN:DAYLIGHT
TZNAME:CDT
TZOFFSETFROM:-0600
TZOFFSETTO:-0500
DTSTART:19700308T020000
RRULE:FREQ=YEARLY;BYMONTH=3;BYDAY=2SU
END:DAYLIGHT
BEGIN:STANDARD
TZNAME:CST
TZOFFSETFROM:-0500
TZOFFSETTO:-0600
DTSTART:19701101T020000
RRULE:FREQ=YEARLY;BYMONTH=11;BYDAY=1SU
END:STANDARD
END:VTIMEZONE
BEGIN:VEVENT
UID:pupc-74140004-20260401T180000@quickscores.com
DTSTAMP:20260423T145700Z
DTSTART;TZID=America/Chicago:20260401T180000
DURATION:PT0H40M0S
SUMMARY:Carter/Kathy/Justin/Shelly vs. drew/Quang/TomB/TomN
DESCRIPTION:Quincy Wednesday Spring Squads League 2026 - Paddle Up Pickleball Club
LOCATION:Quincy Court 2
CATEGORIES:QuickScores, Pickleball Game
TRANSP:OPAQUE
BEGIN:VALARM
TRIGGER:-PT2H
ACTION:DISPLAY
DESCRIPTION:Carter/Kathy/Justin/Shelly vs. drew/Quang/TomB/TomN
END:VALARM
END:VEVENT
BEGIN:VEVENT
UID:pupc-74140005-20260401T200000@quickscores.com
DTSTAMP:20260423T145700Z
DTSTART;TZID=America/Chicago:20260401T200000
DURATION:PT0H40M0S
SUMMARY:jules/matt/molly/cindy vs. drew/Quang/TomB/TomN
DESCRIPTION:Quincy Wednesday Spring Squads League 2026 - Paddle Up Pickleball Club
LOCATION:Quincy Court 2
CATEGORIES:QuickScores, Pickleball Game
TRANSP:OPAQUE
BEGIN:VALARM
TRIGGER:-PT2H
ACTION:DISPLAY
DESCRIPTION:jules/matt/molly/cindy vs. drew/Quang/TomB/TomN
END:VALARM
END:VEVENT
BEGIN:VEVENT
UID:pupc-74140008-20260408T180000@quickscores.com
DTSTAMP:20260423T145700Z
DTSTART;TZID=America/Chicago:20260408T180000
DURATION:PT0H40M0S
SUMMARY:drew/Quang/TomB/TomN vs. Carter/Kathy/Justin/Shelly
DESCRIPTION:Quincy Wednesday Spring Squads League 2026 - Paddle Up Pickleball Club
LOCATION:Quincy Court 1
CATEGORIES:QuickScores, Pickleball Game
TRANSP:OPAQUE
BEGIN:VALARM
TRIGGER:-PT2H
ACTION:DISPLAY
DESCRIPTION:drew/Quang/TomB/TomN vs. Carter/Kathy/Justin/Shelly
END:VALARM
END:VEVENT
BEGIN:VEVENT
UID:pupc-74140011-20260408T200000@quickscores.com
DTSTAMP:20260423T145700Z
DTSTART;TZID=America/Chicago:20260408T200000
DURATION:PT0H40M0S
SUMMARY:drew/Quang/TomB/TomN vs. jarrett/luke/amy/johnny
DESCRIPTION:Quincy Wednesday Spring Squads League 2026 - Paddle Up Pickleball Club
LOCATION:Quincy Court 2
CATEGORIES:QuickScores, Pickleball Game
TRANSP:OPAQUE
BEGIN:VALARM
TRIGGER:-PT2H
ACTION:DISPLAY
DESCRIPTION:drew/Quang/TomB/TomN vs. jarrett/luke/amy/johnny
END:VALARM
END:VEVENT
BEGIN:VEVENT
UID:pupc-74140012-20260415T180000@quickscores.com
DTSTAMP:20260423T145700Z
DTSTART;TZID=America/Chicago:20260415T180000
DURATION:PT0H40M0S
SUMMARY:drew/Quang/TomB/TomN vs. jules/matt/molly/cindy
DESCRIPTION:Quincy Wednesday Spring Squads League 2026 - Paddle Up Pickleball Club
LOCATION:Quincy Court 2
CATEGORIES:QuickScores, Pickleball Game
TRANSP:OPAQUE
BEGIN:VALARM
TRIGGER:-PT2H
ACTION:DISPLAY
DESCRIPTION:drew/Quang/TomB/TomN vs. jules/matt/molly/cindy
END:VALARM
END:VEVENT
BEGIN:VEVENT
UID:pupc-74140015-20260415T200000@quickscores.com
DTSTAMP:20260423T145700Z
DTSTART;TZID=America/Chicago:20260415T200000
DURATION:PT0H40M0S
SUMMARY:jarrett/luke/amy/johnny vs. drew/Quang/TomB/TomN
DESCRIPTION:Quincy Wednesday Spring Squads League 2026 - Paddle Up Pickleball Club
LOCATION:Quincy Court 1
CATEGORIES:QuickScores, Pickleball Game
TRANSP:OPAQUE
BEGIN:VALARM
TRIGGER:-PT2H
ACTION:DISPLAY
DESCRIPTION:jarrett/luke/amy/johnny vs. drew/Quang/TomB/TomN
END:VALARM
END:VEVENT
BEGIN:VEVENT
UID:pupc-74140016-20260422T180000@quickscores.com
DTSTAMP:20260423T145700Z
DTSTART;TZID=America/Chicago:20260422T180000
DURATION:PT0H40M0S
SUMMARY:drew/Quang/TomB/TomN vs. Carter/Kathy/Justin/Shelly
DESCRIPTION:Quincy Wednesday Spring Squads League 2026 - Paddle Up Pickleball Club
LOCATION:Quincy Court 1
CATEGORIES:QuickScores, Pickleball Game
TRANSP:OPAQUE
BEGIN:VALARM
TRIGGER:-PT2H
ACTION:DISPLAY
DESCRIPTION:drew/Quang/TomB/TomN vs. Carter/Kathy/Justin/Shelly
END:VALARM
END:VEVENT
BEGIN:VEVENT
UID:pupc-74140017-20260422T200000@quickscores.com
DTSTAMP:20260423T145700Z
DTSTART;TZID=America/Chicago:20260422T200000
DURATION:PT0H40M0S
SUMMARY:jules/matt/molly/cindy vs. drew/Quang/TomB/TomN
DESCRIPTION:Quincy Wednesday Spring Squads League 2026 - Paddle Up Pickleball Club
LOCATION:Quincy Court 1
CATEGORIES:QuickScores, Pickleball Game
TRANSP:OPAQUE
BEGIN:VALARM
TRIGGER:-PT2H
ACTION:DISPLAY
DESCRIPTION:jules/matt/molly/cindy vs. drew/Quang/TomB/TomN
END:VALARM
END:VEVENT
END:VCALENDAR
