BEGIN:VCALENDAR
VERSION:2.0
PRODID:-//QuickScores.com//BQ Dynamic iCal Creator//EN
METHOD:PUBLISH
X-WR-CALNAME:LoriG/RachelL/BrendaA/AggieS - Lsl Pupc Ladies 40+ Squads League - Late Winter - Completed Leagues 2026
X-WR-CALDESC:QuickScores game calendar
X-PUBLISHED-TTL:PT24H
REFRESH-INTERVAL;VALUE=DURATION:PT24H
CALSCALE:GREGORIAN
BEGIN:VTIMEZONE
TZID:America/Chicago
X-LIC-LOCATION:America/Chicago
BEGIN:DAYLIGHT
TZNAME:CDT
TZOFFSETFROM:-0600
TZOFFSETTO:-0500
DTSTART:19700308T020000
RRULE:FREQ=YEARLY;BYMONTH=3;BYDAY=2SU
END:DAYLIGHT
BEGIN:STANDARD
TZNAME:CST
TZOFFSETFROM:-0500
TZOFFSETTO:-0600
DTSTART:19701101T020000
RRULE:FREQ=YEARLY;BYMONTH=11;BYDAY=1SU
END:STANDARD
END:VTIMEZONE
BEGIN:VEVENT
UID:pupc-73056758-20260219T110000@quickscores.com
DTSTAMP:20260424T214100Z
DTSTART;TZID=America/Chicago:20260219T110000
DURATION:PT0H40M0S
SUMMARY:LauraS/LisaL/DebbieK/LauraS vs. LoriG/RachelL/BrendaA/AggieS
DESCRIPTION:Lsl Pupc Ladies 40+ Squads League - Late Winter - Paddle Up Pickleball Club
LOCATION:Court 2
CATEGORIES:QuickScores, Pickleball Game
TRANSP:OPAQUE
BEGIN:VALARM
TRIGGER:-PT2H
ACTION:DISPLAY
DESCRIPTION:LauraS/LisaL/DebbieK/LauraS vs. LoriG/RachelL/BrendaA/AggieS
END:VALARM
END:VEVENT
BEGIN:VEVENT
UID:pupc-73056757-20260219T120000@quickscores.com
DTSTAMP:20260424T214100Z
DTSTART;TZID=America/Chicago:20260219T120000
DURATION:PT0H40M0S
SUMMARY:LoriG/RachelL/BrendaA/AggieS vs. AmyS/CarynL/GwenB/PamA
DESCRIPTION:Lsl Pupc Ladies 40+ Squads League - Late Winter - Paddle Up Pickleball Club
LOCATION:Court 1
CATEGORIES:QuickScores, Pickleball Game
TRANSP:OPAQUE
BEGIN:VALARM
TRIGGER:-PT2H
ACTION:DISPLAY
DESCRIPTION:LoriG/RachelL/BrendaA/AggieS vs. AmyS/CarynL/GwenB/PamA
END:VALARM
END:VEVENT
BEGIN:VEVENT
UID:pupc-73056763-20260226T110000@quickscores.com
DTSTAMP:20260424T214100Z
DTSTART;TZID=America/Chicago:20260226T110000
DURATION:PT0H40M0S
SUMMARY:LoriG/RachelL/BrendaA/AggieS vs. JoR/KellyP/NylaB/StaceyP
DESCRIPTION:Lsl Pupc Ladies 40+ Squads League - Late Winter - Paddle Up Pickleball Club
LOCATION:Court 2
CATEGORIES:QuickScores, Pickleball Game
TRANSP:OPAQUE
BEGIN:VALARM
TRIGGER:-PT2H
ACTION:DISPLAY
DESCRIPTION:LoriG/RachelL/BrendaA/AggieS vs. JoR/KellyP/NylaB/StaceyP
END:VALARM
END:VEVENT
BEGIN:VEVENT
UID:pupc-73056762-20260226T120000@quickscores.com
DTSTAMP:20260424T214100Z
DTSTART;TZID=America/Chicago:20260226T120000
DURATION:PT0H40M0S
SUMMARY:JennD/WhitneyD/DianeM/NancyP vs. LoriG/RachelL/BrendaA/AggieS
DESCRIPTION:Lsl Pupc Ladies 40+ Squads League - Late Winter - Paddle Up Pickleball Club
LOCATION:Court 1
CATEGORIES:QuickScores, Pickleball Game
TRANSP:OPAQUE
BEGIN:VALARM
TRIGGER:-PT2H
ACTION:DISPLAY
DESCRIPTION:JennD/WhitneyD/DianeM/NancyP vs. LoriG/RachelL/BrendaA/AggieS
END:VALARM
END:VEVENT
BEGIN:VEVENT
UID:pupc-73056767-20260305T110000@quickscores.com
DTSTAMP:20260424T214100Z
DTSTART;TZID=America/Chicago:20260305T110000
DURATION:PT0H40M0S
SUMMARY:AmyS/CarynL/GwenB/PamA vs. LoriG/RachelL/BrendaA/AggieS
DESCRIPTION:Lsl Pupc Ladies 40+ Squads League - Late Winter - Paddle Up Pickleball Club
LOCATION:Court 4
CATEGORIES:QuickScores, Pickleball Game
TRANSP:OPAQUE
BEGIN:VALARM
TRIGGER:-PT2H
ACTION:DISPLAY
DESCRIPTION:AmyS/CarynL/GwenB/PamA vs. LoriG/RachelL/BrendaA/AggieS
END:VALARM
END:VEVENT
BEGIN:VEVENT
UID:pupc-73056770-20260305T120000@quickscores.com
DTSTAMP:20260424T214100Z
DTSTART;TZID=America/Chicago:20260305T120000
DURATION:PT0H40M0S
SUMMARY:RekhaB/BettyB/ChrisM/MaggieU vs. LoriG/RachelL/BrendaA/AggieS
DESCRIPTION:Lsl Pupc Ladies 40+ Squads League - Late Winter - Paddle Up Pickleball Club
LOCATION:Court 4
CATEGORIES:QuickScores, Pickleball Game
TRANSP:OPAQUE
BEGIN:VALARM
TRIGGER:-PT2H
ACTION:DISPLAY
DESCRIPTION:RekhaB/BettyB/ChrisM/MaggieU vs. LoriG/RachelL/BrendaA/AggieS
END:VALARM
END:VEVENT
BEGIN:VEVENT
UID:pupc-73056776-20260312T110000@quickscores.com
DTSTAMP:20260424T214100Z
DTSTART;TZID=America/Chicago:20260312T110000
DURATION:PT0H40M0S
SUMMARY:JoR/KellyP/NylaB/StaceyP vs. LoriG/RachelL/BrendaA/AggieS
DESCRIPTION:Lsl Pupc Ladies 40+ Squads League - Late Winter - Paddle Up Pickleball Club
LOCATION:Court 1
CATEGORIES:QuickScores, Pickleball Game
TRANSP:OPAQUE
BEGIN:VALARM
TRIGGER:-PT2H
ACTION:DISPLAY
DESCRIPTION:JoR/KellyP/NylaB/StaceyP vs. LoriG/RachelL/BrendaA/AggieS
END:VALARM
END:VEVENT
BEGIN:VEVENT
UID:pupc-73056773-20260312T120000@quickscores.com
DTSTAMP:20260424T214100Z
DTSTART;TZID=America/Chicago:20260312T120000
DURATION:PT0H40M0S
SUMMARY:LoriG/RachelL/BrendaA/AggieS vs. LauraS/LisaL/DebbieK/LauraS
DESCRIPTION:Lsl Pupc Ladies 40+ Squads League - Late Winter - Paddle Up Pickleball Club
LOCATION:Court 4
CATEGORIES:QuickScores, Pickleball Game
TRANSP:OPAQUE
BEGIN:VALARM
TRIGGER:-PT2H
ACTION:DISPLAY
DESCRIPTION:LoriG/RachelL/BrendaA/AggieS vs. LauraS/LisaL/DebbieK/LauraS
END:VALARM
END:VEVENT
BEGIN:VEVENT
UID:pupc-73056778-20260319T110000@quickscores.com
DTSTAMP:20260424T214100Z
DTSTART;TZID=America/Chicago:20260319T110000
DURATION:PT0H40M0S
SUMMARY:LoriG/RachelL/BrendaA/AggieS vs. JennD/WhitneyD/DianeM/NancyP
DESCRIPTION:Lsl Pupc Ladies 40+ Squads League - Late Winter - Paddle Up Pickleball Club
LOCATION:Court 4
CATEGORIES:QuickScores, Pickleball Game
TRANSP:OPAQUE
BEGIN:VALARM
TRIGGER:-PT2H
ACTION:DISPLAY
DESCRIPTION:LoriG/RachelL/BrendaA/AggieS vs. JennD/WhitneyD/DianeM/NancyP
END:VALARM
END:VEVENT
BEGIN:VEVENT
UID:pupc-73056782-20260319T120000@quickscores.com
DTSTAMP:20260424T214100Z
DTSTART;TZID=America/Chicago:20260319T120000
DURATION:PT0H40M0S
SUMMARY:LoriG/RachelL/BrendaA/AggieS vs. RekhaB/BettyB/ChrisM/MaggieU
DESCRIPTION:Lsl Pupc Ladies 40+ Squads League - Late Winter - Paddle Up Pickleball Club
LOCATION:Court 2
CATEGORIES:QuickScores, Pickleball Game
TRANSP:OPAQUE
BEGIN:VALARM
TRIGGER:-PT2H
ACTION:DISPLAY
DESCRIPTION:LoriG/RachelL/BrendaA/AggieS vs. RekhaB/BettyB/ChrisM/MaggieU
END:VALARM
END:VEVENT
BEGIN:VEVENT
UID:pupc-73840514-20260326T110000@quickscores.com
DTSTAMP:20260424T214100Z
DTSTART;TZID=America/Chicago:20260326T110000
DURATION:PT0H30M0S
SUMMARY:[3] JennD/WhitneyD/DianeM/NancyP vs. [6] LoriG/RachelL/BrendaA/AggieS
DESCRIPTION:Lsl Pupc Ladies 40+ Squads League - Late Winter - Paddle Up Pickleball Club
LOCATION:Court 2
CATEGORIES:QuickScores, Pickleball Game
TRANSP:OPAQUE
BEGIN:VALARM
TRIGGER:-PT2H
ACTION:DISPLAY
DESCRIPTION:[3] JennD/WhitneyD/DianeM/NancyP vs. [6] LoriG/RachelL/BrendaA/AggieS
END:VALARM
END:VEVENT
END:VCALENDAR
