BEGIN:VCALENDAR
VERSION:2.0
PRODID:-//QuickScores.com//BQ Dynamic iCal Creator//EN
METHOD:PUBLISH
X-WR-CALNAME:RekhaB/BettyB/ChrisM/MaggieU - Lsl Pupc Ladies 40+ Squads League - Late Winter - Completed Leagues 2026
X-WR-CALDESC:QuickScores game calendar
X-PUBLISHED-TTL:PT24H
REFRESH-INTERVAL;VALUE=DURATION:PT24H
CALSCALE:GREGORIAN
BEGIN:VTIMEZONE
TZID:America/Chicago
X-LIC-LOCATION:America/Chicago
BEGIN:DAYLIGHT
TZNAME:CDT
TZOFFSETFROM:-0600
TZOFFSETTO:-0500
DTSTART:19700308T020000
RRULE:FREQ=YEARLY;BYMONTH=3;BYDAY=2SU
END:DAYLIGHT
BEGIN:STANDARD
TZNAME:CST
TZOFFSETFROM:-0500
TZOFFSETTO:-0600
DTSTART:19701101T020000
RRULE:FREQ=YEARLY;BYMONTH=11;BYDAY=1SU
END:STANDARD
END:VTIMEZONE
BEGIN:VEVENT
UID:pupc-73056754-20260219T110000@quickscores.com
DTSTAMP:20260423T180000Z
DTSTART;TZID=America/Chicago:20260219T110000
DURATION:PT0H40M0S
SUMMARY:JoR/KellyP/NylaB/StaceyP vs. RekhaB/BettyB/ChrisM/MaggieU
DESCRIPTION:Lsl Pupc Ladies 40+ Squads League - Late Winter - Paddle Up Pickleball Club
LOCATION:Court 4
CATEGORIES:QuickScores, Pickleball Game
TRANSP:OPAQUE
BEGIN:VALARM
TRIGGER:-PT2H
ACTION:DISPLAY
DESCRIPTION:JoR/KellyP/NylaB/StaceyP vs. RekhaB/BettyB/ChrisM/MaggieU
END:VALARM
END:VEVENT
BEGIN:VEVENT
UID:pupc-73056753-20260219T120000@quickscores.com
DTSTAMP:20260423T180000Z
DTSTART;TZID=America/Chicago:20260219T120000
DURATION:PT0H40M0S
SUMMARY:LauraS/LisaL/DebbieK/LauraS vs. RekhaB/BettyB/ChrisM/MaggieU
DESCRIPTION:Lsl Pupc Ladies 40+ Squads League - Late Winter - Paddle Up Pickleball Club
LOCATION:Court 2
CATEGORIES:QuickScores, Pickleball Game
TRANSP:OPAQUE
BEGIN:VALARM
TRIGGER:-PT2H
ACTION:DISPLAY
DESCRIPTION:LauraS/LisaL/DebbieK/LauraS vs. RekhaB/BettyB/ChrisM/MaggieU
END:VALARM
END:VEVENT
BEGIN:VEVENT
UID:pupc-73056761-20260226T110000@quickscores.com
DTSTAMP:20260423T180000Z
DTSTART;TZID=America/Chicago:20260226T110000
DURATION:PT0H40M0S
SUMMARY:RekhaB/BettyB/ChrisM/MaggieU vs. JennD/WhitneyD/DianeM/NancyP
DESCRIPTION:Lsl Pupc Ladies 40+ Squads League - Late Winter - Paddle Up Pickleball Club
LOCATION:Court 1
CATEGORIES:QuickScores, Pickleball Game
TRANSP:OPAQUE
BEGIN:VALARM
TRIGGER:-PT2H
ACTION:DISPLAY
DESCRIPTION:RekhaB/BettyB/ChrisM/MaggieU vs. JennD/WhitneyD/DianeM/NancyP
END:VALARM
END:VEVENT
BEGIN:VEVENT
UID:pupc-73056760-20260226T120000@quickscores.com
DTSTAMP:20260423T180000Z
DTSTART;TZID=America/Chicago:20260226T120000
DURATION:PT0H40M0S
SUMMARY:AmyS/CarynL/GwenB/PamA vs. RekhaB/BettyB/ChrisM/MaggieU
DESCRIPTION:Lsl Pupc Ladies 40+ Squads League - Late Winter - Paddle Up Pickleball Club
LOCATION:Court 4
CATEGORIES:QuickScores, Pickleball Game
TRANSP:OPAQUE
BEGIN:VALARM
TRIGGER:-PT2H
ACTION:DISPLAY
DESCRIPTION:AmyS/CarynL/GwenB/PamA vs. RekhaB/BettyB/ChrisM/MaggieU
END:VALARM
END:VEVENT
BEGIN:VEVENT
UID:pupc-73056765-20260305T110000@quickscores.com
DTSTAMP:20260423T180000Z
DTSTART;TZID=America/Chicago:20260305T110000
DURATION:PT0H40M0S
SUMMARY:RekhaB/BettyB/ChrisM/MaggieU vs. LauraS/LisaL/DebbieK/LauraS
DESCRIPTION:Lsl Pupc Ladies 40+ Squads League - Late Winter - Paddle Up Pickleball Club
LOCATION:Court 1
CATEGORIES:QuickScores, Pickleball Game
TRANSP:OPAQUE
BEGIN:VALARM
TRIGGER:-PT2H
ACTION:DISPLAY
DESCRIPTION:RekhaB/BettyB/ChrisM/MaggieU vs. LauraS/LisaL/DebbieK/LauraS
END:VALARM
END:VEVENT
BEGIN:VEVENT
UID:pupc-73056770-20260305T120000@quickscores.com
DTSTAMP:20260423T180000Z
DTSTART;TZID=America/Chicago:20260305T120000
DURATION:PT0H40M0S
SUMMARY:RekhaB/BettyB/ChrisM/MaggieU vs. LoriG/RachelL/BrendaA/AggieS
DESCRIPTION:Lsl Pupc Ladies 40+ Squads League - Late Winter - Paddle Up Pickleball Club
LOCATION:Court 4
CATEGORIES:QuickScores, Pickleball Game
TRANSP:OPAQUE
BEGIN:VALARM
TRIGGER:-PT2H
ACTION:DISPLAY
DESCRIPTION:RekhaB/BettyB/ChrisM/MaggieU vs. LoriG/RachelL/BrendaA/AggieS
END:VALARM
END:VEVENT
BEGIN:VEVENT
UID:pupc-73056775-20260312T110000@quickscores.com
DTSTAMP:20260423T180000Z
DTSTART;TZID=America/Chicago:20260312T110000
DURATION:PT0H40M0S
SUMMARY:JennD/WhitneyD/DianeM/NancyP vs. RekhaB/BettyB/ChrisM/MaggieU
DESCRIPTION:Lsl Pupc Ladies 40+ Squads League - Late Winter - Paddle Up Pickleball Club
LOCATION:Court 2
CATEGORIES:QuickScores, Pickleball Game
TRANSP:OPAQUE
BEGIN:VALARM
TRIGGER:-PT2H
ACTION:DISPLAY
DESCRIPTION:JennD/WhitneyD/DianeM/NancyP vs. RekhaB/BettyB/ChrisM/MaggieU
END:VALARM
END:VEVENT
BEGIN:VEVENT
UID:pupc-73056771-20260312T120000@quickscores.com
DTSTAMP:20260423T180000Z
DTSTART;TZID=America/Chicago:20260312T120000
DURATION:PT0H40M0S
SUMMARY:RekhaB/BettyB/ChrisM/MaggieU vs. JoR/KellyP/NylaB/StaceyP
DESCRIPTION:Lsl Pupc Ladies 40+ Squads League - Late Winter - Paddle Up Pickleball Club
LOCATION:Court 1
CATEGORIES:QuickScores, Pickleball Game
TRANSP:OPAQUE
BEGIN:VALARM
TRIGGER:-PT2H
ACTION:DISPLAY
DESCRIPTION:RekhaB/BettyB/ChrisM/MaggieU vs. JoR/KellyP/NylaB/StaceyP
END:VALARM
END:VEVENT
BEGIN:VEVENT
UID:pupc-73056777-20260319T110000@quickscores.com
DTSTAMP:20260423T180000Z
DTSTART;TZID=America/Chicago:20260319T110000
DURATION:PT0H40M0S
SUMMARY:RekhaB/BettyB/ChrisM/MaggieU vs. AmyS/CarynL/GwenB/PamA
DESCRIPTION:Lsl Pupc Ladies 40+ Squads League - Late Winter - Paddle Up Pickleball Club
LOCATION:Court 2
CATEGORIES:QuickScores, Pickleball Game
TRANSP:OPAQUE
BEGIN:VALARM
TRIGGER:-PT2H
ACTION:DISPLAY
DESCRIPTION:RekhaB/BettyB/ChrisM/MaggieU vs. AmyS/CarynL/GwenB/PamA
END:VALARM
END:VEVENT
BEGIN:VEVENT
UID:pupc-73056782-20260319T120000@quickscores.com
DTSTAMP:20260423T180000Z
DTSTART;TZID=America/Chicago:20260319T120000
DURATION:PT0H40M0S
SUMMARY:LoriG/RachelL/BrendaA/AggieS vs. RekhaB/BettyB/ChrisM/MaggieU
DESCRIPTION:Lsl Pupc Ladies 40+ Squads League - Late Winter - Paddle Up Pickleball Club
LOCATION:Court 2
CATEGORIES:QuickScores, Pickleball Game
TRANSP:OPAQUE
BEGIN:VALARM
TRIGGER:-PT2H
ACTION:DISPLAY
DESCRIPTION:LoriG/RachelL/BrendaA/AggieS vs. RekhaB/BettyB/ChrisM/MaggieU
END:VALARM
END:VEVENT
BEGIN:VEVENT
UID:pupc-73840516-20260326T115000@quickscores.com
DTSTAMP:20260423T180000Z
DTSTART;TZID=America/Chicago:20260326T115000
DURATION:PT0H30M0S
SUMMARY:[2] RekhaB/BettyB/ChrisM/MaggieU vs. [3] JennD/WhitneyD/DianeM/NancyP
DESCRIPTION:Lsl Pupc Ladies 40+ Squads League - Late Winter - Paddle Up Pickleball Club
LOCATION:Court 2
CATEGORIES:QuickScores, Pickleball Game
TRANSP:OPAQUE
BEGIN:VALARM
TRIGGER:-PT2H
ACTION:DISPLAY
DESCRIPTION:[2] RekhaB/BettyB/ChrisM/MaggieU vs. [3] JennD/WhitneyD/DianeM/NancyP
END:VALARM
END:VEVENT
BEGIN:VEVENT
UID:pupc-73840519-20260326T124000@quickscores.com
DTSTAMP:20260423T180000Z
DTSTART;TZID=America/Chicago:20260326T124000
DURATION:PT0H30M0S
SUMMARY:[1] AmyS/CarynL/GwenB/PamA vs. [2] RekhaB/BettyB/ChrisM/MaggieU
DESCRIPTION:Lsl Pupc Ladies 40+ Squads League - Late Winter - Paddle Up Pickleball Club
LOCATION:Court 2
CATEGORIES:QuickScores, Pickleball Game
TRANSP:OPAQUE
BEGIN:VALARM
TRIGGER:-PT2H
ACTION:DISPLAY
DESCRIPTION:[1] AmyS/CarynL/GwenB/PamA vs. [2] RekhaB/BettyB/ChrisM/MaggieU
END:VALARM
END:VEVENT
END:VCALENDAR
