BEGIN:VCALENDAR
VERSION:2.0
PRODID:-//QuickScores.com//BQ Dynamic iCal Creator//EN
METHOD:PUBLISH
X-WR-CALNAME:Hawkins/Bennett - Chst Monday Low/high Intermediate League - Late Winter 26 - Completed Leagues 2026
X-WR-CALDESC:QuickScores game calendar
X-PUBLISHED-TTL:PT24H
REFRESH-INTERVAL;VALUE=DURATION:PT24H
CALSCALE:GREGORIAN
BEGIN:VTIMEZONE
TZID:America/Chicago
X-LIC-LOCATION:America/Chicago
BEGIN:DAYLIGHT
TZNAME:CDT
TZOFFSETFROM:-0600
TZOFFSETTO:-0500
DTSTART:19700308T020000
RRULE:FREQ=YEARLY;BYMONTH=3;BYDAY=2SU
END:DAYLIGHT
BEGIN:STANDARD
TZNAME:CST
TZOFFSETFROM:-0500
TZOFFSETTO:-0600
DTSTART:19701101T020000
RRULE:FREQ=YEARLY;BYMONTH=11;BYDAY=1SU
END:STANDARD
END:VTIMEZONE
BEGIN:VEVENT
UID:pupc-73073881-20260216T182000@quickscores.com
DTSTAMP:20260425T072100Z
DTSTART;TZID=America/Chicago:20260216T182000
DURATION:PT0H40M0S
SUMMARY:Leeker/Kuca vs. Hawkins/Bennett
DESCRIPTION:Chst Monday Low/high Intermediate League - Late Winter 26 - Paddle Up Pickleball Club
LOCATION:CHST Court 7
CATEGORIES:QuickScores, Pickleball Game
TRANSP:OPAQUE
BEGIN:VALARM
TRIGGER:-PT2H
ACTION:DISPLAY
DESCRIPTION:Leeker/Kuca vs. Hawkins/Bennett
END:VALARM
END:VEVENT
BEGIN:VEVENT
UID:pupc-73073877-20260216T190000@quickscores.com
DTSTAMP:20260425T072100Z
DTSTART;TZID=America/Chicago:20260216T190000
DURATION:PT0H40M0S
SUMMARY:Hawkins/Bennett vs. Rasche/Aldrich
DESCRIPTION:Chst Monday Low/high Intermediate League - Late Winter 26 - Paddle Up Pickleball Club
LOCATION:CHST Court 2
CATEGORIES:QuickScores, Pickleball Game
TRANSP:OPAQUE
BEGIN:VALARM
TRIGGER:-PT2H
ACTION:DISPLAY
DESCRIPTION:Hawkins/Bennett vs. Rasche/Aldrich
END:VALARM
END:VEVENT
BEGIN:VEVENT
UID:pupc-73073883-20260223T174000@quickscores.com
DTSTAMP:20260425T072100Z
DTSTART;TZID=America/Chicago:20260223T174000
DURATION:PT0H40M0S
SUMMARY:Tegeler/Snell vs. Hawkins/Bennett
DESCRIPTION:Chst Monday Low/high Intermediate League - Late Winter 26 - Paddle Up Pickleball Club
LOCATION:CHST Court 2
CATEGORIES:QuickScores, Pickleball Game
TRANSP:OPAQUE
BEGIN:VALARM
TRIGGER:-PT2H
ACTION:DISPLAY
DESCRIPTION:Tegeler/Snell vs. Hawkins/Bennett
END:VALARM
END:VEVENT
BEGIN:VEVENT
UID:pupc-73073884-20260223T182000@quickscores.com
DTSTAMP:20260425T072100Z
DTSTART;TZID=America/Chicago:20260223T182000
DURATION:PT0H40M0S
SUMMARY:Hawkins/Bennett vs. Kaiser/Kaiser
DESCRIPTION:Chst Monday Low/high Intermediate League - Late Winter 26 - Paddle Up Pickleball Club
LOCATION:CHST Court 2
CATEGORIES:QuickScores, Pickleball Game
TRANSP:OPAQUE
BEGIN:VALARM
TRIGGER:-PT2H
ACTION:DISPLAY
DESCRIPTION:Hawkins/Bennett vs. Kaiser/Kaiser
END:VALARM
END:VEVENT
BEGIN:VEVENT
UID:pupc-73073891-20260302T174000@quickscores.com
DTSTAMP:20260425T072100Z
DTSTART;TZID=America/Chicago:20260302T174000
DURATION:PT0H40M0S
SUMMARY:Hawkins/Bennett vs. Leeker/Kuca
DESCRIPTION:Chst Monday Low/high Intermediate League - Late Winter 26 - Paddle Up Pickleball Club
LOCATION:CHST Court 1
CATEGORIES:QuickScores, Pickleball Game
TRANSP:OPAQUE
BEGIN:VALARM
TRIGGER:-PT2H
ACTION:DISPLAY
DESCRIPTION:Hawkins/Bennett vs. Leeker/Kuca
END:VALARM
END:VEVENT
BEGIN:VEVENT
UID:pupc-73073887-20260302T182000@quickscores.com
DTSTAMP:20260425T072100Z
DTSTART;TZID=America/Chicago:20260302T182000
DURATION:PT0H40M0S
SUMMARY:Rasche/Aldrich vs. Hawkins/Bennett
DESCRIPTION:Chst Monday Low/high Intermediate League - Late Winter 26 - Paddle Up Pickleball Club
LOCATION:CHST Court 7
CATEGORIES:QuickScores, Pickleball Game
TRANSP:OPAQUE
BEGIN:VALARM
TRIGGER:-PT2H
ACTION:DISPLAY
DESCRIPTION:Rasche/Aldrich vs. Hawkins/Bennett
END:VALARM
END:VEVENT
BEGIN:VEVENT
UID:pupc-73073893-20260309T174000@quickscores.com
DTSTAMP:20260425T072100Z
DTSTART;TZID=America/Chicago:20260309T174000
DURATION:PT0H40M0S
SUMMARY:Hawkins/Bennett vs. Tegeler/Snell
DESCRIPTION:Chst Monday Low/high Intermediate League - Late Winter 26 - Paddle Up Pickleball Club
LOCATION:CHST Court 2
CATEGORIES:QuickScores, Pickleball Game
TRANSP:OPAQUE
BEGIN:VALARM
TRIGGER:-PT2H
ACTION:DISPLAY
DESCRIPTION:Hawkins/Bennett vs. Tegeler/Snell
END:VALARM
END:VEVENT
BEGIN:VEVENT
UID:pupc-73073894-20260309T182000@quickscores.com
DTSTAMP:20260425T072100Z
DTSTART;TZID=America/Chicago:20260309T182000
DURATION:PT0H40M0S
SUMMARY:Kaiser/Kaiser vs. Hawkins/Bennett
DESCRIPTION:Chst Monday Low/high Intermediate League - Late Winter 26 - Paddle Up Pickleball Club
LOCATION:CHST Court 2
CATEGORIES:QuickScores, Pickleball Game
TRANSP:OPAQUE
BEGIN:VALARM
TRIGGER:-PT2H
ACTION:DISPLAY
DESCRIPTION:Kaiser/Kaiser vs. Hawkins/Bennett
END:VALARM
END:VEVENT
BEGIN:VEVENT
UID:pupc-73073900-20260316T182000@quickscores.com
DTSTAMP:20260425T072100Z
DTSTART;TZID=America/Chicago:20260316T182000
DURATION:PT0H40M0S
SUMMARY:Leeker/Kuca vs. Hawkins/Bennett
DESCRIPTION:Chst Monday Low/high Intermediate League - Late Winter 26 - Paddle Up Pickleball Club
LOCATION:CHST Court 2
CATEGORIES:QuickScores, Pickleball Game
TRANSP:OPAQUE
BEGIN:VALARM
TRIGGER:-PT2H
ACTION:DISPLAY
DESCRIPTION:Leeker/Kuca vs. Hawkins/Bennett
END:VALARM
END:VEVENT
BEGIN:VEVENT
UID:pupc-73073897-20260316T194000@quickscores.com
DTSTAMP:20260425T072100Z
DTSTART;TZID=America/Chicago:20260316T194000
DURATION:PT0H40M0S
SUMMARY:Rasche/Aldrich vs. Hawkins/Bennett
DESCRIPTION:Chst Monday Low/high Intermediate League - Late Winter 26 - Paddle Up Pickleball Club
LOCATION:CHST Court 2
CATEGORIES:QuickScores, Pickleball Game
TRANSP:OPAQUE
BEGIN:VALARM
TRIGGER:-PT2H
ACTION:DISPLAY
DESCRIPTION:Rasche/Aldrich vs. Hawkins/Bennett
END:VALARM
END:VEVENT
BEGIN:VEVENT
UID:pupc-73764331-20260323T193000@quickscores.com
DTSTAMP:20260425T072100Z
DTSTART;TZID=America/Chicago:20260323T193000
DURATION:PT0H30M0S
SUMMARY:[2] Tegeler/Snell vs. [3] Hawkins/Bennett
DESCRIPTION:Chst Monday Low/high Intermediate League - Late Winter 26 - Paddle Up Pickleball Club
LOCATION:CHST Court 3
CATEGORIES:QuickScores, Pickleball Game
TRANSP:OPAQUE
BEGIN:VALARM
TRIGGER:-PT2H
ACTION:DISPLAY
DESCRIPTION:[2] Tegeler/Snell vs. [3] Hawkins/Bennett
END:VALARM
END:VEVENT
BEGIN:VEVENT
UID:pupc-73764332-20260323T200000@quickscores.com
DTSTAMP:20260425T072100Z
DTSTART;TZID=America/Chicago:20260323T200000
DURATION:PT0H30M0S
SUMMARY:[4] Kaiser/Kaiser vs. [3] Hawkins/Bennett
DESCRIPTION:Chst Monday Low/high Intermediate League - Late Winter 26 - Paddle Up Pickleball Club
LOCATION:CHST Court 2
CATEGORIES:QuickScores, Pickleball Game
TRANSP:OPAQUE
BEGIN:VALARM
TRIGGER:-PT2H
ACTION:DISPLAY
DESCRIPTION:[4] Kaiser/Kaiser vs. [3] Hawkins/Bennett
END:VALARM
END:VEVENT
END:VCALENDAR
