BEGIN:VCALENDAR
VERSION:2.0
PRODID:-//QuickScores.com//BQ Dynamic iCal Creator//EN
METHOD:PUBLISH
X-WR-CALNAME:Kaiser/Kaiser - Chst Monday Low/high Intermediate League - Late Winter 26 - Completed Leagues 2026
X-WR-CALDESC:QuickScores game calendar
X-PUBLISHED-TTL:PT24H
REFRESH-INTERVAL;VALUE=DURATION:PT24H
CALSCALE:GREGORIAN
BEGIN:VTIMEZONE
TZID:America/Chicago
X-LIC-LOCATION:America/Chicago
BEGIN:DAYLIGHT
TZNAME:CDT
TZOFFSETFROM:-0600
TZOFFSETTO:-0500
DTSTART:19700308T020000
RRULE:FREQ=YEARLY;BYMONTH=3;BYDAY=2SU
END:DAYLIGHT
BEGIN:STANDARD
TZNAME:CST
TZOFFSETFROM:-0500
TZOFFSETTO:-0600
DTSTART:19701101T020000
RRULE:FREQ=YEARLY;BYMONTH=11;BYDAY=1SU
END:STANDARD
END:VTIMEZONE
BEGIN:VEVENT
UID:pupc-73073880-20260216T174000@quickscores.com
DTSTAMP:20260425T084700Z
DTSTART;TZID=America/Chicago:20260216T174000
DURATION:PT0H40M0S
SUMMARY:Kaiser/Kaiser vs. Leeker/Kuca
DESCRIPTION:Chst Monday Low/high Intermediate League - Late Winter 26 - Paddle Up Pickleball Club
LOCATION:CHST Court 1
CATEGORIES:QuickScores, Pickleball Game
TRANSP:OPAQUE
BEGIN:VALARM
TRIGGER:-PT2H
ACTION:DISPLAY
DESCRIPTION:Kaiser/Kaiser vs. Leeker/Kuca
END:VALARM
END:VEVENT
BEGIN:VEVENT
UID:pupc-73073879-20260216T182000@quickscores.com
DTSTAMP:20260425T084700Z
DTSTART;TZID=America/Chicago:20260216T182000
DURATION:PT0H40M0S
SUMMARY:Kaiser/Kaiser vs. Tegeler/Snell
DESCRIPTION:Chst Monday Low/high Intermediate League - Late Winter 26 - Paddle Up Pickleball Club
LOCATION:CHST Court 2
CATEGORIES:QuickScores, Pickleball Game
TRANSP:OPAQUE
BEGIN:VALARM
TRIGGER:-PT2H
ACTION:DISPLAY
DESCRIPTION:Kaiser/Kaiser vs. Tegeler/Snell
END:VALARM
END:VEVENT
BEGIN:VEVENT
UID:pupc-73073885-20260223T174000@quickscores.com
DTSTAMP:20260425T084700Z
DTSTART;TZID=America/Chicago:20260223T174000
DURATION:PT0H40M0S
SUMMARY:Rasche/Aldrich vs. Kaiser/Kaiser
DESCRIPTION:Chst Monday Low/high Intermediate League - Late Winter 26 - Paddle Up Pickleball Club
LOCATION:CHST Court 1
CATEGORIES:QuickScores, Pickleball Game
TRANSP:OPAQUE
BEGIN:VALARM
TRIGGER:-PT2H
ACTION:DISPLAY
DESCRIPTION:Rasche/Aldrich vs. Kaiser/Kaiser
END:VALARM
END:VEVENT
BEGIN:VEVENT
UID:pupc-73073884-20260223T182000@quickscores.com
DTSTAMP:20260425T084700Z
DTSTART;TZID=America/Chicago:20260223T182000
DURATION:PT0H40M0S
SUMMARY:Hawkins/Bennett vs. Kaiser/Kaiser
DESCRIPTION:Chst Monday Low/high Intermediate League - Late Winter 26 - Paddle Up Pickleball Club
LOCATION:CHST Court 2
CATEGORIES:QuickScores, Pickleball Game
TRANSP:OPAQUE
BEGIN:VALARM
TRIGGER:-PT2H
ACTION:DISPLAY
DESCRIPTION:Hawkins/Bennett vs. Kaiser/Kaiser
END:VALARM
END:VEVENT
BEGIN:VEVENT
UID:pupc-73073889-20260302T174000@quickscores.com
DTSTAMP:20260425T084700Z
DTSTART;TZID=America/Chicago:20260302T174000
DURATION:PT0H40M0S
SUMMARY:Tegeler/Snell vs. Kaiser/Kaiser
DESCRIPTION:Chst Monday Low/high Intermediate League - Late Winter 26 - Paddle Up Pickleball Club
LOCATION:CHST Court 2
CATEGORIES:QuickScores, Pickleball Game
TRANSP:OPAQUE
BEGIN:VALARM
TRIGGER:-PT2H
ACTION:DISPLAY
DESCRIPTION:Tegeler/Snell vs. Kaiser/Kaiser
END:VALARM
END:VEVENT
BEGIN:VEVENT
UID:pupc-73073890-20260302T182000@quickscores.com
DTSTAMP:20260425T084700Z
DTSTART;TZID=America/Chicago:20260302T182000
DURATION:PT0H40M0S
SUMMARY:Leeker/Kuca vs. Kaiser/Kaiser
DESCRIPTION:Chst Monday Low/high Intermediate League - Late Winter 26 - Paddle Up Pickleball Club
LOCATION:CHST Court 2
CATEGORIES:QuickScores, Pickleball Game
TRANSP:OPAQUE
BEGIN:VALARM
TRIGGER:-PT2H
ACTION:DISPLAY
DESCRIPTION:Leeker/Kuca vs. Kaiser/Kaiser
END:VALARM
END:VEVENT
BEGIN:VEVENT
UID:pupc-73073895-20260309T174000@quickscores.com
DTSTAMP:20260425T084700Z
DTSTART;TZID=America/Chicago:20260309T174000
DURATION:PT0H40M0S
SUMMARY:Kaiser/Kaiser vs. Rasche/Aldrich
DESCRIPTION:Chst Monday Low/high Intermediate League - Late Winter 26 - Paddle Up Pickleball Club
LOCATION:CHST Court 1
CATEGORIES:QuickScores, Pickleball Game
TRANSP:OPAQUE
BEGIN:VALARM
TRIGGER:-PT2H
ACTION:DISPLAY
DESCRIPTION:Kaiser/Kaiser vs. Rasche/Aldrich
END:VALARM
END:VEVENT
BEGIN:VEVENT
UID:pupc-73073894-20260309T182000@quickscores.com
DTSTAMP:20260425T084700Z
DTSTART;TZID=America/Chicago:20260309T182000
DURATION:PT0H40M0S
SUMMARY:Kaiser/Kaiser vs. Hawkins/Bennett
DESCRIPTION:Chst Monday Low/high Intermediate League - Late Winter 26 - Paddle Up Pickleball Club
LOCATION:CHST Court 2
CATEGORIES:QuickScores, Pickleball Game
TRANSP:OPAQUE
BEGIN:VALARM
TRIGGER:-PT2H
ACTION:DISPLAY
DESCRIPTION:Kaiser/Kaiser vs. Hawkins/Bennett
END:VALARM
END:VEVENT
BEGIN:VEVENT
UID:pupc-73764327-20260323T183000@quickscores.com
DTSTAMP:20260425T084700Z
DTSTART;TZID=America/Chicago:20260323T183000
DURATION:PT0H30M0S
SUMMARY:[4] Kaiser/Kaiser vs. [5] Rasche/Aldrich
DESCRIPTION:Chst Monday Low/high Intermediate League - Late Winter 26 - Paddle Up Pickleball Club
LOCATION:CHST Court 3
CATEGORIES:QuickScores, Pickleball Game
TRANSP:OPAQUE
BEGIN:VALARM
TRIGGER:-PT2H
ACTION:DISPLAY
DESCRIPTION:[4] Kaiser/Kaiser vs. [5] Rasche/Aldrich
END:VALARM
END:VEVENT
BEGIN:VEVENT
UID:pupc-73764330-20260323T190000@quickscores.com
DTSTAMP:20260425T084700Z
DTSTART;TZID=America/Chicago:20260323T190000
DURATION:PT0H30M0S
SUMMARY:[1] Leeker/Kuca vs. [4] Kaiser/Kaiser
DESCRIPTION:Chst Monday Low/high Intermediate League - Late Winter 26 - Paddle Up Pickleball Club
LOCATION:CHST Court 3
CATEGORIES:QuickScores, Pickleball Game
TRANSP:OPAQUE
BEGIN:VALARM
TRIGGER:-PT2H
ACTION:DISPLAY
DESCRIPTION:[1] Leeker/Kuca vs. [4] Kaiser/Kaiser
END:VALARM
END:VEVENT
BEGIN:VEVENT
UID:pupc-73764332-20260323T200000@quickscores.com
DTSTAMP:20260425T084700Z
DTSTART;TZID=America/Chicago:20260323T200000
DURATION:PT0H30M0S
SUMMARY:[4] Kaiser/Kaiser vs. [3] Hawkins/Bennett
DESCRIPTION:Chst Monday Low/high Intermediate League - Late Winter 26 - Paddle Up Pickleball Club
LOCATION:CHST Court 2
CATEGORIES:QuickScores, Pickleball Game
TRANSP:OPAQUE
BEGIN:VALARM
TRIGGER:-PT2H
ACTION:DISPLAY
DESCRIPTION:[4] Kaiser/Kaiser vs. [3] Hawkins/Bennett
END:VALARM
END:VEVENT
END:VCALENDAR
