BEGIN:VCALENDAR
VERSION:2.0
PRODID:-//QuickScores.com//BQ Dynamic iCal Creator//EN
METHOD:PUBLISH
X-WR-CALNAME:KylePingsterhaus/JackSchneider - 2026 Paddle Up Lou Fusz Winter Classic - Championship Division - 1/31 (5:30pm Start) - Completed Tournaments 2025-2026
X-WR-CALDESC:QuickScores game calendar
X-PUBLISHED-TTL:PT24H
REFRESH-INTERVAL;VALUE=DURATION:PT24H
CALSCALE:GREGORIAN
BEGIN:VTIMEZONE
TZID:America/Chicago
X-LIC-LOCATION:America/Chicago
BEGIN:DAYLIGHT
TZNAME:CDT
TZOFFSETFROM:-0600
TZOFFSETTO:-0500
DTSTART:19700308T020000
RRULE:FREQ=YEARLY;BYMONTH=3;BYDAY=2SU
END:DAYLIGHT
BEGIN:STANDARD
TZNAME:CST
TZOFFSETFROM:-0500
TZOFFSETTO:-0600
DTSTART:19701101T020000
RRULE:FREQ=YEARLY;BYMONTH=11;BYDAY=1SU
END:STANDARD
END:VTIMEZONE
BEGIN:VEVENT
UID:pupc-72858675-20260131T180000@quickscores.com
DTSTAMP:20260423T164700Z
DTSTART;TZID=America/Chicago:20260131T180000
DURATION:PT0H20M0S
SUMMARY:KrisKlinkerman/CalebFall vs. KylePingsterhaus/JackSchneider
DESCRIPTION:2026 Paddle Up Lou Fusz Winter Classic - Championship Division - 1/31 (5:30pm Start) - Paddle Up Pickleball Club
LOCATION:Court 7
CATEGORIES:QuickScores, Pickleball Game
TRANSP:OPAQUE
BEGIN:VALARM
TRIGGER:-PT2H
ACTION:DISPLAY
DESCRIPTION:KrisKlinkerman/CalebFall vs. KylePingsterhaus/JackSchneider
END:VALARM
END:VEVENT
BEGIN:VEVENT
UID:pupc-72858682-20260131T182000@quickscores.com
DTSTAMP:20260423T164700Z
DTSTART;TZID=America/Chicago:20260131T182000
DURATION:PT0H20M0S
SUMMARY:BryanWilley/JadonWing vs. KylePingsterhaus/JackSchneider
DESCRIPTION:2026 Paddle Up Lou Fusz Winter Classic - Championship Division - 1/31 (5:30pm Start) - Paddle Up Pickleball Club
LOCATION:Court 4
CATEGORIES:QuickScores, Pickleball Game
TRANSP:OPAQUE
BEGIN:VALARM
TRIGGER:-PT2H
ACTION:DISPLAY
DESCRIPTION:BryanWilley/JadonWing vs. KylePingsterhaus/JackSchneider
END:VALARM
END:VEVENT
BEGIN:VEVENT
UID:pupc-72858665-20260131T184000@quickscores.com
DTSTAMP:20260423T164700Z
DTSTART;TZID=America/Chicago:20260131T184000
DURATION:PT0H20M0S
SUMMARY:KylePingsterhaus/JackSchneider vs. BrooksToth/JoshKind
DESCRIPTION:2026 Paddle Up Lou Fusz Winter Classic - Championship Division - 1/31 (5:30pm Start) - Paddle Up Pickleball Club
LOCATION:Court 2
CATEGORIES:QuickScores, Pickleball Game
TRANSP:OPAQUE
BEGIN:VALARM
TRIGGER:-PT2H
ACTION:DISPLAY
DESCRIPTION:KylePingsterhaus/JackSchneider vs. BrooksToth/JoshKind
END:VALARM
END:VEVENT
END:VCALENDAR
