BEGIN:VCALENDAR
VERSION:2.0
PRODID:-//QuickScores.com//BQ Dynamic iCal Creator//EN
METHOD:PUBLISH
X-WR-CALNAME:PaigeReque/KrissyDickey - 2026 Paddle Up Lou Fusz Winter Classic - Championship Division - 1/31 (5:30pm Start) - Completed Tournaments 2025-2026
X-WR-CALDESC:QuickScores game calendar
X-PUBLISHED-TTL:PT24H
REFRESH-INTERVAL;VALUE=DURATION:PT24H
CALSCALE:GREGORIAN
BEGIN:VTIMEZONE
TZID:America/Chicago
X-LIC-LOCATION:America/Chicago
BEGIN:DAYLIGHT
TZNAME:CDT
TZOFFSETFROM:-0600
TZOFFSETTO:-0500
DTSTART:19700308T020000
RRULE:FREQ=YEARLY;BYMONTH=3;BYDAY=2SU
END:DAYLIGHT
BEGIN:STANDARD
TZNAME:CST
TZOFFSETFROM:-0500
TZOFFSETTO:-0600
DTSTART:19701101T020000
RRULE:FREQ=YEARLY;BYMONTH=11;BYDAY=1SU
END:STANDARD
END:VTIMEZONE
BEGIN:VEVENT
UID:pupc-72858662-20260131T174000@quickscores.com
DTSTAMP:20260423T164300Z
DTSTART;TZID=America/Chicago:20260131T174000
DURATION:PT0H20M0S
SUMMARY:ShelbyNamen/DaniRoberts vs. PaigeReque/KrissyDickey
DESCRIPTION:2026 Paddle Up Lou Fusz Winter Classic - Championship Division - 1/31 (5:30pm Start) - Paddle Up Pickleball Club
LOCATION:Court 4
CATEGORIES:QuickScores, Pickleball Game
TRANSP:OPAQUE
BEGIN:VALARM
TRIGGER:-PT2H
ACTION:DISPLAY
DESCRIPTION:ShelbyNamen/DaniRoberts vs. PaigeReque/KrissyDickey
END:VALARM
END:VEVENT
BEGIN:VEVENT
UID:pupc-72858671-20260131T182000@quickscores.com
DTSTAMP:20260423T164300Z
DTSTART;TZID=America/Chicago:20260131T182000
DURATION:PT0H20M0S
SUMMARY:PaigeReque/KrissyDickey vs. JillClark/MonetFilteau
DESCRIPTION:2026 Paddle Up Lou Fusz Winter Classic - Championship Division - 1/31 (5:30pm Start) - Paddle Up Pickleball Club
LOCATION:Court 9
CATEGORIES:QuickScores, Pickleball Game
TRANSP:OPAQUE
BEGIN:VALARM
TRIGGER:-PT2H
ACTION:DISPLAY
DESCRIPTION:PaigeReque/KrissyDickey vs. JillClark/MonetFilteau
END:VALARM
END:VEVENT
BEGIN:VEVENT
UID:pupc-72858679-20260131T184000@quickscores.com
DTSTAMP:20260423T164300Z
DTSTART;TZID=America/Chicago:20260131T184000
DURATION:PT0H20M0S
SUMMARY:CarissaRoller/ValentinaEmiliani vs. PaigeReque/KrissyDickey
DESCRIPTION:2026 Paddle Up Lou Fusz Winter Classic - Championship Division - 1/31 (5:30pm Start) - Paddle Up Pickleball Club
LOCATION:Court 9
CATEGORIES:QuickScores, Pickleball Game
TRANSP:OPAQUE
BEGIN:VALARM
TRIGGER:-PT2H
ACTION:DISPLAY
DESCRIPTION:CarissaRoller/ValentinaEmiliani vs. PaigeReque/KrissyDickey
END:VALARM
END:VEVENT
BEGIN:VEVENT
UID:pupc-72893222-20260131T190000@quickscores.com
DTSTAMP:20260423T164300Z
DTSTART;TZID=America/Chicago:20260131T190000
DURATION:PT0H20M0S
SUMMARY:PaigeReque/KrissyDickey vs. MichelaRangel/AdelineFlach
DESCRIPTION:2026 Paddle Up Lou Fusz Winter Classic - Championship Division - 1/31 (5:30pm Start) - Paddle Up Pickleball Club
LOCATION:Court 2
CATEGORIES:QuickScores, Pickleball Game
TRANSP:OPAQUE
BEGIN:VALARM
TRIGGER:-PT2H
ACTION:DISPLAY
DESCRIPTION:PaigeReque/KrissyDickey vs. MichelaRangel/AdelineFlach
END:VALARM
END:VEVENT
END:VCALENDAR
