BEGIN:VCALENDAR
VERSION:2.0
PRODID:-//QuickScores.com//BQ Dynamic iCal Creator//EN
METHOD:PUBLISH
X-WR-CALNAME:Olsen/Griskauskas - Chst Wednesday Intermediate League - Winter 26 - Completed Leagues 2026
X-WR-CALDESC:QuickScores game calendar
X-PUBLISHED-TTL:PT24H
REFRESH-INTERVAL;VALUE=DURATION:PT24H
CALSCALE:GREGORIAN
BEGIN:VTIMEZONE
TZID:America/Chicago
X-LIC-LOCATION:America/Chicago
BEGIN:DAYLIGHT
TZNAME:CDT
TZOFFSETFROM:-0600
TZOFFSETTO:-0500
DTSTART:19700308T020000
RRULE:FREQ=YEARLY;BYMONTH=3;BYDAY=2SU
END:DAYLIGHT
BEGIN:STANDARD
TZNAME:CST
TZOFFSETFROM:-0500
TZOFFSETTO:-0600
DTSTART:19701101T020000
RRULE:FREQ=YEARLY;BYMONTH=11;BYDAY=1SU
END:STANDARD
END:VTIMEZONE
BEGIN:VEVENT
UID:pupc-72392759-20260107T200000@quickscores.com
DTSTAMP:20260423T090300Z
DTSTART;TZID=America/Chicago:20260107T200000
DURATION:PT0H40M0S
SUMMARY:Olsen/Griskauskas vs. Butz/Gray
DESCRIPTION:Chst Wednesday Intermediate League - Winter 26 - Paddle Up Pickleball Club
LOCATION:CHST Court 5
CATEGORIES:QuickScores, Pickleball Game
TRANSP:OPAQUE
BEGIN:VALARM
TRIGGER:-PT2H
ACTION:DISPLAY
DESCRIPTION:Olsen/Griskauskas vs. Butz/Gray
END:VALARM
END:VEVENT
BEGIN:VEVENT
UID:pupc-72362412-20260107T204000@quickscores.com
DTSTAMP:20260423T090300Z
DTSTART;TZID=America/Chicago:20260107T204000
DURATION:PT0H40M0S
SUMMARY:Olsen/Griskauskas vs. Fisher/Wilson
DESCRIPTION:Chst Wednesday Intermediate League - Winter 26 - Paddle Up Pickleball Club
LOCATION:CHST Court 2
CATEGORIES:QuickScores, Pickleball Game
TRANSP:OPAQUE
BEGIN:VALARM
TRIGGER:-PT2H
ACTION:DISPLAY
DESCRIPTION:Olsen/Griskauskas vs. Fisher/Wilson
END:VALARM
END:VEVENT
BEGIN:VEVENT
UID:pupc-72362421-20260114T200000@quickscores.com
DTSTAMP:20260423T090300Z
DTSTART;TZID=America/Chicago:20260114T200000
DURATION:PT0H40M0S
SUMMARY:Olsen/Griskauskas vs. Meier/Parmley
DESCRIPTION:Chst Wednesday Intermediate League - Winter 26 - Paddle Up Pickleball Club
LOCATION:CHST Court 4
CATEGORIES:QuickScores, Pickleball Game
TRANSP:OPAQUE
BEGIN:VALARM
TRIGGER:-PT2H
ACTION:DISPLAY
DESCRIPTION:Olsen/Griskauskas vs. Meier/Parmley
END:VALARM
END:VEVENT
BEGIN:VEVENT
UID:pupc-72362422-20260114T204000@quickscores.com
DTSTAMP:20260423T090300Z
DTSTART;TZID=America/Chicago:20260114T204000
DURATION:PT0H40M0S
SUMMARY:Olsen/Griskauskas vs. McCandless/Guthrie
DESCRIPTION:Chst Wednesday Intermediate League - Winter 26 - Paddle Up Pickleball Club
LOCATION:CHST Court 4
CATEGORIES:QuickScores, Pickleball Game
TRANSP:OPAQUE
BEGIN:VALARM
TRIGGER:-PT2H
ACTION:DISPLAY
DESCRIPTION:Olsen/Griskauskas vs. McCandless/Guthrie
END:VALARM
END:VEVENT
BEGIN:VEVENT
UID:pupc-72386165-20260121T184000@quickscores.com
DTSTAMP:20260423T090300Z
DTSTART;TZID=America/Chicago:20260121T184000
DURATION:PT0H40M0S
SUMMARY:Olsen/Griskauskas vs. Russell/Ploch
DESCRIPTION:Chst Wednesday Intermediate League - Winter 26 - Paddle Up Pickleball Club
LOCATION:CHST Court 5
CATEGORIES:QuickScores, Pickleball Game
TRANSP:OPAQUE
BEGIN:VALARM
TRIGGER:-PT2H
ACTION:DISPLAY
DESCRIPTION:Olsen/Griskauskas vs. Russell/Ploch
END:VALARM
END:VEVENT
BEGIN:VEVENT
UID:pupc-72362437-20260121T192000@quickscores.com
DTSTAMP:20260423T090300Z
DTSTART;TZID=America/Chicago:20260121T192000
DURATION:PT0H40M0S
SUMMARY:Robinson/Malloy vs. Olsen/Griskauskas
DESCRIPTION:Chst Wednesday Intermediate League - Winter 26 - Paddle Up Pickleball Club
LOCATION:CHST Court 3
CATEGORIES:QuickScores, Pickleball Game
TRANSP:OPAQUE
BEGIN:VALARM
TRIGGER:-PT2H
ACTION:DISPLAY
DESCRIPTION:Robinson/Malloy vs. Olsen/Griskauskas
END:VALARM
END:VEVENT
BEGIN:VEVENT
UID:pupc-72362440-20260128T184000@quickscores.com
DTSTAMP:20260423T090300Z
DTSTART;TZID=America/Chicago:20260128T184000
DURATION:PT0H40M0S
SUMMARY:Baker/Olsen vs. Olsen/Griskauskas
DESCRIPTION:Chst Wednesday Intermediate League - Winter 26 - Paddle Up Pickleball Club
LOCATION:CHST Court 4
CATEGORIES:QuickScores, Pickleball Game
TRANSP:OPAQUE
BEGIN:VALARM
TRIGGER:-PT2H
ACTION:DISPLAY
DESCRIPTION:Baker/Olsen vs. Olsen/Griskauskas
END:VALARM
END:VEVENT
BEGIN:VEVENT
UID:pupc-72362441-20260128T192000@quickscores.com
DTSTAMP:20260423T090300Z
DTSTART;TZID=America/Chicago:20260128T192000
DURATION:PT0H40M0S
SUMMARY:Olsen/Griskauskas vs. Langston/Luber
DESCRIPTION:Chst Wednesday Intermediate League - Winter 26 - Paddle Up Pickleball Club
LOCATION:CHST Court 4
CATEGORIES:QuickScores, Pickleball Game
TRANSP:OPAQUE
BEGIN:VALARM
TRIGGER:-PT2H
ACTION:DISPLAY
DESCRIPTION:Olsen/Griskauskas vs. Langston/Luber
END:VALARM
END:VEVENT
BEGIN:VEVENT
UID:pupc-72621763-20260204T184000@quickscores.com
DTSTAMP:20260423T090300Z
DTSTART;TZID=America/Chicago:20260204T184000
DURATION:PT0H40M0S
SUMMARY:Olsen/Griskauskas vs. Tooley/Balthozor
DESCRIPTION:Chst Wednesday Intermediate League - Winter 26 - Paddle Up Pickleball Club
LOCATION:CHST Court 3
CATEGORIES:QuickScores, Pickleball Game
TRANSP:OPAQUE
BEGIN:VALARM
TRIGGER:-PT2H
ACTION:DISPLAY
DESCRIPTION:Olsen/Griskauskas vs. Tooley/Balthozor
END:VALARM
END:VEVENT
BEGIN:VEVENT
UID:pupc-72386169-20260204T200000@quickscores.com
DTSTAMP:20260423T090300Z
DTSTART;TZID=America/Chicago:20260204T200000
DURATION:PT0H40M0S
SUMMARY:Olsen/Griskauskas vs. Keane/Keane
DESCRIPTION:Chst Wednesday Intermediate League - Winter 26 - Paddle Up Pickleball Club
LOCATION:CHST Court 6
CATEGORIES:QuickScores, Pickleball Game
TRANSP:OPAQUE
BEGIN:VALARM
TRIGGER:-PT2H
ACTION:DISPLAY
DESCRIPTION:Olsen/Griskauskas vs. Keane/Keane
END:VALARM
END:VEVENT
BEGIN:VEVENT
UID:pupc-72969245-20260211T180000@quickscores.com
DTSTAMP:20260423T090300Z
DTSTART;TZID=America/Chicago:20260211T180000
DURATION:PT0H30M0S
SUMMARY:Olsen/Griskauskas vs. Keane/Keane
DESCRIPTION:Chst Wednesday Intermediate League - Winter 26 - Paddle Up Pickleball Club
LOCATION:CHST Court 2
CATEGORIES:QuickScores, Pickleball Game
TRANSP:OPAQUE
BEGIN:VALARM
TRIGGER:-PT2H
ACTION:DISPLAY
DESCRIPTION:Olsen/Griskauskas vs. Keane/Keane
END:VALARM
END:VEVENT
BEGIN:VEVENT
UID:pupc-72969252-20260211T190000@quickscores.com
DTSTAMP:20260423T090300Z
DTSTART;TZID=America/Chicago:20260211T190000
DURATION:PT0H30M0S
SUMMARY:Lohkamp/Smallwood vs. Olsen/Griskauskas
DESCRIPTION:Chst Wednesday Intermediate League - Winter 26 - Paddle Up Pickleball Club
LOCATION:CHST Court 6
CATEGORIES:QuickScores, Pickleball Game
TRANSP:OPAQUE
BEGIN:VALARM
TRIGGER:-PT2H
ACTION:DISPLAY
DESCRIPTION:Lohkamp/Smallwood vs. Olsen/Griskauskas
END:VALARM
END:VEVENT
END:VCALENDAR
