BEGIN:VCALENDAR
VERSION:2.0
PRODID:-//QuickScores.com//BQ Dynamic iCal Creator//EN
METHOD:PUBLISH
X-WR-CALNAME:Russell/Ploch - Chst Wednesday Intermediate League - Winter 26 - Completed Leagues 2026
X-WR-CALDESC:QuickScores game calendar
X-PUBLISHED-TTL:PT24H
REFRESH-INTERVAL;VALUE=DURATION:PT24H
CALSCALE:GREGORIAN
BEGIN:VTIMEZONE
TZID:America/Chicago
X-LIC-LOCATION:America/Chicago
BEGIN:DAYLIGHT
TZNAME:CDT
TZOFFSETFROM:-0600
TZOFFSETTO:-0500
DTSTART:19700308T020000
RRULE:FREQ=YEARLY;BYMONTH=3;BYDAY=2SU
END:DAYLIGHT
BEGIN:STANDARD
TZNAME:CST
TZOFFSETFROM:-0500
TZOFFSETTO:-0600
DTSTART:19701101T020000
RRULE:FREQ=YEARLY;BYMONTH=11;BYDAY=1SU
END:STANDARD
END:VTIMEZONE
BEGIN:VEVENT
UID:pupc-72366672-20260107T184000@quickscores.com
DTSTAMP:20260423T103600Z
DTSTART;TZID=America/Chicago:20260107T184000
DURATION:PT0H40M0S
SUMMARY:Russell/Ploch vs. Davis/Klumb
DESCRIPTION:Chst Wednesday Intermediate League - Winter 26 - Paddle Up Pickleball Club
LOCATION:CHST Court 5
CATEGORIES:QuickScores, Pickleball Game
TRANSP:OPAQUE
BEGIN:VALARM
TRIGGER:-PT2H
ACTION:DISPLAY
DESCRIPTION:Russell/Ploch vs. Davis/Klumb
END:VALARM
END:VEVENT
BEGIN:VEVENT
UID:pupc-72380966-20260107T192000@quickscores.com
DTSTAMP:20260423T103600Z
DTSTART;TZID=America/Chicago:20260107T192000
DURATION:PT0H40M0S
SUMMARY:Russell/Ploch vs. Ikeda/Clever
DESCRIPTION:Chst Wednesday Intermediate League - Winter 26 - Paddle Up Pickleball Club
LOCATION:CHST Court 5
CATEGORIES:QuickScores, Pickleball Game
TRANSP:OPAQUE
BEGIN:VALARM
TRIGGER:-PT2H
ACTION:DISPLAY
DESCRIPTION:Russell/Ploch vs. Ikeda/Clever
END:VALARM
END:VEVENT
BEGIN:VEVENT
UID:pupc-72392760-20260114T180000@quickscores.com
DTSTAMP:20260423T103600Z
DTSTART;TZID=America/Chicago:20260114T180000
DURATION:PT0H40M0S
SUMMARY:Russell/Ploch vs. Tooley/Balthozor
DESCRIPTION:Chst Wednesday Intermediate League - Winter 26 - Paddle Up Pickleball Club
LOCATION:CHST Court 5
CATEGORIES:QuickScores, Pickleball Game
TRANSP:OPAQUE
BEGIN:VALARM
TRIGGER:-PT2H
ACTION:DISPLAY
DESCRIPTION:Russell/Ploch vs. Tooley/Balthozor
END:VALARM
END:VEVENT
BEGIN:VEVENT
UID:pupc-72362419-20260114T184000@quickscores.com
DTSTAMP:20260423T103600Z
DTSTART;TZID=America/Chicago:20260114T184000
DURATION:PT0H40M0S
SUMMARY:Russell/Ploch vs. Havrilka/Havrilka
DESCRIPTION:Chst Wednesday Intermediate League - Winter 26 - Paddle Up Pickleball Club
LOCATION:CHST Court 4
CATEGORIES:QuickScores, Pickleball Game
TRANSP:OPAQUE
BEGIN:VALARM
TRIGGER:-PT2H
ACTION:DISPLAY
DESCRIPTION:Russell/Ploch vs. Havrilka/Havrilka
END:VALARM
END:VEVENT
BEGIN:VEVENT
UID:pupc-72362438-20260121T180000@quickscores.com
DTSTAMP:20260423T103600Z
DTSTART;TZID=America/Chicago:20260121T180000
DURATION:PT0H40M0S
SUMMARY:Russell/Ploch vs. Lohkamp/Smallwood
DESCRIPTION:Chst Wednesday Intermediate League - Winter 26 - Paddle Up Pickleball Club
LOCATION:CHST Court 3
CATEGORIES:QuickScores, Pickleball Game
TRANSP:OPAQUE
BEGIN:VALARM
TRIGGER:-PT2H
ACTION:DISPLAY
DESCRIPTION:Russell/Ploch vs. Lohkamp/Smallwood
END:VALARM
END:VEVENT
BEGIN:VEVENT
UID:pupc-72386165-20260121T184000@quickscores.com
DTSTAMP:20260423T103600Z
DTSTART;TZID=America/Chicago:20260121T184000
DURATION:PT0H40M0S
SUMMARY:Olsen/Griskauskas vs. Russell/Ploch
DESCRIPTION:Chst Wednesday Intermediate League - Winter 26 - Paddle Up Pickleball Club
LOCATION:CHST Court 5
CATEGORIES:QuickScores, Pickleball Game
TRANSP:OPAQUE
BEGIN:VALARM
TRIGGER:-PT2H
ACTION:DISPLAY
DESCRIPTION:Olsen/Griskauskas vs. Russell/Ploch
END:VALARM
END:VEVENT
BEGIN:VEVENT
UID:pupc-72386166-20260128T180000@quickscores.com
DTSTAMP:20260423T103600Z
DTSTART;TZID=America/Chicago:20260128T180000
DURATION:PT0H40M0S
SUMMARY:Russell/Ploch vs. Butz/Gray
DESCRIPTION:Chst Wednesday Intermediate League - Winter 26 - Paddle Up Pickleball Club
LOCATION:CHST Court 2
CATEGORIES:QuickScores, Pickleball Game
TRANSP:OPAQUE
BEGIN:VALARM
TRIGGER:-PT2H
ACTION:DISPLAY
DESCRIPTION:Russell/Ploch vs. Butz/Gray
END:VALARM
END:VEVENT
BEGIN:VEVENT
UID:pupc-72386167-20260128T184000@quickscores.com
DTSTAMP:20260423T103600Z
DTSTART;TZID=America/Chicago:20260128T184000
DURATION:PT0H40M0S
SUMMARY:Havrilka/Havrilka vs. Russell/Ploch
DESCRIPTION:Chst Wednesday Intermediate League - Winter 26 - Paddle Up Pickleball Club
LOCATION:CHST Court 5
CATEGORIES:QuickScores, Pickleball Game
TRANSP:OPAQUE
BEGIN:VALARM
TRIGGER:-PT2H
ACTION:DISPLAY
DESCRIPTION:Havrilka/Havrilka vs. Russell/Ploch
END:VALARM
END:VEVENT
BEGIN:VEVENT
UID:pupc-72362458-20260204T180000@quickscores.com
DTSTAMP:20260423T103600Z
DTSTART;TZID=America/Chicago:20260204T180000
DURATION:PT0H40M0S
SUMMARY:Baker/Olsen vs. Russell/Ploch
DESCRIPTION:Chst Wednesday Intermediate League - Winter 26 - Paddle Up Pickleball Club
LOCATION:CHST Court 3
CATEGORIES:QuickScores, Pickleball Game
TRANSP:OPAQUE
BEGIN:VALARM
TRIGGER:-PT2H
ACTION:DISPLAY
DESCRIPTION:Baker/Olsen vs. Russell/Ploch
END:VALARM
END:VEVENT
BEGIN:VEVENT
UID:pupc-72362461-20260204T184000@quickscores.com
DTSTAMP:20260423T103600Z
DTSTART;TZID=America/Chicago:20260204T184000
DURATION:PT0H40M0S
SUMMARY:Russell/Ploch vs. Robinson/Malloy
DESCRIPTION:Chst Wednesday Intermediate League - Winter 26 - Paddle Up Pickleball Club
LOCATION:CHST Court 4
CATEGORIES:QuickScores, Pickleball Game
TRANSP:OPAQUE
BEGIN:VALARM
TRIGGER:-PT2H
ACTION:DISPLAY
DESCRIPTION:Russell/Ploch vs. Robinson/Malloy
END:VALARM
END:VEVENT
BEGIN:VEVENT
UID:pupc-72969249-20260211T183000@quickscores.com
DTSTAMP:20260423T103600Z
DTSTART;TZID=America/Chicago:20260211T183000
DURATION:PT0H30M0S
SUMMARY:Russell/Ploch vs. Meier/Parmley
DESCRIPTION:Chst Wednesday Intermediate League - Winter 26 - Paddle Up Pickleball Club
LOCATION:CHST Court 3
CATEGORIES:QuickScores, Pickleball Game
TRANSP:OPAQUE
BEGIN:VALARM
TRIGGER:-PT2H
ACTION:DISPLAY
DESCRIPTION:Russell/Ploch vs. Meier/Parmley
END:VALARM
END:VEVENT
END:VCALENDAR
