BEGIN:VCALENDAR
VERSION:2.0
PRODID:-//QuickScores.com//BQ Dynamic iCal Creator//EN
METHOD:PUBLISH
X-WR-CALNAME:Lind/Backes - Chst Thursday Intermediate League - Winter 26 - Completed Leagues 2026
X-WR-CALDESC:QuickScores game calendar
X-PUBLISHED-TTL:PT24H
REFRESH-INTERVAL;VALUE=DURATION:PT24H
CALSCALE:GREGORIAN
BEGIN:VTIMEZONE
TZID:America/Chicago
X-LIC-LOCATION:America/Chicago
BEGIN:DAYLIGHT
TZNAME:CDT
TZOFFSETFROM:-0600
TZOFFSETTO:-0500
DTSTART:19700308T020000
RRULE:FREQ=YEARLY;BYMONTH=3;BYDAY=2SU
END:DAYLIGHT
BEGIN:STANDARD
TZNAME:CST
TZOFFSETFROM:-0500
TZOFFSETTO:-0600
DTSTART:19701101T020000
RRULE:FREQ=YEARLY;BYMONTH=11;BYDAY=1SU
END:STANDARD
END:VTIMEZONE
BEGIN:VEVENT
UID:pupc-72380219-20260108T174000@quickscores.com
DTSTAMP:20260424T182400Z
DTSTART;TZID=America/Chicago:20260108T174000
DURATION:PT0H40M0S
SUMMARY:Leonard/Leonard vs. Lind/Backes
DESCRIPTION:Chst Thursday Intermediate League - Winter 26 - Paddle Up Pickleball Club
LOCATION:CHST Court 5
CATEGORIES:QuickScores, Pickleball Game
TRANSP:OPAQUE
BEGIN:VALARM
TRIGGER:-PT2H
ACTION:DISPLAY
DESCRIPTION:Leonard/Leonard vs. Lind/Backes
END:VALARM
END:VEVENT
BEGIN:VEVENT
UID:pupc-72380218-20260108T190000@quickscores.com
DTSTAMP:20260424T182400Z
DTSTART;TZID=America/Chicago:20260108T190000
DURATION:PT0H40M0S
SUMMARY:Williams/Smith vs. Lind/Backes
DESCRIPTION:Chst Thursday Intermediate League - Winter 26 - Paddle Up Pickleball Club
LOCATION:CHST Court 5
CATEGORIES:QuickScores, Pickleball Game
TRANSP:OPAQUE
BEGIN:VALARM
TRIGGER:-PT2H
ACTION:DISPLAY
DESCRIPTION:Williams/Smith vs. Lind/Backes
END:VALARM
END:VEVENT
BEGIN:VEVENT
UID:pupc-72380240-20260122T174000@quickscores.com
DTSTAMP:20260424T182400Z
DTSTART;TZID=America/Chicago:20260122T174000
DURATION:PT0H40M0S
SUMMARY:Lind/Backes vs. Leonard/Leonard
DESCRIPTION:Chst Thursday Intermediate League - Winter 26 - Paddle Up Pickleball Club
LOCATION:CHST Court 3
CATEGORIES:QuickScores, Pickleball Game
TRANSP:OPAQUE
BEGIN:VALARM
TRIGGER:-PT2H
ACTION:DISPLAY
DESCRIPTION:Lind/Backes vs. Leonard/Leonard
END:VALARM
END:VEVENT
BEGIN:VEVENT
UID:pupc-72380239-20260122T182000@quickscores.com
DTSTAMP:20260424T182400Z
DTSTART;TZID=America/Chicago:20260122T182000
DURATION:PT0H40M0S
SUMMARY:Lind/Backes vs. Williams/Smith
DESCRIPTION:Chst Thursday Intermediate League - Winter 26 - Paddle Up Pickleball Club
LOCATION:CHST Court 5
CATEGORIES:QuickScores, Pickleball Game
TRANSP:OPAQUE
BEGIN:VALARM
TRIGGER:-PT2H
ACTION:DISPLAY
DESCRIPTION:Lind/Backes vs. Williams/Smith
END:VALARM
END:VEVENT
BEGIN:VEVENT
UID:pupc-72380247-20260129T182000@quickscores.com
DTSTAMP:20260424T182400Z
DTSTART;TZID=America/Chicago:20260129T182000
DURATION:PT0H40M0S
SUMMARY:Lind/Backes vs. Weindel/Mersnick
DESCRIPTION:Chst Thursday Intermediate League - Winter 26 - Paddle Up Pickleball Club
LOCATION:CHST Court 3
CATEGORIES:QuickScores, Pickleball Game
TRANSP:OPAQUE
BEGIN:VALARM
TRIGGER:-PT2H
ACTION:DISPLAY
DESCRIPTION:Lind/Backes vs. Weindel/Mersnick
END:VALARM
END:VEVENT
BEGIN:VEVENT
UID:pupc-72380248-20260129T194000@quickscores.com
DTSTAMP:20260424T182400Z
DTSTART;TZID=America/Chicago:20260129T194000
DURATION:PT0H40M0S
SUMMARY:Donovan/Howell vs. Lind/Backes
DESCRIPTION:Chst Thursday Intermediate League - Winter 26 - Paddle Up Pickleball Club
LOCATION:CHST Court 3
CATEGORIES:QuickScores, Pickleball Game
TRANSP:OPAQUE
BEGIN:VALARM
TRIGGER:-PT2H
ACTION:DISPLAY
DESCRIPTION:Donovan/Howell vs. Lind/Backes
END:VALARM
END:VEVENT
BEGIN:VEVENT
UID:pupc-72380238-20260205T174000@quickscores.com
DTSTAMP:20260424T182400Z
DTSTART;TZID=America/Chicago:20260205T174000
DURATION:PT0H40M0S
SUMMARY:Lind/Backes vs. Reynolds/Reynolds
DESCRIPTION:Chst Thursday Intermediate League - Winter 26 - Paddle Up Pickleball Club
LOCATION:CHST Court 3
CATEGORIES:QuickScores, Pickleball Game
TRANSP:OPAQUE
BEGIN:VALARM
TRIGGER:-PT2H
ACTION:DISPLAY
DESCRIPTION:Lind/Backes vs. Reynolds/Reynolds
END:VALARM
END:VEVENT
BEGIN:VEVENT
UID:pupc-72380237-20260205T182000@quickscores.com
DTSTAMP:20260424T182400Z
DTSTART;TZID=America/Chicago:20260205T182000
DURATION:PT0H40M0S
SUMMARY:Lind/Backes vs. Weindel/Mersnick
DESCRIPTION:Chst Thursday Intermediate League - Winter 26 - Paddle Up Pickleball Club
LOCATION:CHST Court 5
CATEGORIES:QuickScores, Pickleball Game
TRANSP:OPAQUE
BEGIN:VALARM
TRIGGER:-PT2H
ACTION:DISPLAY
DESCRIPTION:Lind/Backes vs. Weindel/Mersnick
END:VALARM
END:VEVENT
BEGIN:VEVENT
UID:pupc-73010152-20260212T184000@quickscores.com
DTSTAMP:20260424T182400Z
DTSTART;TZID=America/Chicago:20260212T184000
DURATION:PT0H30M0S
SUMMARY:[2] Lind/Backes vs. Winner of Game 2
DESCRIPTION:Chst Thursday Intermediate League - Winter 26 - Paddle Up Pickleball Club
LOCATION:CHST Court 5
CATEGORIES:QuickScores, Pickleball Game
TRANSP:OPAQUE
BEGIN:VALARM
TRIGGER:-PT2H
ACTION:DISPLAY
DESCRIPTION:[2] Lind/Backes vs. Winner of Game 2
END:VALARM
END:VEVENT
END:VCALENDAR
