BEGIN:VCALENDAR
VERSION:2.0
PRODID:-//QuickScores.com//BQ Dynamic iCal Creator//EN
METHOD:PUBLISH
X-WR-CALNAME:Donovan/Howell - Chst Thursday Intermediate League - Winter 26 - Completed Leagues 2026
X-WR-CALDESC:QuickScores game calendar
X-PUBLISHED-TTL:PT24H
REFRESH-INTERVAL;VALUE=DURATION:PT24H
CALSCALE:GREGORIAN
BEGIN:VTIMEZONE
TZID:America/Chicago
X-LIC-LOCATION:America/Chicago
BEGIN:DAYLIGHT
TZNAME:CDT
TZOFFSETFROM:-0600
TZOFFSETTO:-0500
DTSTART:19700308T020000
RRULE:FREQ=YEARLY;BYMONTH=3;BYDAY=2SU
END:DAYLIGHT
BEGIN:STANDARD
TZNAME:CST
TZOFFSETFROM:-0500
TZOFFSETTO:-0600
DTSTART:19701101T020000
RRULE:FREQ=YEARLY;BYMONTH=11;BYDAY=1SU
END:STANDARD
END:VTIMEZONE
BEGIN:VEVENT
UID:pupc-72380222-20260108T182000@quickscores.com
DTSTAMP:20260424T004800Z
DTSTART;TZID=America/Chicago:20260108T182000
DURATION:PT0H40M0S
SUMMARY:Donovan/Howell vs. Weindel/Mersnick
DESCRIPTION:Chst Thursday Intermediate League - Winter 26 - Paddle Up Pickleball Club
LOCATION:CHST Court 3
CATEGORIES:QuickScores, Pickleball Game
TRANSP:OPAQUE
BEGIN:VALARM
TRIGGER:-PT2H
ACTION:DISPLAY
DESCRIPTION:Donovan/Howell vs. Weindel/Mersnick
END:VALARM
END:VEVENT
BEGIN:VEVENT
UID:pupc-72380223-20260108T190000@quickscores.com
DTSTAMP:20260424T004800Z
DTSTART;TZID=America/Chicago:20260108T190000
DURATION:PT0H40M0S
SUMMARY:Donovan/Howell vs. Reynolds/Reynolds
DESCRIPTION:Chst Thursday Intermediate League - Winter 26 - Paddle Up Pickleball Club
LOCATION:CHST Court 3
CATEGORIES:QuickScores, Pickleball Game
TRANSP:OPAQUE
BEGIN:VALARM
TRIGGER:-PT2H
ACTION:DISPLAY
DESCRIPTION:Donovan/Howell vs. Reynolds/Reynolds
END:VALARM
END:VEVENT
BEGIN:VEVENT
UID:pupc-72380227-20260115T182000@quickscores.com
DTSTAMP:20260424T004800Z
DTSTART;TZID=America/Chicago:20260115T182000
DURATION:PT0H40M0S
SUMMARY:Reynolds/Reynolds vs. Donovan/Howell
DESCRIPTION:Chst Thursday Intermediate League - Winter 26 - Paddle Up Pickleball Club
LOCATION:CHST Court 3
CATEGORIES:QuickScores, Pickleball Game
TRANSP:OPAQUE
BEGIN:VALARM
TRIGGER:-PT2H
ACTION:DISPLAY
DESCRIPTION:Reynolds/Reynolds vs. Donovan/Howell
END:VALARM
END:VEVENT
BEGIN:VEVENT
UID:pupc-72380228-20260115T190000@quickscores.com
DTSTAMP:20260424T004800Z
DTSTART;TZID=America/Chicago:20260115T190000
DURATION:PT0H40M0S
SUMMARY:Donovan/Howell vs. Leonard/Leonard
DESCRIPTION:Chst Thursday Intermediate League - Winter 26 - Paddle Up Pickleball Club
LOCATION:CHST Court 3
CATEGORIES:QuickScores, Pickleball Game
TRANSP:OPAQUE
BEGIN:VALARM
TRIGGER:-PT2H
ACTION:DISPLAY
DESCRIPTION:Donovan/Howell vs. Leonard/Leonard
END:VALARM
END:VEVENT
BEGIN:VEVENT
UID:pupc-72380244-20260122T190000@quickscores.com
DTSTAMP:20260424T004800Z
DTSTART;TZID=America/Chicago:20260122T190000
DURATION:PT0H40M0S
SUMMARY:Reynolds/Reynolds vs. Donovan/Howell
DESCRIPTION:Chst Thursday Intermediate League - Winter 26 - Paddle Up Pickleball Club
LOCATION:CHST Court 5
CATEGORIES:QuickScores, Pickleball Game
TRANSP:OPAQUE
BEGIN:VALARM
TRIGGER:-PT2H
ACTION:DISPLAY
DESCRIPTION:Reynolds/Reynolds vs. Donovan/Howell
END:VALARM
END:VEVENT
BEGIN:VEVENT
UID:pupc-72380243-20260122T194000@quickscores.com
DTSTAMP:20260424T004800Z
DTSTART;TZID=America/Chicago:20260122T194000
DURATION:PT0H40M0S
SUMMARY:Weindel/Mersnick vs. Donovan/Howell
DESCRIPTION:Chst Thursday Intermediate League - Winter 26 - Paddle Up Pickleball Club
LOCATION:CHST Court 3
CATEGORIES:QuickScores, Pickleball Game
TRANSP:OPAQUE
BEGIN:VALARM
TRIGGER:-PT2H
ACTION:DISPLAY
DESCRIPTION:Weindel/Mersnick vs. Donovan/Howell
END:VALARM
END:VEVENT
BEGIN:VEVENT
UID:pupc-72380249-20260129T190000@quickscores.com
DTSTAMP:20260424T004800Z
DTSTART;TZID=America/Chicago:20260129T190000
DURATION:PT0H40M0S
SUMMARY:Williams/Smith vs. Donovan/Howell
DESCRIPTION:Chst Thursday Intermediate League - Winter 26 - Paddle Up Pickleball Club
LOCATION:CHST Court 5
CATEGORIES:QuickScores, Pickleball Game
TRANSP:OPAQUE
BEGIN:VALARM
TRIGGER:-PT2H
ACTION:DISPLAY
DESCRIPTION:Williams/Smith vs. Donovan/Howell
END:VALARM
END:VEVENT
BEGIN:VEVENT
UID:pupc-72380248-20260129T194000@quickscores.com
DTSTAMP:20260424T004800Z
DTSTART;TZID=America/Chicago:20260129T194000
DURATION:PT0H40M0S
SUMMARY:Donovan/Howell vs. Lind/Backes
DESCRIPTION:Chst Thursday Intermediate League - Winter 26 - Paddle Up Pickleball Club
LOCATION:CHST Court 3
CATEGORIES:QuickScores, Pickleball Game
TRANSP:OPAQUE
BEGIN:VALARM
TRIGGER:-PT2H
ACTION:DISPLAY
DESCRIPTION:Donovan/Howell vs. Lind/Backes
END:VALARM
END:VEVENT
BEGIN:VEVENT
UID:pupc-72380236-20260205T182000@quickscores.com
DTSTAMP:20260424T004800Z
DTSTART;TZID=America/Chicago:20260205T182000
DURATION:PT0H40M0S
SUMMARY:Leonard/Leonard vs. Donovan/Howell
DESCRIPTION:Chst Thursday Intermediate League - Winter 26 - Paddle Up Pickleball Club
LOCATION:CHST Court 3
CATEGORIES:QuickScores, Pickleball Game
TRANSP:OPAQUE
BEGIN:VALARM
TRIGGER:-PT2H
ACTION:DISPLAY
DESCRIPTION:Leonard/Leonard vs. Donovan/Howell
END:VALARM
END:VEVENT
BEGIN:VEVENT
UID:pupc-72380233-20260205T190000@quickscores.com
DTSTAMP:20260424T004800Z
DTSTART;TZID=America/Chicago:20260205T190000
DURATION:PT0H40M0S
SUMMARY:Donovan/Howell vs. Williams/Smith
DESCRIPTION:Chst Thursday Intermediate League - Winter 26 - Paddle Up Pickleball Club
LOCATION:CHST Court 3
CATEGORIES:QuickScores, Pickleball Game
TRANSP:OPAQUE
BEGIN:VALARM
TRIGGER:-PT2H
ACTION:DISPLAY
DESCRIPTION:Donovan/Howell vs. Williams/Smith
END:VALARM
END:VEVENT
BEGIN:VEVENT
UID:pupc-73010151-20260212T184000@quickscores.com
DTSTAMP:20260424T004800Z
DTSTART;TZID=America/Chicago:20260212T184000
DURATION:PT0H40M0S
SUMMARY:[1] Donovan/Howell vs. Winner of Game 1
DESCRIPTION:Chst Thursday Intermediate League - Winter 26 - Paddle Up Pickleball Club
LOCATION:CHST Court 3
CATEGORIES:QuickScores, Pickleball Game
TRANSP:OPAQUE
BEGIN:VALARM
TRIGGER:-PT2H
ACTION:DISPLAY
DESCRIPTION:[1] Donovan/Howell vs. Winner of Game 1
END:VALARM
END:VEVENT
END:VCALENDAR
