BEGIN:VCALENDAR
VERSION:2.0
PRODID:-//QuickScores.com//BQ Dynamic iCal Creator//EN
METHOD:PUBLISH
X-WR-CALNAME:Wolf/Albietz - Lsl Wednesday Low Int Doubles Tm. Lg. - Winter 26 - Completed Leagues 2026
X-WR-CALDESC:QuickScores game calendar
X-PUBLISHED-TTL:PT24H
REFRESH-INTERVAL;VALUE=DURATION:PT24H
CALSCALE:GREGORIAN
BEGIN:VTIMEZONE
TZID:America/Chicago
X-LIC-LOCATION:America/Chicago
BEGIN:DAYLIGHT
TZNAME:CDT
TZOFFSETFROM:-0600
TZOFFSETTO:-0500
DTSTART:19700308T020000
RRULE:FREQ=YEARLY;BYMONTH=3;BYDAY=2SU
END:DAYLIGHT
BEGIN:STANDARD
TZNAME:CST
TZOFFSETFROM:-0500
TZOFFSETTO:-0600
DTSTART:19701101T020000
RRULE:FREQ=YEARLY;BYMONTH=11;BYDAY=1SU
END:STANDARD
END:VTIMEZONE
BEGIN:VEVENT
UID:pupc-72371109-20260107T180000@quickscores.com
DTSTAMP:20260423T055100Z
DTSTART;TZID=America/Chicago:20260107T180000
DURATION:PT0H40M0S
SUMMARY:Wolf/Albietz vs. Donovan/Snell
DESCRIPTION:Lsl Wednesday Low Int Doubles Tm. Lg. - Winter 26 - Paddle Up Pickleball Club
LOCATION:Court 6
CATEGORIES:QuickScores, Pickleball Game
TRANSP:OPAQUE
BEGIN:VALARM
TRIGGER:-PT2H
ACTION:DISPLAY
DESCRIPTION:Wolf/Albietz vs. Donovan/Snell
END:VALARM
END:VEVENT
BEGIN:VEVENT
UID:pupc-72371114-20260107T192000@quickscores.com
DTSTAMP:20260423T055100Z
DTSTART;TZID=America/Chicago:20260107T192000
DURATION:PT0H40M0S
SUMMARY:Wolf/Albietz vs. Buenger/Hamilton
DESCRIPTION:Lsl Wednesday Low Int Doubles Tm. Lg. - Winter 26 - Paddle Up Pickleball Club
LOCATION:Court 7
CATEGORIES:QuickScores, Pickleball Game
TRANSP:OPAQUE
BEGIN:VALARM
TRIGGER:-PT2H
ACTION:DISPLAY
DESCRIPTION:Wolf/Albietz vs. Buenger/Hamilton
END:VALARM
END:VEVENT
BEGIN:VEVENT
UID:pupc-72371120-20260114T200000@quickscores.com
DTSTAMP:20260423T055100Z
DTSTART;TZID=America/Chicago:20260114T200000
DURATION:PT0H40M0S
SUMMARY:Wolf/Albietz vs. Huff/Huff
DESCRIPTION:Lsl Wednesday Low Int Doubles Tm. Lg. - Winter 26 - Paddle Up Pickleball Club
LOCATION:Court 6
CATEGORIES:QuickScores, Pickleball Game
TRANSP:OPAQUE
BEGIN:VALARM
TRIGGER:-PT2H
ACTION:DISPLAY
DESCRIPTION:Wolf/Albietz vs. Huff/Huff
END:VALARM
END:VEVENT
BEGIN:VEVENT
UID:pupc-72371115-20260114T204000@quickscores.com
DTSTAMP:20260423T055100Z
DTSTART;TZID=America/Chicago:20260114T204000
DURATION:PT0H40M0S
SUMMARY:Wolf/Albietz vs. Hollander/Lee2
DESCRIPTION:Lsl Wednesday Low Int Doubles Tm. Lg. - Winter 26 - Paddle Up Pickleball Club
LOCATION:Court 6
CATEGORIES:QuickScores, Pickleball Game
TRANSP:OPAQUE
BEGIN:VALARM
TRIGGER:-PT2H
ACTION:DISPLAY
DESCRIPTION:Wolf/Albietz vs. Hollander/Lee2
END:VALARM
END:VEVENT
BEGIN:VEVENT
UID:pupc-72519735-20260121T180000@quickscores.com
DTSTAMP:20260423T055100Z
DTSTART;TZID=America/Chicago:20260121T180000
DURATION:PT0H40M0S
SUMMARY:Hollander/Lee2 vs. Wolf/Albietz
DESCRIPTION:Lsl Wednesday Low Int Doubles Tm. Lg. - Winter 26 - Paddle Up Pickleball Club
LOCATION:Court 8
CATEGORIES:QuickScores, Pickleball Game
TRANSP:OPAQUE
BEGIN:VALARM
TRIGGER:-PT2H
ACTION:DISPLAY
DESCRIPTION:Hollander/Lee2 vs. Wolf/Albietz
END:VALARM
END:VEVENT
BEGIN:VEVENT
UID:pupc-72371121-20260121T184000@quickscores.com
DTSTAMP:20260423T055100Z
DTSTART;TZID=America/Chicago:20260121T184000
DURATION:PT0H40M0S
SUMMARY:Donovan/Snell vs. Wolf/Albietz
DESCRIPTION:Lsl Wednesday Low Int Doubles Tm. Lg. - Winter 26 - Paddle Up Pickleball Club
LOCATION:Court 6
CATEGORIES:QuickScores, Pickleball Game
TRANSP:OPAQUE
BEGIN:VALARM
TRIGGER:-PT2H
ACTION:DISPLAY
DESCRIPTION:Donovan/Snell vs. Wolf/Albietz
END:VALARM
END:VEVENT
BEGIN:VEVENT
UID:pupc-72371130-20260128T192000@quickscores.com
DTSTAMP:20260423T055100Z
DTSTART;TZID=America/Chicago:20260128T192000
DURATION:PT0H40M0S
SUMMARY:Roppa/Roppa vs. Wolf/Albietz
DESCRIPTION:Lsl Wednesday Low Int Doubles Tm. Lg. - Winter 26 - Paddle Up Pickleball Club
LOCATION:Court 6
CATEGORIES:QuickScores, Pickleball Game
TRANSP:OPAQUE
BEGIN:VALARM
TRIGGER:-PT2H
ACTION:DISPLAY
DESCRIPTION:Roppa/Roppa vs. Wolf/Albietz
END:VALARM
END:VEVENT
BEGIN:VEVENT
UID:pupc-72371129-20260128T200000@quickscores.com
DTSTAMP:20260423T055100Z
DTSTART;TZID=America/Chicago:20260128T200000
DURATION:PT0H40M0S
SUMMARY:Buenger/Hamilton vs. Wolf/Albietz
DESCRIPTION:Lsl Wednesday Low Int Doubles Tm. Lg. - Winter 26 - Paddle Up Pickleball Club
LOCATION:Court 6
CATEGORIES:QuickScores, Pickleball Game
TRANSP:OPAQUE
BEGIN:VALARM
TRIGGER:-PT2H
ACTION:DISPLAY
DESCRIPTION:Buenger/Hamilton vs. Wolf/Albietz
END:VALARM
END:VEVENT
BEGIN:VEVENT
UID:pupc-72371136-20260204T200000@quickscores.com
DTSTAMP:20260423T055100Z
DTSTART;TZID=America/Chicago:20260204T200000
DURATION:PT0H40M0S
SUMMARY:Hull/Deatherage vs. Wolf/Albietz
DESCRIPTION:Lsl Wednesday Low Int Doubles Tm. Lg. - Winter 26 - Paddle Up Pickleball Club
LOCATION:Court 6
CATEGORIES:QuickScores, Pickleball Game
TRANSP:OPAQUE
BEGIN:VALARM
TRIGGER:-PT2H
ACTION:DISPLAY
DESCRIPTION:Hull/Deatherage vs. Wolf/Albietz
END:VALARM
END:VEVENT
BEGIN:VEVENT
UID:pupc-72371135-20260204T204000@quickscores.com
DTSTAMP:20260423T055100Z
DTSTART;TZID=America/Chicago:20260204T204000
DURATION:PT0H40M0S
SUMMARY:Huff/Huff vs. Wolf/Albietz
DESCRIPTION:Lsl Wednesday Low Int Doubles Tm. Lg. - Winter 26 - Paddle Up Pickleball Club
LOCATION:Court 6
CATEGORIES:QuickScores, Pickleball Game
TRANSP:OPAQUE
BEGIN:VALARM
TRIGGER:-PT2H
ACTION:DISPLAY
DESCRIPTION:Huff/Huff vs. Wolf/Albietz
END:VALARM
END:VEVENT
BEGIN:VEVENT
UID:pupc-72969492-20260211T180000@quickscores.com
DTSTAMP:20260423T055100Z
DTSTART;TZID=America/Chicago:20260211T180000
DURATION:PT0H30M0S
SUMMARY:[2] Hull/Deatherage vs. [7] Wolf/Albietz
DESCRIPTION:Lsl Wednesday Low Int Doubles Tm. Lg. - Winter 26 - Paddle Up Pickleball Club
LOCATION:Court 7
CATEGORIES:QuickScores, Pickleball Game
TRANSP:OPAQUE
BEGIN:VALARM
TRIGGER:-PT2H
ACTION:DISPLAY
DESCRIPTION:[2] Hull/Deatherage vs. [7] Wolf/Albietz
END:VALARM
END:VEVENT
END:VCALENDAR
