BEGIN:VCALENDAR
VERSION:2.0
PRODID:-//QuickScores.com//BQ Dynamic iCal Creator//EN
METHOD:PUBLISH
X-WR-CALNAME:Purdy/Carney - Lsl Thursday Night Low Int./rec League - Winter &#039;26 - Completed Leagues 2026
X-WR-CALDESC:QuickScores game calendar
X-PUBLISHED-TTL:PT24H
REFRESH-INTERVAL;VALUE=DURATION:PT24H
CALSCALE:GREGORIAN
BEGIN:VTIMEZONE
TZID:America/Chicago
X-LIC-LOCATION:America/Chicago
BEGIN:DAYLIGHT
TZNAME:CDT
TZOFFSETFROM:-0600
TZOFFSETTO:-0500
DTSTART:19700308T020000
RRULE:FREQ=YEARLY;BYMONTH=3;BYDAY=2SU
END:DAYLIGHT
BEGIN:STANDARD
TZNAME:CST
TZOFFSETFROM:-0500
TZOFFSETTO:-0600
DTSTART:19701101T020000
RRULE:FREQ=YEARLY;BYMONTH=11;BYDAY=1SU
END:STANDARD
END:VTIMEZONE
BEGIN:VEVENT
UID:pupc-72378785-20260108T174000@quickscores.com
DTSTAMP:20260422T171100Z
DTSTART;TZID=America/Chicago:20260108T174000
DURATION:PT0H40M0S
SUMMARY:Purdy/Carney vs. Beavers/DeBrower
DESCRIPTION:Lsl Thursday Night Low Int./rec League - Winter '26 - Paddle Up Pickleball Club
LOCATION:Court 5
CATEGORIES:QuickScores, Pickleball Game
TRANSP:OPAQUE
BEGIN:VALARM
TRIGGER:-PT2H
ACTION:DISPLAY
DESCRIPTION:Purdy/Carney vs. Beavers/DeBrower
END:VALARM
END:VEVENT
BEGIN:VEVENT
UID:pupc-72378784-20260108T182000@quickscores.com
DTSTAMP:20260422T171100Z
DTSTART;TZID=America/Chicago:20260108T182000
DURATION:PT0H40M0S
SUMMARY:Hornbach/Tillman vs. Purdy/Carney
DESCRIPTION:Lsl Thursday Night Low Int./rec League - Winter '26 - Paddle Up Pickleball Club
LOCATION:Court 5
CATEGORIES:QuickScores, Pickleball Game
TRANSP:OPAQUE
BEGIN:VALARM
TRIGGER:-PT2H
ACTION:DISPLAY
DESCRIPTION:Hornbach/Tillman vs. Purdy/Carney
END:VALARM
END:VEVENT
BEGIN:VEVENT
UID:pupc-72378789-20260115T182000@quickscores.com
DTSTAMP:20260422T171100Z
DTSTART;TZID=America/Chicago:20260115T182000
DURATION:PT0H40M0S
SUMMARY:Purdy/Carney vs. Lemery/Lemery
DESCRIPTION:Lsl Thursday Night Low Int./rec League - Winter '26 - Paddle Up Pickleball Club
LOCATION:Court 3
CATEGORIES:QuickScores, Pickleball Game
TRANSP:OPAQUE
BEGIN:VALARM
TRIGGER:-PT2H
ACTION:DISPLAY
DESCRIPTION:Purdy/Carney vs. Lemery/Lemery
END:VALARM
END:VEVENT
BEGIN:VEVENT
UID:pupc-72378794-20260115T190000@quickscores.com
DTSTAMP:20260422T171100Z
DTSTART;TZID=America/Chicago:20260115T190000
DURATION:PT0H40M0S
SUMMARY:Purdy/Carney vs. Ellebrecht/Brewer
DESCRIPTION:Lsl Thursday Night Low Int./rec League - Winter '26 - Paddle Up Pickleball Club
LOCATION:Court 4
CATEGORIES:QuickScores, Pickleball Game
TRANSP:OPAQUE
BEGIN:VALARM
TRIGGER:-PT2H
ACTION:DISPLAY
DESCRIPTION:Purdy/Carney vs. Ellebrecht/Brewer
END:VALARM
END:VEVENT
BEGIN:VEVENT
UID:pupc-72391689-20260122T174000@quickscores.com
DTSTAMP:20260422T171100Z
DTSTART;TZID=America/Chicago:20260122T174000
DURATION:PT0H40M0S
SUMMARY:Stuhlman/Stuhlman vs. Purdy/Carney
DESCRIPTION:Lsl Thursday Night Low Int./rec League - Winter '26 - Paddle Up Pickleball Club
LOCATION:Court 3
CATEGORIES:QuickScores, Pickleball Game
TRANSP:OPAQUE
BEGIN:VALARM
TRIGGER:-PT2H
ACTION:DISPLAY
DESCRIPTION:Stuhlman/Stuhlman vs. Purdy/Carney
END:VALARM
END:VEVENT
BEGIN:VEVENT
UID:pupc-72378809-20260122T182000@quickscores.com
DTSTAMP:20260422T171100Z
DTSTART;TZID=America/Chicago:20260122T182000
DURATION:PT0H40M0S
SUMMARY:Tegeler/Tegeler vs. Purdy/Carney
DESCRIPTION:Lsl Thursday Night Low Int./rec League - Winter '26 - Paddle Up Pickleball Club
LOCATION:Court 5
CATEGORIES:QuickScores, Pickleball Game
TRANSP:OPAQUE
BEGIN:VALARM
TRIGGER:-PT2H
ACTION:DISPLAY
DESCRIPTION:Tegeler/Tegeler vs. Purdy/Carney
END:VALARM
END:VEVENT
BEGIN:VEVENT
UID:pupc-72378811-20260129T174000@quickscores.com
DTSTAMP:20260422T171100Z
DTSTART;TZID=America/Chicago:20260129T174000
DURATION:PT0H40M0S
SUMMARY:Beavers/DeBrower vs. Purdy/Carney
DESCRIPTION:Lsl Thursday Night Low Int./rec League - Winter '26 - Paddle Up Pickleball Club
LOCATION:Court 5
CATEGORIES:QuickScores, Pickleball Game
TRANSP:OPAQUE
BEGIN:VALARM
TRIGGER:-PT2H
ACTION:DISPLAY
DESCRIPTION:Beavers/DeBrower vs. Purdy/Carney
END:VALARM
END:VEVENT
BEGIN:VEVENT
UID:pupc-72378812-20260129T190000@quickscores.com
DTSTAMP:20260422T171100Z
DTSTART;TZID=America/Chicago:20260129T190000
DURATION:PT0H40M0S
SUMMARY:Purdy/Carney vs. Nettler/Denny
DESCRIPTION:Lsl Thursday Night Low Int./rec League - Winter '26 - Paddle Up Pickleball Club
LOCATION:Court 5
CATEGORIES:QuickScores, Pickleball Game
TRANSP:OPAQUE
BEGIN:VALARM
TRIGGER:-PT2H
ACTION:DISPLAY
DESCRIPTION:Purdy/Carney vs. Nettler/Denny
END:VALARM
END:VEVENT
BEGIN:VEVENT
UID:pupc-72378828-20260205T182000@quickscores.com
DTSTAMP:20260422T171100Z
DTSTART;TZID=America/Chicago:20260205T182000
DURATION:PT0H40M0S
SUMMARY:Purdy/Carney vs. Kowalik/Rodriguez
DESCRIPTION:Lsl Thursday Night Low Int./rec League - Winter '26 - Paddle Up Pickleball Club
LOCATION:Court 4
CATEGORIES:QuickScores, Pickleball Game
TRANSP:OPAQUE
BEGIN:VALARM
TRIGGER:-PT2H
ACTION:DISPLAY
DESCRIPTION:Purdy/Carney vs. Kowalik/Rodriguez
END:VALARM
END:VEVENT
BEGIN:VEVENT
UID:pupc-72378823-20260205T190000@quickscores.com
DTSTAMP:20260422T171100Z
DTSTART;TZID=America/Chicago:20260205T190000
DURATION:PT0H40M0S
SUMMARY:Purdy/Carney vs. Hornbach/Tillman
DESCRIPTION:Lsl Thursday Night Low Int./rec League - Winter '26 - Paddle Up Pickleball Club
LOCATION:Court 3
CATEGORIES:QuickScores, Pickleball Game
TRANSP:OPAQUE
BEGIN:VALARM
TRIGGER:-PT2H
ACTION:DISPLAY
DESCRIPTION:Purdy/Carney vs. Hornbach/Tillman
END:VALARM
END:VEVENT
BEGIN:VEVENT
UID:pupc-73009605-20260212T180000@quickscores.com
DTSTAMP:20260422T171100Z
DTSTART;TZID=America/Chicago:20260212T180000
DURATION:PT0H30M0S
SUMMARY:[5] McElfresh/McElfresh vs. [12] Purdy/Carney
DESCRIPTION:Lsl Thursday Night Low Int./rec League - Winter '26 - Paddle Up Pickleball Club
LOCATION:Court 3
CATEGORIES:QuickScores, Pickleball Game
TRANSP:OPAQUE
BEGIN:VALARM
TRIGGER:-PT2H
ACTION:DISPLAY
DESCRIPTION:[5] McElfresh/McElfresh vs. [12] Purdy/Carney
END:VALARM
END:VEVENT
END:VCALENDAR
