BEGIN:VCALENDAR
VERSION:2.0
PRODID:-//QuickScores.com//BQ Dynamic iCal Creator//EN
METHOD:PUBLISH
X-WR-CALNAME:Moolsintong/Hillman - Chst Wednesday  Rec. League - Winter 26 - Completed Leagues 2026
X-WR-CALDESC:QuickScores game calendar
X-PUBLISHED-TTL:PT24H
REFRESH-INTERVAL;VALUE=DURATION:PT24H
CALSCALE:GREGORIAN
BEGIN:VTIMEZONE
TZID:America/Chicago
X-LIC-LOCATION:America/Chicago
BEGIN:DAYLIGHT
TZNAME:CDT
TZOFFSETFROM:-0600
TZOFFSETTO:-0500
DTSTART:19700308T020000
RRULE:FREQ=YEARLY;BYMONTH=3;BYDAY=2SU
END:DAYLIGHT
BEGIN:STANDARD
TZNAME:CST
TZOFFSETFROM:-0500
TZOFFSETTO:-0600
DTSTART:19701101T020000
RRULE:FREQ=YEARLY;BYMONTH=11;BYDAY=1SU
END:STANDARD
END:VTIMEZONE
BEGIN:VEVENT
UID:pupc-72362700-20260107T192000@quickscores.com
DTSTAMP:20260425T053700Z
DTSTART;TZID=America/Chicago:20260107T192000
DURATION:PT0H40M0S
SUMMARY:Moolsintong/Hillman vs. Macleod/Bommarito
DESCRIPTION:Chst Wednesday  Rec. League - Winter 26 - Paddle Up Pickleball Club
LOCATION:CHST Court 1
CATEGORIES:QuickScores, Pickleball Game
TRANSP:OPAQUE
BEGIN:VALARM
TRIGGER:-PT2H
ACTION:DISPLAY
DESCRIPTION:Moolsintong/Hillman vs. Macleod/Bommarito
END:VALARM
END:VEVENT
BEGIN:VEVENT
UID:pupc-72362701-20260107T200000@quickscores.com
DTSTAMP:20260425T053700Z
DTSTART;TZID=America/Chicago:20260107T200000
DURATION:PT0H40M0S
SUMMARY:Moolsintong/Hillman vs. Gordon/Gordon
DESCRIPTION:Chst Wednesday  Rec. League - Winter 26 - Paddle Up Pickleball Club
LOCATION:CHST Court 1
CATEGORIES:QuickScores, Pickleball Game
TRANSP:OPAQUE
BEGIN:VALARM
TRIGGER:-PT2H
ACTION:DISPLAY
DESCRIPTION:Moolsintong/Hillman vs. Gordon/Gordon
END:VALARM
END:VEVENT
BEGIN:VEVENT
UID:pupc-72362705-20260114T192000@quickscores.com
DTSTAMP:20260425T053700Z
DTSTART;TZID=America/Chicago:20260114T192000
DURATION:PT0H40M0S
SUMMARY:Settle/Ehrhardt vs. Moolsintong/Hillman
DESCRIPTION:Chst Wednesday  Rec. League - Winter 26 - Paddle Up Pickleball Club
LOCATION:CHST Court 1
CATEGORIES:QuickScores, Pickleball Game
TRANSP:OPAQUE
BEGIN:VALARM
TRIGGER:-PT2H
ACTION:DISPLAY
DESCRIPTION:Settle/Ehrhardt vs. Moolsintong/Hillman
END:VALARM
END:VEVENT
BEGIN:VEVENT
UID:pupc-72403197-20260114T200000@quickscores.com
DTSTAMP:20260425T053700Z
DTSTART;TZID=America/Chicago:20260114T200000
DURATION:PT0H40M0S
SUMMARY:Yuan/Yuan vs. Moolsintong/Hillman
DESCRIPTION:Chst Wednesday  Rec. League - Winter 26 - Paddle Up Pickleball Club
LOCATION:CHST Court 5
CATEGORIES:QuickScores, Pickleball Game
TRANSP:OPAQUE
BEGIN:VALARM
TRIGGER:-PT2H
ACTION:DISPLAY
DESCRIPTION:Yuan/Yuan vs. Moolsintong/Hillman
END:VALARM
END:VEVENT
BEGIN:VEVENT
UID:pupc-72362714-20260121T184000@quickscores.com
DTSTAMP:20260425T053700Z
DTSTART;TZID=America/Chicago:20260121T184000
DURATION:PT0H40M0S
SUMMARY:Krueger/Krueger vs. Moolsintong/Hillman
DESCRIPTION:Chst Wednesday  Rec. League - Winter 26 - Paddle Up Pickleball Club
LOCATION:CHST Court 1
CATEGORIES:QuickScores, Pickleball Game
TRANSP:OPAQUE
BEGIN:VALARM
TRIGGER:-PT2H
ACTION:DISPLAY
DESCRIPTION:Krueger/Krueger vs. Moolsintong/Hillman
END:VALARM
END:VEVENT
BEGIN:VEVENT
UID:pupc-72463407-20260121T192000@quickscores.com
DTSTAMP:20260425T053700Z
DTSTART;TZID=America/Chicago:20260121T192000
DURATION:PT0H40M0S
SUMMARY:Moolsintong/Hillman vs. Gordon/Gordon
DESCRIPTION:Chst Wednesday  Rec. League - Winter 26 - Paddle Up Pickleball Club
LOCATION:CHST Court 6
CATEGORIES:QuickScores, Pickleball Game
TRANSP:OPAQUE
BEGIN:VALARM
TRIGGER:-PT2H
ACTION:DISPLAY
DESCRIPTION:Moolsintong/Hillman vs. Gordon/Gordon
END:VALARM
END:VEVENT
BEGIN:VEVENT
UID:pupc-72362722-20260128T200000@quickscores.com
DTSTAMP:20260425T053700Z
DTSTART;TZID=America/Chicago:20260128T200000
DURATION:PT0H40M0S
SUMMARY:Spicknall/Hester vs. Moolsintong/Hillman
DESCRIPTION:Chst Wednesday  Rec. League - Winter 26 - Paddle Up Pickleball Club
LOCATION:CHST Court 2
CATEGORIES:QuickScores, Pickleball Game
TRANSP:OPAQUE
BEGIN:VALARM
TRIGGER:-PT2H
ACTION:DISPLAY
DESCRIPTION:Spicknall/Hester vs. Moolsintong/Hillman
END:VALARM
END:VEVENT
BEGIN:VEVENT
UID:pupc-72362721-20260128T204000@quickscores.com
DTSTAMP:20260425T053700Z
DTSTART;TZID=America/Chicago:20260128T204000
DURATION:PT0H40M0S
SUMMARY:Macleod/Bommarito vs. Moolsintong/Hillman
DESCRIPTION:Chst Wednesday  Rec. League - Winter 26 - Paddle Up Pickleball Club
LOCATION:CHST Court 5
CATEGORIES:QuickScores, Pickleball Game
TRANSP:OPAQUE
BEGIN:VALARM
TRIGGER:-PT2H
ACTION:DISPLAY
DESCRIPTION:Macleod/Bommarito vs. Moolsintong/Hillman
END:VALARM
END:VEVENT
BEGIN:VEVENT
UID:pupc-72403203-20260204T200000@quickscores.com
DTSTAMP:20260425T053700Z
DTSTART;TZID=America/Chicago:20260204T200000
DURATION:PT0H40M0S
SUMMARY:Moolsintong/Hillman vs. Roam/Johnson
DESCRIPTION:Chst Wednesday  Rec. League - Winter 26 - Paddle Up Pickleball Club
LOCATION:CHST Court 5
CATEGORIES:QuickScores, Pickleball Game
TRANSP:OPAQUE
BEGIN:VALARM
TRIGGER:-PT2H
ACTION:DISPLAY
DESCRIPTION:Moolsintong/Hillman vs. Roam/Johnson
END:VALARM
END:VEVENT
BEGIN:VEVENT
UID:pupc-72362726-20260204T204000@quickscores.com
DTSTAMP:20260425T053700Z
DTSTART;TZID=America/Chicago:20260204T204000
DURATION:PT0H40M0S
SUMMARY:Moolsintong/Hillman vs. Settle/Ehrhardt
DESCRIPTION:Chst Wednesday  Rec. League - Winter 26 - Paddle Up Pickleball Club
LOCATION:CHST Court 1
CATEGORIES:QuickScores, Pickleball Game
TRANSP:OPAQUE
BEGIN:VALARM
TRIGGER:-PT2H
ACTION:DISPLAY
DESCRIPTION:Moolsintong/Hillman vs. Settle/Ehrhardt
END:VALARM
END:VEVENT
BEGIN:VEVENT
UID:pupc-72969227-20260211T183000@quickscores.com
DTSTAMP:20260425T053700Z
DTSTART;TZID=America/Chicago:20260211T183000
DURATION:PT0H30M0S
SUMMARY:[8] Yuan/Yuan vs. [9] Moolsintong/Hillman
DESCRIPTION:Chst Wednesday  Rec. League - Winter 26 - Paddle Up Pickleball Club
LOCATION:CHST Court 1
CATEGORIES:QuickScores, Pickleball Game
TRANSP:OPAQUE
BEGIN:VALARM
TRIGGER:-PT2H
ACTION:DISPLAY
DESCRIPTION:[8] Yuan/Yuan vs. [9] Moolsintong/Hillman
END:VALARM
END:VEVENT
END:VCALENDAR
