BEGIN:VCALENDAR
VERSION:2.0
PRODID:-//QuickScores.com//BQ Dynamic iCal Creator//EN
METHOD:PUBLISH
X-WR-CALNAME:Baerveldt/Pratte - Chst Wednesday  Rec. League - Winter 26 - Completed Leagues 2026
X-WR-CALDESC:QuickScores game calendar
X-PUBLISHED-TTL:PT24H
REFRESH-INTERVAL;VALUE=DURATION:PT24H
CALSCALE:GREGORIAN
BEGIN:VTIMEZONE
TZID:America/Chicago
X-LIC-LOCATION:America/Chicago
BEGIN:DAYLIGHT
TZNAME:CDT
TZOFFSETFROM:-0600
TZOFFSETTO:-0500
DTSTART:19700308T020000
RRULE:FREQ=YEARLY;BYMONTH=3;BYDAY=2SU
END:DAYLIGHT
BEGIN:STANDARD
TZNAME:CST
TZOFFSETFROM:-0500
TZOFFSETTO:-0600
DTSTART:19701101T020000
RRULE:FREQ=YEARLY;BYMONTH=11;BYDAY=1SU
END:STANDARD
END:VTIMEZONE
BEGIN:VEVENT
UID:pupc-72362696-20260107T200000@quickscores.com
DTSTAMP:20260425T213300Z
DTSTART;TZID=America/Chicago:20260107T200000
DURATION:PT0H40M0S
SUMMARY:Baerveldt/Pratte vs. Richert/Bugalski
DESCRIPTION:Chst Wednesday  Rec. League - Winter 26 - Paddle Up Pickleball Club
LOCATION:CHST Court 2
CATEGORIES:QuickScores, Pickleball Game
TRANSP:OPAQUE
BEGIN:VALARM
TRIGGER:-PT2H
ACTION:DISPLAY
DESCRIPTION:Baerveldt/Pratte vs. Richert/Bugalski
END:VALARM
END:VEVENT
BEGIN:VEVENT
UID:pupc-72362702-20260107T204000@quickscores.com
DTSTAMP:20260425T213300Z
DTSTART;TZID=America/Chicago:20260107T204000
DURATION:PT0H40M0S
SUMMARY:Yuan/Yuan vs. Baerveldt/Pratte
DESCRIPTION:Chst Wednesday  Rec. League - Winter 26 - Paddle Up Pickleball Club
LOCATION:CHST Court 1
CATEGORIES:QuickScores, Pickleball Game
TRANSP:OPAQUE
BEGIN:VALARM
TRIGGER:-PT2H
ACTION:DISPLAY
DESCRIPTION:Yuan/Yuan vs. Baerveldt/Pratte
END:VALARM
END:VEVENT
BEGIN:VEVENT
UID:pupc-72362706-20260114T200000@quickscores.com
DTSTAMP:20260425T213300Z
DTSTART;TZID=America/Chicago:20260114T200000
DURATION:PT0H40M0S
SUMMARY:Baerveldt/Pratte vs. Roam/Johnson
DESCRIPTION:Chst Wednesday  Rec. League - Winter 26 - Paddle Up Pickleball Club
LOCATION:CHST Court 1
CATEGORIES:QuickScores, Pickleball Game
TRANSP:OPAQUE
BEGIN:VALARM
TRIGGER:-PT2H
ACTION:DISPLAY
DESCRIPTION:Baerveldt/Pratte vs. Roam/Johnson
END:VALARM
END:VEVENT
BEGIN:VEVENT
UID:pupc-72403198-20260114T204000@quickscores.com
DTSTAMP:20260425T213300Z
DTSTART;TZID=America/Chicago:20260114T204000
DURATION:PT0H40M0S
SUMMARY:Krueger/Krueger vs. Baerveldt/Pratte
DESCRIPTION:Chst Wednesday  Rec. League - Winter 26 - Paddle Up Pickleball Club
LOCATION:CHST Court 5
CATEGORIES:QuickScores, Pickleball Game
TRANSP:OPAQUE
BEGIN:VALARM
TRIGGER:-PT2H
ACTION:DISPLAY
DESCRIPTION:Krueger/Krueger vs. Baerveldt/Pratte
END:VALARM
END:VEVENT
BEGIN:VEVENT
UID:pupc-72362713-20260121T180000@quickscores.com
DTSTAMP:20260425T213300Z
DTSTART;TZID=America/Chicago:20260121T180000
DURATION:PT0H40M0S
SUMMARY:Gordon/Gordon vs. Baerveldt/Pratte
DESCRIPTION:Chst Wednesday  Rec. League - Winter 26 - Paddle Up Pickleball Club
LOCATION:CHST Court 1
CATEGORIES:QuickScores, Pickleball Game
TRANSP:OPAQUE
BEGIN:VALARM
TRIGGER:-PT2H
ACTION:DISPLAY
DESCRIPTION:Gordon/Gordon vs. Baerveldt/Pratte
END:VALARM
END:VEVENT
BEGIN:VEVENT
UID:pupc-72362712-20260121T184000@quickscores.com
DTSTAMP:20260425T213300Z
DTSTART;TZID=America/Chicago:20260121T184000
DURATION:PT0H40M0S
SUMMARY:Baerveldt/Pratte vs. Richert/Bugalski
DESCRIPTION:Chst Wednesday  Rec. League - Winter 26 - Paddle Up Pickleball Club
LOCATION:CHST Court 2
CATEGORIES:QuickScores, Pickleball Game
TRANSP:OPAQUE
BEGIN:VALARM
TRIGGER:-PT2H
ACTION:DISPLAY
DESCRIPTION:Baerveldt/Pratte vs. Richert/Bugalski
END:VALARM
END:VEVENT
BEGIN:VEVENT
UID:pupc-72362717-20260128T180000@quickscores.com
DTSTAMP:20260425T213300Z
DTSTART;TZID=America/Chicago:20260128T180000
DURATION:PT0H40M0S
SUMMARY:Settle/Ehrhardt vs. Baerveldt/Pratte
DESCRIPTION:Chst Wednesday  Rec. League - Winter 26 - Paddle Up Pickleball Club
LOCATION:CHST Court 1
CATEGORIES:QuickScores, Pickleball Game
TRANSP:OPAQUE
BEGIN:VALARM
TRIGGER:-PT2H
ACTION:DISPLAY
DESCRIPTION:Settle/Ehrhardt vs. Baerveldt/Pratte
END:VALARM
END:VEVENT
BEGIN:VEVENT
UID:pupc-72362723-20260128T184000@quickscores.com
DTSTAMP:20260425T213300Z
DTSTART;TZID=America/Chicago:20260128T184000
DURATION:PT0H40M0S
SUMMARY:Baerveldt/Pratte vs. Gordon/Gordon
DESCRIPTION:Chst Wednesday  Rec. League - Winter 26 - Paddle Up Pickleball Club
LOCATION:CHST Court 2
CATEGORIES:QuickScores, Pickleball Game
TRANSP:OPAQUE
BEGIN:VALARM
TRIGGER:-PT2H
ACTION:DISPLAY
DESCRIPTION:Baerveldt/Pratte vs. Gordon/Gordon
END:VALARM
END:VEVENT
BEGIN:VEVENT
UID:pupc-72362729-20260204T180000@quickscores.com
DTSTAMP:20260425T213300Z
DTSTART;TZID=America/Chicago:20260204T180000
DURATION:PT0H40M0S
SUMMARY:Spicknall/Hester vs. Baerveldt/Pratte
DESCRIPTION:Chst Wednesday  Rec. League - Winter 26 - Paddle Up Pickleball Club
LOCATION:CHST Court 1
CATEGORIES:QuickScores, Pickleball Game
TRANSP:OPAQUE
BEGIN:VALARM
TRIGGER:-PT2H
ACTION:DISPLAY
DESCRIPTION:Spicknall/Hester vs. Baerveldt/Pratte
END:VALARM
END:VEVENT
BEGIN:VEVENT
UID:pupc-72362728-20260204T184000@quickscores.com
DTSTAMP:20260425T213300Z
DTSTART;TZID=America/Chicago:20260204T184000
DURATION:PT0H40M0S
SUMMARY:Baerveldt/Pratte vs. Krueger/Krueger
DESCRIPTION:Chst Wednesday  Rec. League - Winter 26 - Paddle Up Pickleball Club
LOCATION:CHST Court 2
CATEGORIES:QuickScores, Pickleball Game
TRANSP:OPAQUE
BEGIN:VALARM
TRIGGER:-PT2H
ACTION:DISPLAY
DESCRIPTION:Baerveldt/Pratte vs. Krueger/Krueger
END:VALARM
END:VEVENT
BEGIN:VEVENT
UID:pupc-72969237-20260211T193000@quickscores.com
DTSTAMP:20260425T213300Z
DTSTART;TZID=America/Chicago:20260211T193000
DURATION:PT0H30M0S
SUMMARY:[3] Richert/Bugalski vs. [6] Baerveldt/Pratte
DESCRIPTION:Chst Wednesday  Rec. League - Winter 26 - Paddle Up Pickleball Club
LOCATION:CHST Court 2
CATEGORIES:QuickScores, Pickleball Game
TRANSP:OPAQUE
BEGIN:VALARM
TRIGGER:-PT2H
ACTION:DISPLAY
DESCRIPTION:[3] Richert/Bugalski vs. [6] Baerveldt/Pratte
END:VALARM
END:VEVENT
BEGIN:VEVENT
UID:pupc-72969239-20260211T200000@quickscores.com
DTSTAMP:20260425T213300Z
DTSTART;TZID=America/Chicago:20260211T200000
DURATION:PT0H30M0S
SUMMARY:[2] Roam/Johnson vs. [6] Baerveldt/Pratte
DESCRIPTION:Chst Wednesday  Rec. League - Winter 26 - Paddle Up Pickleball Club
LOCATION:CHST Court 2
CATEGORIES:QuickScores, Pickleball Game
TRANSP:OPAQUE
BEGIN:VALARM
TRIGGER:-PT2H
ACTION:DISPLAY
DESCRIPTION:[2] Roam/Johnson vs. [6] Baerveldt/Pratte
END:VALARM
END:VEVENT
BEGIN:VEVENT
UID:pupc-72969240-20260211T203000@quickscores.com
DTSTAMP:20260425T213300Z
DTSTART;TZID=America/Chicago:20260211T203000
DURATION:PT0H30M0S
SUMMARY:[4] Krueger/Krueger vs. [6] Baerveldt/Pratte
DESCRIPTION:Chst Wednesday  Rec. League - Winter 26 - Paddle Up Pickleball Club
LOCATION:CHST Court 1
CATEGORIES:QuickScores, Pickleball Game
TRANSP:OPAQUE
BEGIN:VALARM
TRIGGER:-PT2H
ACTION:DISPLAY
DESCRIPTION:[4] Krueger/Krueger vs. [6] Baerveldt/Pratte
END:VALARM
END:VEVENT
END:VCALENDAR
